BEGIN:VCALENDAR
VERSION:2.0
PRODID:-//St. Paul The Apostle Catholic Church - ECPv6.15.11//NONSGML v1.0//EN
CALSCALE:GREGORIAN
METHOD:PUBLISH
X-ORIGINAL-URL:https://stpaulbr.org
X-WR-CALDESC:Events for St. Paul The Apostle Catholic Church
REFRESH-INTERVAL;VALUE=DURATION:PT1H
X-Robots-Tag:noindex
X-PUBLISHED-TTL:PT1H
BEGIN:VTIMEZONE
TZID:America/Chicago
BEGIN:DAYLIGHT
TZOFFSETFROM:-0600
TZOFFSETTO:-0500
TZNAME:CDT
DTSTART:20210314T080000
END:DAYLIGHT
BEGIN:STANDARD
TZOFFSETFROM:-0500
TZOFFSETTO:-0600
TZNAME:CST
DTSTART:20211107T070000
END:STANDARD
BEGIN:DAYLIGHT
TZOFFSETFROM:-0600
TZOFFSETTO:-0500
TZNAME:CDT
DTSTART:20220313T080000
END:DAYLIGHT
BEGIN:STANDARD
TZOFFSETFROM:-0500
TZOFFSETTO:-0600
TZNAME:CST
DTSTART:20221106T070000
END:STANDARD
BEGIN:DAYLIGHT
TZOFFSETFROM:-0600
TZOFFSETTO:-0500
TZNAME:CDT
DTSTART:20230312T080000
END:DAYLIGHT
BEGIN:STANDARD
TZOFFSETFROM:-0500
TZOFFSETTO:-0600
TZNAME:CST
DTSTART:20231105T070000
END:STANDARD
END:VTIMEZONE
BEGIN:VEVENT
DTSTART;TZID=America/Chicago:20220821T103000
DTEND;TZID=America/Chicago:20220821T103000
DTSTAMP:20260424T035400
CREATED:20220728T170741Z
LAST-MODIFIED:20220728T170741Z
UID:29648-1661077800-1661077800@stpaulbr.org
SUMMARY:10:30 am Mass
DESCRIPTION:
URL:https://stpaulbr.org/event/1030-am-mass-73/
END:VEVENT
BEGIN:VEVENT
DTSTART;TZID=America/Chicago:20220821T073000
DTEND;TZID=America/Chicago:20220821T073000
DTSTAMP:20260424T035400
CREATED:20220728T170659Z
LAST-MODIFIED:20220728T170659Z
UID:29646-1661067000-1661067000@stpaulbr.org
SUMMARY:7:30 am Mass
DESCRIPTION:
URL:https://stpaulbr.org/event/730-am-mass-77/
END:VEVENT
BEGIN:VEVENT
DTSTART;TZID=America/Chicago:20220820T100000
DTEND;TZID=America/Chicago:20220820T100000
DTSTAMP:20260424T035400
CREATED:20220728T165834Z
LAST-MODIFIED:20220728T170151Z
UID:29632-1660989600-1660989600@stpaulbr.org
SUMMARY:10 am African American Mass at St. Joseph Cathedral
DESCRIPTION:
URL:https://stpaulbr.org/event/10-am-african-american-mass/
END:VEVENT
BEGIN:VEVENT
DTSTART;TZID=America/Chicago:20220818T080000
DTEND;TZID=America/Chicago:20220818T110000
DTSTAMP:20260424T035400
CREATED:20220728T165728Z
LAST-MODIFIED:20220728T165728Z
UID:29630-1660809600-1660820400@stpaulbr.org
SUMMARY:8 am SVDP Pantry
DESCRIPTION:
URL:https://stpaulbr.org/event/8-am-svdp-pantry-2/
END:VEVENT
BEGIN:VEVENT
DTSTART;TZID=America/Chicago:20220817T180000
DTEND;TZID=America/Chicago:20220817T180000
DTSTAMP:20260424T035400
CREATED:20220728T174827Z
LAST-MODIFIED:20220728T174827Z
UID:29708-1660759200-1660759200@stpaulbr.org
SUMMARY:6 pm Finance Council Meeting
DESCRIPTION:
URL:https://stpaulbr.org/event/6-pm-finance-council-meeting/
END:VEVENT
BEGIN:VEVENT
DTSTART;TZID=America/Chicago:20220816T080000
DTEND;TZID=America/Chicago:20220819T000000
DTSTAMP:20260424T035400
CREATED:20220728T171329Z
LAST-MODIFIED:20220728T171329Z
UID:29661-1660636800-1660867200@stpaulbr.org
SUMMARY:8 am Mass
DESCRIPTION:
URL:https://stpaulbr.org/event/8-am-mass-144/
END:VEVENT
BEGIN:VEVENT
DTSTART;TZID=America/Chicago:20220814T103000
DTEND;TZID=America/Chicago:20220814T103000
DTSTAMP:20260424T035400
CREATED:20220728T170630Z
LAST-MODIFIED:20220728T170630Z
UID:29644-1660473000-1660473000@stpaulbr.org
SUMMARY:10:30 am Mass
DESCRIPTION:
URL:https://stpaulbr.org/event/1030-am-mass-72/
END:VEVENT
BEGIN:VEVENT
DTSTART;TZID=America/Chicago:20220814T073000
DTEND;TZID=America/Chicago:20220814T073000
DTSTAMP:20260424T035400
CREATED:20220728T170600Z
LAST-MODIFIED:20220728T170600Z
UID:29642-1660462200-1660462200@stpaulbr.org
SUMMARY:7:30 am Mass
DESCRIPTION:
URL:https://stpaulbr.org/event/730-am-mass-76/
END:VEVENT
BEGIN:VEVENT
DTSTART;TZID=America/Chicago:20220809T080000
DTEND;TZID=America/Chicago:20220812T000000
DTSTAMP:20260424T035400
CREATED:20220728T171258Z
LAST-MODIFIED:20220728T171258Z
UID:29659-1660032000-1660262400@stpaulbr.org
SUMMARY:8 am Mass
DESCRIPTION:
URL:https://stpaulbr.org/event/8-am-mass-143/
END:VEVENT
BEGIN:VEVENT
DTSTART;VALUE=DATE:20220808
DTEND;VALUE=DATE:20220809
DTSTAMP:20260424T035400
CREATED:20220728T171047Z
LAST-MODIFIED:20220728T171047Z
UID:29655-1659916800-1660003199@stpaulbr.org
SUMMARY:First Day of School
DESCRIPTION:
URL:https://stpaulbr.org/event/first-day-of-school/
END:VEVENT
BEGIN:VEVENT
DTSTART;TZID=America/Chicago:20220807T103000
DTEND;TZID=America/Chicago:20220807T103000
DTSTAMP:20260424T035400
CREATED:20220728T170441Z
LAST-MODIFIED:20220728T174336Z
UID:29640-1659868200-1659868200@stpaulbr.org
SUMMARY:10:30 am Mass Women's Club Turn Out & Meeting
DESCRIPTION:
URL:https://stpaulbr.org/event/1030-am-mass-womens-club-turn-out-9/
END:VEVENT
BEGIN:VEVENT
DTSTART;TZID=America/Chicago:20220807T073000
DTEND;TZID=America/Chicago:20220807T073000
DTSTAMP:20260424T035400
CREATED:20220728T170340Z
LAST-MODIFIED:20220728T170340Z
UID:29637-1659857400-1659857400@stpaulbr.org
SUMMARY:7:30 am Mass
DESCRIPTION:
URL:https://stpaulbr.org/event/730-am-mass-75/
END:VEVENT
BEGIN:VEVENT
DTSTART;TZID=America/Chicago:20220804T080000
DTEND;TZID=America/Chicago:20220804T110000
DTSTAMP:20260424T035400
CREATED:20220728T165521Z
LAST-MODIFIED:20220728T165521Z
UID:29628-1659600000-1659610800@stpaulbr.org
SUMMARY:8 am SVDP Pantry
DESCRIPTION:
URL:https://stpaulbr.org/event/8-am-svdp-pantry/
END:VEVENT
BEGIN:VEVENT
DTSTART;TZID=America/Chicago:20220802T080000
DTEND;TZID=America/Chicago:20220805T000000
DTSTAMP:20260424T035400
CREATED:20220728T171220Z
LAST-MODIFIED:20220728T171220Z
UID:29657-1659427200-1659657600@stpaulbr.org
SUMMARY:8 am Mass
DESCRIPTION:
URL:https://stpaulbr.org/event/8-am-mass-142/
END:VEVENT
BEGIN:VEVENT
DTSTART;TZID=America/Chicago:20220728T103000
DTEND;TZID=America/Chicago:20220728T103000
DTSTAMP:20260424T035400
CREATED:20220728T170910Z
LAST-MODIFIED:20220728T170910Z
UID:29652-1659004200-1659004200@stpaulbr.org
SUMMARY:10:30 am Mass
DESCRIPTION:
URL:https://stpaulbr.org/event/1030-am-mass-74/
END:VEVENT
BEGIN:VEVENT
DTSTART;VALUE=DATE:20220728
DTEND;VALUE=DATE:20220729
DTSTAMP:20260424T035400
CREATED:20220728T172014Z
LAST-MODIFIED:20220728T172014Z
UID:29672-1658966400-1659052799@stpaulbr.org
SUMMARY:Labor Day   Office Closed
DESCRIPTION:
URL:https://stpaulbr.org/event/labor-day-office-closed-2/
END:VEVENT
BEGIN:VEVENT
DTSTART;TZID=America/Chicago:20220401T180000
DTEND;TZID=America/Chicago:20220401T180000
DTSTAMP:20260424T035400
CREATED:20220202T165916Z
LAST-MODIFIED:20220202T165916Z
UID:29535-1648836000-1648836000@stpaulbr.org
SUMMARY:6:00 pm Stations of the Cross
DESCRIPTION: 
URL:https://stpaulbr.org/event/600-pm-stations-of-the-cross-4/
END:VEVENT
BEGIN:VEVENT
DTSTART;TZID=America/Chicago:20220329T180000
DTEND;TZID=America/Chicago:20220329T180000
DTSTAMP:20260424T035400
CREATED:20220202T165828Z
LAST-MODIFIED:20220202T165828Z
UID:29533-1648576800-1648576800@stpaulbr.org
SUMMARY:6:00 pm Lectors & Eucharistic Ministers Meeting
DESCRIPTION: 
URL:https://stpaulbr.org/event/600-pm-lectors-eucharistic-ministers-meeting/
END:VEVENT
BEGIN:VEVENT
DTSTART;TZID=America/Chicago:20220329T080000
DTEND;TZID=America/Chicago:20220401T000000
DTSTAMP:20260424T035400
CREATED:20220202T165744Z
LAST-MODIFIED:20220202T165744Z
UID:29531-1648540800-1648771200@stpaulbr.org
SUMMARY:8:00 am Mass
DESCRIPTION: 
URL:https://stpaulbr.org/event/800-am-mass-13/
END:VEVENT
BEGIN:VEVENT
DTSTART;TZID=America/Chicago:20220327T103000
DTEND;TZID=America/Chicago:20220327T103000
DTSTAMP:20260424T035400
CREATED:20220202T165655Z
LAST-MODIFIED:20220202T165655Z
UID:29529-1648377000-1648377000@stpaulbr.org
SUMMARY:10:30 am Mass
DESCRIPTION: 
URL:https://stpaulbr.org/event/1030-am-mass-71/
END:VEVENT
BEGIN:VEVENT
DTSTART;TZID=America/Chicago:20220327T090000
DTEND;TZID=America/Chicago:20220327T090000
DTSTAMP:20260424T035400
CREATED:20220202T165626Z
LAST-MODIFIED:20220202T165626Z
UID:29527-1648371600-1648371600@stpaulbr.org
SUMMARY:9:00 am Religious Ed
DESCRIPTION: 
URL:https://stpaulbr.org/event/900-am-religious-ed-6/
END:VEVENT
BEGIN:VEVENT
DTSTART;TZID=America/Chicago:20220327T073000
DTEND;TZID=America/Chicago:20220327T073000
DTSTAMP:20260424T035400
CREATED:20220202T165548Z
LAST-MODIFIED:20220202T165548Z
UID:29525-1648366200-1648366200@stpaulbr.org
SUMMARY:7:30 am Mass
DESCRIPTION: 
URL:https://stpaulbr.org/event/730-am-mass-74/
END:VEVENT
BEGIN:VEVENT
DTSTART;TZID=America/Chicago:20220325T180000
DTEND;TZID=America/Chicago:20220325T180000
DTSTAMP:20260424T035400
CREATED:20220202T165506Z
LAST-MODIFIED:20220202T165506Z
UID:29523-1648231200-1648231200@stpaulbr.org
SUMMARY:6:00 pm Stations of the Cross
DESCRIPTION: 
URL:https://stpaulbr.org/event/600-pm-stations-of-the-cross-3/
END:VEVENT
BEGIN:VEVENT
DTSTART;TZID=America/Chicago:20220323T180000
DTEND;TZID=America/Chicago:20220323T180000
DTSTAMP:20260424T035400
CREATED:20220202T165433Z
LAST-MODIFIED:20220202T165433Z
UID:29521-1648058400-1648058400@stpaulbr.org
SUMMARY:6:00 pm Reconciliation
DESCRIPTION: 
URL:https://stpaulbr.org/event/600-pm-reconciliation/
END:VEVENT
BEGIN:VEVENT
DTSTART;TZID=America/Chicago:20220322T080000
DTEND;TZID=America/Chicago:20220325T000000
DTSTAMP:20260424T035400
CREATED:20220202T165352Z
LAST-MODIFIED:20220202T165352Z
UID:29519-1647936000-1648166400@stpaulbr.org
SUMMARY:8:00 am Mass
DESCRIPTION: 
URL:https://stpaulbr.org/event/800-am-mass-12/
END:VEVENT
BEGIN:VEVENT
DTSTART;TZID=America/Chicago:20220320T103000
DTEND;TZID=America/Chicago:20220320T103000
DTSTAMP:20260424T035400
CREATED:20220202T165311Z
LAST-MODIFIED:20220202T165311Z
UID:29517-1647772200-1647772200@stpaulbr.org
SUMMARY:10:30 am Mass
DESCRIPTION: 
URL:https://stpaulbr.org/event/1030-am-mass-70/
END:VEVENT
BEGIN:VEVENT
DTSTART;TZID=America/Chicago:20220320T090000
DTEND;TZID=America/Chicago:20220320T090000
DTSTAMP:20260424T035400
CREATED:20220202T165243Z
LAST-MODIFIED:20220202T165243Z
UID:29515-1647766800-1647766800@stpaulbr.org
SUMMARY:9:00 am Religious Ed
DESCRIPTION: 
URL:https://stpaulbr.org/event/900-am-religious-ed-5/
END:VEVENT
BEGIN:VEVENT
DTSTART;TZID=America/Chicago:20220320T073000
DTEND;TZID=America/Chicago:20220320T073000
DTSTAMP:20260424T035400
CREATED:20220202T165216Z
LAST-MODIFIED:20220202T165216Z
UID:29513-1647761400-1647761400@stpaulbr.org
SUMMARY:7:30 am Mass
DESCRIPTION: 
URL:https://stpaulbr.org/event/730-am-mass-73/
END:VEVENT
BEGIN:VEVENT
DTSTART;TZID=America/Chicago:20220318T180000
DTEND;TZID=America/Chicago:20220318T180000
DTSTAMP:20260424T035400
CREATED:20220202T163400Z
LAST-MODIFIED:20220202T163400Z
UID:29501-1647626400-1647626400@stpaulbr.org
SUMMARY:6:00 pm Stations of the Cross
DESCRIPTION: 
URL:https://stpaulbr.org/event/600-pm-stations-of-the-cross-2/
END:VEVENT
BEGIN:VEVENT
DTSTART;TZID=America/Chicago:20220317T080000
DTEND;TZID=America/Chicago:20220317T080000
DTSTAMP:20260424T035400
CREATED:20220202T163312Z
LAST-MODIFIED:20220202T163312Z
UID:29499-1647504000-1647504000@stpaulbr.org
SUMMARY:8:00 am Food Pantry
DESCRIPTION: 
URL:https://stpaulbr.org/event/800-am-food-pantry-10/
END:VEVENT
END:VCALENDAR