BEGIN:VCALENDAR
VERSION:2.0
PRODID:-//St. Paul The Apostle Catholic Church - ECPv6.15.11//NONSGML v1.0//EN
CALSCALE:GREGORIAN
METHOD:PUBLISH
X-WR-CALNAME:St. Paul The Apostle Catholic Church
X-ORIGINAL-URL:https://stpaulbr.org
X-WR-CALDESC:Events for St. Paul The Apostle Catholic Church
REFRESH-INTERVAL;VALUE=DURATION:PT1H
X-Robots-Tag:noindex
X-PUBLISHED-TTL:PT1H
BEGIN:VTIMEZONE
TZID:America/Chicago
BEGIN:DAYLIGHT
TZOFFSETFROM:-0600
TZOFFSETTO:-0500
TZNAME:CDT
DTSTART:20210314T080000
END:DAYLIGHT
BEGIN:STANDARD
TZOFFSETFROM:-0500
TZOFFSETTO:-0600
TZNAME:CST
DTSTART:20211107T070000
END:STANDARD
BEGIN:DAYLIGHT
TZOFFSETFROM:-0600
TZOFFSETTO:-0500
TZNAME:CDT
DTSTART:20220313T080000
END:DAYLIGHT
BEGIN:STANDARD
TZOFFSETFROM:-0500
TZOFFSETTO:-0600
TZNAME:CST
DTSTART:20221106T070000
END:STANDARD
BEGIN:DAYLIGHT
TZOFFSETFROM:-0600
TZOFFSETTO:-0500
TZNAME:CDT
DTSTART:20230312T080000
END:DAYLIGHT
BEGIN:STANDARD
TZOFFSETFROM:-0500
TZOFFSETTO:-0600
TZNAME:CST
DTSTART:20231105T070000
END:STANDARD
END:VTIMEZONE
BEGIN:VEVENT
DTSTART;TZID=America/Chicago:20220327T090000
DTEND;TZID=America/Chicago:20220327T090000
DTSTAMP:20260424T064546
CREATED:20220202T165626Z
LAST-MODIFIED:20220202T165626Z
UID:29527-1648371600-1648371600@stpaulbr.org
SUMMARY:9:00 am Religious Ed
DESCRIPTION: 
URL:https://stpaulbr.org/event/900-am-religious-ed-6/
END:VEVENT
BEGIN:VEVENT
DTSTART;TZID=America/Chicago:20220327T073000
DTEND;TZID=America/Chicago:20220327T073000
DTSTAMP:20260424T064546
CREATED:20220202T165548Z
LAST-MODIFIED:20220202T165548Z
UID:29525-1648366200-1648366200@stpaulbr.org
SUMMARY:7:30 am Mass
DESCRIPTION: 
URL:https://stpaulbr.org/event/730-am-mass-74/
END:VEVENT
BEGIN:VEVENT
DTSTART;TZID=America/Chicago:20220325T180000
DTEND;TZID=America/Chicago:20220325T180000
DTSTAMP:20260424T064546
CREATED:20220202T165506Z
LAST-MODIFIED:20220202T165506Z
UID:29523-1648231200-1648231200@stpaulbr.org
SUMMARY:6:00 pm Stations of the Cross
DESCRIPTION: 
URL:https://stpaulbr.org/event/600-pm-stations-of-the-cross-3/
END:VEVENT
BEGIN:VEVENT
DTSTART;TZID=America/Chicago:20220323T180000
DTEND;TZID=America/Chicago:20220323T180000
DTSTAMP:20260424T064546
CREATED:20220202T165433Z
LAST-MODIFIED:20220202T165433Z
UID:29521-1648058400-1648058400@stpaulbr.org
SUMMARY:6:00 pm Reconciliation
DESCRIPTION: 
URL:https://stpaulbr.org/event/600-pm-reconciliation/
END:VEVENT
BEGIN:VEVENT
DTSTART;TZID=America/Chicago:20220322T080000
DTEND;TZID=America/Chicago:20220325T000000
DTSTAMP:20260424T064546
CREATED:20220202T165352Z
LAST-MODIFIED:20220202T165352Z
UID:29519-1647936000-1648166400@stpaulbr.org
SUMMARY:8:00 am Mass
DESCRIPTION: 
URL:https://stpaulbr.org/event/800-am-mass-12/
END:VEVENT
BEGIN:VEVENT
DTSTART;TZID=America/Chicago:20220320T103000
DTEND;TZID=America/Chicago:20220320T103000
DTSTAMP:20260424T064546
CREATED:20220202T165311Z
LAST-MODIFIED:20220202T165311Z
UID:29517-1647772200-1647772200@stpaulbr.org
SUMMARY:10:30 am Mass
DESCRIPTION: 
URL:https://stpaulbr.org/event/1030-am-mass-70/
END:VEVENT
BEGIN:VEVENT
DTSTART;TZID=America/Chicago:20220320T090000
DTEND;TZID=America/Chicago:20220320T090000
DTSTAMP:20260424T064546
CREATED:20220202T165243Z
LAST-MODIFIED:20220202T165243Z
UID:29515-1647766800-1647766800@stpaulbr.org
SUMMARY:9:00 am Religious Ed
DESCRIPTION: 
URL:https://stpaulbr.org/event/900-am-religious-ed-5/
END:VEVENT
BEGIN:VEVENT
DTSTART;TZID=America/Chicago:20220320T073000
DTEND;TZID=America/Chicago:20220320T073000
DTSTAMP:20260424T064546
CREATED:20220202T165216Z
LAST-MODIFIED:20220202T165216Z
UID:29513-1647761400-1647761400@stpaulbr.org
SUMMARY:7:30 am Mass
DESCRIPTION: 
URL:https://stpaulbr.org/event/730-am-mass-73/
END:VEVENT
BEGIN:VEVENT
DTSTART;TZID=America/Chicago:20220318T180000
DTEND;TZID=America/Chicago:20220318T180000
DTSTAMP:20260424T064546
CREATED:20220202T163400Z
LAST-MODIFIED:20220202T163400Z
UID:29501-1647626400-1647626400@stpaulbr.org
SUMMARY:6:00 pm Stations of the Cross
DESCRIPTION: 
URL:https://stpaulbr.org/event/600-pm-stations-of-the-cross-2/
END:VEVENT
BEGIN:VEVENT
DTSTART;TZID=America/Chicago:20220317T080000
DTEND;TZID=America/Chicago:20220317T080000
DTSTAMP:20260424T064546
CREATED:20220202T163312Z
LAST-MODIFIED:20220202T163312Z
UID:29499-1647504000-1647504000@stpaulbr.org
SUMMARY:8:00 am Food Pantry
DESCRIPTION: 
URL:https://stpaulbr.org/event/800-am-food-pantry-10/
END:VEVENT
BEGIN:VEVENT
DTSTART;TZID=America/Chicago:20220316T180000
DTEND;TZID=America/Chicago:20220316T180000
DTSTAMP:20260424T064546
CREATED:20220202T165143Z
LAST-MODIFIED:20220202T165143Z
UID:29511-1647453600-1647453600@stpaulbr.org
SUMMARY:6:00  pm Pastoral Council Meeting
DESCRIPTION: 
URL:https://stpaulbr.org/event/600-pm-pastoral-council-meeting-3/
END:VEVENT
BEGIN:VEVENT
DTSTART;TZID=America/Chicago:20220315T080000
DTEND;TZID=America/Chicago:20220318T000000
DTSTAMP:20260424T064546
CREATED:20220202T165056Z
LAST-MODIFIED:20220202T165056Z
UID:29509-1647331200-1647561600@stpaulbr.org
SUMMARY:8:00 am Mass
DESCRIPTION: 
URL:https://stpaulbr.org/event/800-am-mass-11/
END:VEVENT
BEGIN:VEVENT
DTSTART;TZID=America/Chicago:20220313T103000
DTEND;TZID=America/Chicago:20220313T103000
DTSTAMP:20260424T064546
CREATED:20220202T164952Z
LAST-MODIFIED:20220202T164952Z
UID:29507-1647167400-1647167400@stpaulbr.org
SUMMARY:10:30 am Mass
DESCRIPTION: 
URL:https://stpaulbr.org/event/1030-am-mass-69/
END:VEVENT
BEGIN:VEVENT
DTSTART;TZID=America/Chicago:20220313T090000
DTEND;TZID=America/Chicago:20220313T090000
DTSTAMP:20260424T064546
CREATED:20220202T164929Z
LAST-MODIFIED:20220202T164929Z
UID:29505-1647162000-1647162000@stpaulbr.org
SUMMARY:9:00 am Religious Ed
DESCRIPTION: 
URL:https://stpaulbr.org/event/900-am-religious-ed-4/
END:VEVENT
BEGIN:VEVENT
DTSTART;TZID=America/Chicago:20220313T073000
DTEND;TZID=America/Chicago:20220313T073000
DTSTAMP:20260424T064546
CREATED:20220202T164904Z
LAST-MODIFIED:20220202T164904Z
UID:29503-1647156600-1647156600@stpaulbr.org
SUMMARY:7:30 am Mass
DESCRIPTION: 
URL:https://stpaulbr.org/event/730-am-mass-72/
END:VEVENT
BEGIN:VEVENT
DTSTART;TZID=America/Chicago:20220308T080000
DTEND;TZID=America/Chicago:20220311T000000
DTSTAMP:20260424T064546
CREATED:20220202T163152Z
LAST-MODIFIED:20220202T163152Z
UID:29497-1646726400-1646956800@stpaulbr.org
SUMMARY:8:00 am Mass
DESCRIPTION: 
URL:https://stpaulbr.org/event/800-am-mass-10/
END:VEVENT
BEGIN:VEVENT
DTSTART;TZID=America/Chicago:20220306T103000
DTEND;TZID=America/Chicago:20220306T103000
DTSTAMP:20260424T064546
CREATED:20220202T163058Z
LAST-MODIFIED:20220202T163058Z
UID:29495-1646562600-1646562600@stpaulbr.org
SUMMARY:10:30 am Mass
DESCRIPTION: 
URL:https://stpaulbr.org/event/1030-am-mass-68/
END:VEVENT
BEGIN:VEVENT
DTSTART;TZID=America/Chicago:20220306T090000
DTEND;TZID=America/Chicago:20220306T090000
DTSTAMP:20260424T064546
CREATED:20220202T162944Z
LAST-MODIFIED:20220202T162944Z
UID:29493-1646557200-1646557200@stpaulbr.org
SUMMARY:9:00 am Religious Ed
DESCRIPTION: 
URL:https://stpaulbr.org/event/900-am-religious-ed-3/
END:VEVENT
BEGIN:VEVENT
DTSTART;TZID=America/Chicago:20220306T073000
DTEND;TZID=America/Chicago:20220306T073000
DTSTAMP:20260424T064546
CREATED:20220202T162905Z
LAST-MODIFIED:20220202T162905Z
UID:29491-1646551800-1646551800@stpaulbr.org
SUMMARY:7:30 am Mass
DESCRIPTION: 
URL:https://stpaulbr.org/event/730-am-mass-71/
END:VEVENT
BEGIN:VEVENT
DTSTART;TZID=America/Chicago:20220304T180000
DTEND;TZID=America/Chicago:20220304T180000
DTSTAMP:20260424T064546
CREATED:20220202T161519Z
LAST-MODIFIED:20220202T161519Z
UID:29486-1646416800-1646416800@stpaulbr.org
SUMMARY:6:00 pm Stations of the Cross
DESCRIPTION: 
URL:https://stpaulbr.org/event/600-pm-stations-of-the-cross/
END:VEVENT
BEGIN:VEVENT
DTSTART;TZID=America/Chicago:20220303T080000
DTEND;TZID=America/Chicago:20220304T000000
DTSTAMP:20260424T064546
CREATED:20220202T161245Z
LAST-MODIFIED:20220202T161245Z
UID:29482-1646294400-1646352000@stpaulbr.org
SUMMARY:8:00 am Mass
DESCRIPTION: 
URL:https://stpaulbr.org/event/800-am-mass-9/
END:VEVENT
BEGIN:VEVENT
DTSTART;TZID=America/Chicago:20220303T080000
DTEND;TZID=America/Chicago:20220303T080000
DTSTAMP:20260424T064546
CREATED:20220202T161440Z
LAST-MODIFIED:20220202T161440Z
UID:29484-1646294400-1646294400@stpaulbr.org
SUMMARY:8:00 am Food Pantry
DESCRIPTION: 
URL:https://stpaulbr.org/event/800-am-food-pantry-9/
END:VEVENT
BEGIN:VEVENT
DTSTART;TZID=America/Chicago:20220302T180000
DTEND;TZID=America/Chicago:20220302T180000
DTSTAMP:20260424T064546
CREATED:20220202T161154Z
LAST-MODIFIED:20220202T161916Z
UID:29480-1646244000-1646244000@stpaulbr.org
SUMMARY:6:00 pm Mass
DESCRIPTION: \n\n 
URL:https://stpaulbr.org/event/6-pm-mass-2/
END:VEVENT
BEGIN:VEVENT
DTSTART;TZID=America/Chicago:20220302T090000
DTEND;TZID=America/Chicago:20220302T090000
DTSTAMP:20260424T064546
CREATED:20220202T161129Z
LAST-MODIFIED:20220202T161129Z
UID:29478-1646211600-1646211600@stpaulbr.org
SUMMARY:9:00 am Mass
DESCRIPTION: 
URL:https://stpaulbr.org/event/900-am-mass-2/
END:VEVENT
BEGIN:VEVENT
DTSTART;TZID=America/Chicago:20220302T000000
DTEND;TZID=America/Chicago:20220302T000000
DTSTAMP:20260424T064546
CREATED:20220202T161048Z
LAST-MODIFIED:20220202T161048Z
UID:29476-1646179200-1646179200@stpaulbr.org
SUMMARY:Ash Wednesday
DESCRIPTION: 
URL:https://stpaulbr.org/event/ash-wednesday-2/
END:VEVENT
BEGIN:VEVENT
DTSTART;TZID=America/Chicago:20220301T000000
DTEND;TZID=America/Chicago:20220301T000000
DTSTAMP:20260424T064546
CREATED:20220202T160707Z
LAST-MODIFIED:20220202T160727Z
UID:29467-1646092800-1646092800@stpaulbr.org
SUMMARY:Office Closed
DESCRIPTION: \n\n 
URL:https://stpaulbr.org/event/office-closed-30/
END:VEVENT
BEGIN:VEVENT
DTSTART;TZID=America/Chicago:20220228T000000
DTEND;TZID=America/Chicago:20220228T000000
DTSTAMP:20260424T064546
CREATED:20220202T161021Z
LAST-MODIFIED:20220202T161021Z
UID:29474-1646006400-1646006400@stpaulbr.org
SUMMARY:Office Closed
DESCRIPTION: 
URL:https://stpaulbr.org/event/office-closed-31/
END:VEVENT
BEGIN:VEVENT
DTSTART;TZID=America/Chicago:20220227T103000
DTEND;TZID=America/Chicago:20220227T103000
DTSTAMP:20260424T064546
CREATED:20220202T160143Z
LAST-MODIFIED:20220202T160143Z
UID:29465-1645957800-1645957800@stpaulbr.org
SUMMARY:10:30 am Mass
DESCRIPTION: 
URL:https://stpaulbr.org/event/1030-am-mass-67/
END:VEVENT
BEGIN:VEVENT
DTSTART;TZID=America/Chicago:20220227T073000
DTEND;TZID=America/Chicago:20220227T073000
DTSTAMP:20260424T064546
CREATED:20220202T160110Z
LAST-MODIFIED:20220202T160110Z
UID:29463-1645947000-1645947000@stpaulbr.org
SUMMARY:7:30 am Mass
DESCRIPTION: 
URL:https://stpaulbr.org/event/730-am-mass-70/
END:VEVENT
BEGIN:VEVENT
DTSTART;TZID=America/Chicago:20220227T000000
DTEND;TZID=America/Chicago:20220227T000000
DTSTAMP:20260424T064546
CREATED:20220202T160002Z
LAST-MODIFIED:20220202T160002Z
UID:29461-1645920000-1645920000@stpaulbr.org
SUMMARY:No Religious Ed Classes
DESCRIPTION: 
URL:https://stpaulbr.org/event/no-religious-ed-classes-5/
END:VEVENT
END:VCALENDAR