BEGIN:VCALENDAR
VERSION:2.0
PRODID:-//St. Paul The Apostle Catholic Church - ECPv6.15.11//NONSGML v1.0//EN
CALSCALE:GREGORIAN
METHOD:PUBLISH
X-WR-CALNAME:St. Paul The Apostle Catholic Church
X-ORIGINAL-URL:https://stpaulbr.org
X-WR-CALDESC:Events for St. Paul The Apostle Catholic Church
REFRESH-INTERVAL;VALUE=DURATION:PT1H
X-Robots-Tag:noindex
X-PUBLISHED-TTL:PT1H
BEGIN:VTIMEZONE
TZID:America/Chicago
BEGIN:DAYLIGHT
TZOFFSETFROM:-0600
TZOFFSETTO:-0500
TZNAME:CDT
DTSTART:20210314T080000
END:DAYLIGHT
BEGIN:STANDARD
TZOFFSETFROM:-0500
TZOFFSETTO:-0600
TZNAME:CST
DTSTART:20211107T070000
END:STANDARD
BEGIN:DAYLIGHT
TZOFFSETFROM:-0600
TZOFFSETTO:-0500
TZNAME:CDT
DTSTART:20220313T080000
END:DAYLIGHT
BEGIN:STANDARD
TZOFFSETFROM:-0500
TZOFFSETTO:-0600
TZNAME:CST
DTSTART:20221106T070000
END:STANDARD
BEGIN:DAYLIGHT
TZOFFSETFROM:-0600
TZOFFSETTO:-0500
TZNAME:CDT
DTSTART:20230312T080000
END:DAYLIGHT
BEGIN:STANDARD
TZOFFSETFROM:-0500
TZOFFSETTO:-0600
TZNAME:CST
DTSTART:20231105T070000
END:STANDARD
END:VTIMEZONE
BEGIN:VEVENT
DTSTART;TZID=America/Chicago:20220222T080000
DTEND;TZID=America/Chicago:20220225T000000
DTSTAMP:20260424T111706
CREATED:20220202T155915Z
LAST-MODIFIED:20220202T155915Z
UID:29459-1645516800-1645747200@stpaulbr.org
SUMMARY:8:00 am Mass
DESCRIPTION: 
URL:https://stpaulbr.org/event/800-am-mass-8/
END:VEVENT
BEGIN:VEVENT
DTSTART;TZID=America/Chicago:20220220T103000
DTEND;TZID=America/Chicago:20220220T103000
DTSTAMP:20260424T111706
CREATED:20220202T155414Z
LAST-MODIFIED:20220202T155414Z
UID:29457-1645353000-1645353000@stpaulbr.org
SUMMARY:10:30 am Mass
DESCRIPTION: 
URL:https://stpaulbr.org/event/1030-am-mass-66/
END:VEVENT
BEGIN:VEVENT
DTSTART;TZID=America/Chicago:20220220T090000
DTEND;TZID=America/Chicago:20220220T090000
DTSTAMP:20260424T111706
CREATED:20220202T155350Z
LAST-MODIFIED:20220202T155350Z
UID:29455-1645347600-1645347600@stpaulbr.org
SUMMARY:9:00 am Religious Ed
DESCRIPTION: 
URL:https://stpaulbr.org/event/900-am-religious-ed-2/
END:VEVENT
BEGIN:VEVENT
DTSTART;TZID=America/Chicago:20220220T073000
DTEND;TZID=America/Chicago:20220220T073000
DTSTAMP:20260424T111706
CREATED:20220202T155325Z
LAST-MODIFIED:20220202T155325Z
UID:29452-1645342200-1645342200@stpaulbr.org
SUMMARY:7:30 am Mass
DESCRIPTION: 
URL:https://stpaulbr.org/event/730-am-mass-69/
END:VEVENT
BEGIN:VEVENT
DTSTART;TZID=America/Chicago:20220216T180000
DTEND;TZID=America/Chicago:20220216T180000
DTSTAMP:20260424T111706
CREATED:20220202T155117Z
LAST-MODIFIED:20220202T155117Z
UID:29450-1645034400-1645034400@stpaulbr.org
SUMMARY:6:00 pm Ushers Meeting
DESCRIPTION: 
URL:https://stpaulbr.org/event/600-pm-ushers-meeting/
END:VEVENT
BEGIN:VEVENT
DTSTART;TZID=America/Chicago:20220215T180000
DTEND;TZID=America/Chicago:20220215T180000
DTSTAMP:20260424T111706
CREATED:20220202T155012Z
LAST-MODIFIED:20220202T155012Z
UID:29448-1644948000-1644948000@stpaulbr.org
SUMMARY:6:00 pm Finance Council Meeting
DESCRIPTION: 
URL:https://stpaulbr.org/event/600-pm-finance-council-meeting-2/
END:VEVENT
BEGIN:VEVENT
DTSTART;TZID=America/Chicago:20220215T080000
DTEND;TZID=America/Chicago:20220218T000000
DTSTAMP:20260424T111706
CREATED:20220202T154802Z
LAST-MODIFIED:20220202T154802Z
UID:29446-1644912000-1645142400@stpaulbr.org
SUMMARY:8:00 am Mass
DESCRIPTION: 
URL:https://stpaulbr.org/event/800-am-mass-7/
END:VEVENT
BEGIN:VEVENT
DTSTART;TZID=America/Chicago:20220213T103000
DTEND;TZID=America/Chicago:20220213T103000
DTSTAMP:20260424T111706
CREATED:20220202T154723Z
LAST-MODIFIED:20220202T154723Z
UID:29444-1644748200-1644748200@stpaulbr.org
SUMMARY:10:30 am Mass
DESCRIPTION: 
URL:https://stpaulbr.org/event/1030-am-mass-65/
END:VEVENT
BEGIN:VEVENT
DTSTART;TZID=America/Chicago:20220213T090000
DTEND;TZID=America/Chicago:20220213T090000
DTSTAMP:20260424T111706
CREATED:20220202T154653Z
LAST-MODIFIED:20220202T154653Z
UID:29442-1644742800-1644742800@stpaulbr.org
SUMMARY:9:00 Religious Ed
DESCRIPTION: 
URL:https://stpaulbr.org/event/900-religious-ed/
END:VEVENT
BEGIN:VEVENT
DTSTART;TZID=America/Chicago:20220213T073000
DTEND;TZID=America/Chicago:20220213T073000
DTSTAMP:20260424T111706
CREATED:20220202T154622Z
LAST-MODIFIED:20220202T154622Z
UID:29440-1644737400-1644737400@stpaulbr.org
SUMMARY:7:30 am Mass
DESCRIPTION: 
URL:https://stpaulbr.org/event/730-am-mass-68/
END:VEVENT
BEGIN:VEVENT
DTSTART;TZID=America/Chicago:20220208T080000
DTEND;TZID=America/Chicago:20220211T000000
DTSTAMP:20260424T111706
CREATED:20220202T154541Z
LAST-MODIFIED:20220202T154541Z
UID:29438-1644307200-1644537600@stpaulbr.org
SUMMARY:8:00 am Mass
DESCRIPTION: 
URL:https://stpaulbr.org/event/800-am-mass-6/
END:VEVENT
BEGIN:VEVENT
DTSTART;TZID=America/Chicago:20220206T103000
DTEND;TZID=America/Chicago:20220206T103000
DTSTAMP:20260424T111706
CREATED:20220202T154358Z
LAST-MODIFIED:20220202T154358Z
UID:29436-1644143400-1644143400@stpaulbr.org
SUMMARY:10:30 am Mass
DESCRIPTION: 
URL:https://stpaulbr.org/event/1030-am-mass-64/
END:VEVENT
BEGIN:VEVENT
DTSTART;TZID=America/Chicago:20220206T090000
DTEND;TZID=America/Chicago:20220206T090000
DTSTAMP:20260424T111706
CREATED:20220202T154331Z
LAST-MODIFIED:20220202T154331Z
UID:29434-1644138000-1644138000@stpaulbr.org
SUMMARY:9:00 am Religious Ed
DESCRIPTION: 
URL:https://stpaulbr.org/event/900-am-religious-ed/
END:VEVENT
BEGIN:VEVENT
DTSTART;TZID=America/Chicago:20220206T073000
DTEND;TZID=America/Chicago:20220206T073000
DTSTAMP:20260424T111706
CREATED:20220202T154249Z
LAST-MODIFIED:20220202T154249Z
UID:29432-1644132600-1644132600@stpaulbr.org
SUMMARY:7:30 am Mass
DESCRIPTION: 
URL:https://stpaulbr.org/event/730-am-mass-67/
END:VEVENT
BEGIN:VEVENT
DTSTART;TZID=America/Chicago:20220130T103000
DTEND;TZID=America/Chicago:20220130T103000
DTSTAMP:20260424T111706
CREATED:20211229T210853Z
LAST-MODIFIED:20211229T210853Z
UID:29405-1643538600-1643538600@stpaulbr.org
SUMMARY:10:30 am Mass
DESCRIPTION: 
URL:https://stpaulbr.org/event/1030-am-mass-63/
END:VEVENT
BEGIN:VEVENT
DTSTART;TZID=America/Chicago:20220130T090000
DTEND;TZID=America/Chicago:20220130T090000
DTSTAMP:20260424T111706
CREATED:20211229T210747Z
LAST-MODIFIED:20211229T210747Z
UID:29403-1643533200-1643533200@stpaulbr.org
SUMMARY:9:00 am Religious Ed. Classes
DESCRIPTION: 
URL:https://stpaulbr.org/event/900-am-religious-ed-classes-14/
END:VEVENT
BEGIN:VEVENT
DTSTART;TZID=America/Chicago:20220130T073000
DTEND;TZID=America/Chicago:20220130T073000
DTSTAMP:20260424T111706
CREATED:20211229T210635Z
LAST-MODIFIED:20211229T210635Z
UID:29401-1643527800-1643527800@stpaulbr.org
SUMMARY:7:30 am Mass
DESCRIPTION: 
URL:https://stpaulbr.org/event/730-am-mass-66/
END:VEVENT
BEGIN:VEVENT
DTSTART;TZID=America/Chicago:20220125T080000
DTEND;TZID=America/Chicago:20220128T000000
DTSTAMP:20260424T111706
CREATED:20211229T210527Z
LAST-MODIFIED:20211229T210527Z
UID:29399-1643097600-1643328000@stpaulbr.org
SUMMARY:8:00 am Mass
DESCRIPTION: 
URL:https://stpaulbr.org/event/800-am-mass-5/
END:VEVENT
BEGIN:VEVENT
DTSTART;TZID=America/Chicago:20220123T103000
DTEND;TZID=America/Chicago:20220123T103000
DTSTAMP:20260424T111706
CREATED:20211229T210338Z
LAST-MODIFIED:20211229T210338Z
UID:29397-1642933800-1642933800@stpaulbr.org
SUMMARY:10:30 am Mass
DESCRIPTION: 
URL:https://stpaulbr.org/event/1030-am-mass-61/
END:VEVENT
BEGIN:VEVENT
DTSTART;TZID=America/Chicago:20220123T090000
DTEND;TZID=America/Chicago:20220123T090000
DTSTAMP:20260424T111706
CREATED:20211229T210229Z
LAST-MODIFIED:20211229T210229Z
UID:29395-1642928400-1642928400@stpaulbr.org
SUMMARY:9:00 am Religious Ed. Classes
DESCRIPTION: 
URL:https://stpaulbr.org/event/900-am-religious-ed-classes-13/
END:VEVENT
BEGIN:VEVENT
DTSTART;TZID=America/Chicago:20220123T073000
DTEND;TZID=America/Chicago:20220123T073000
DTSTAMP:20260424T111706
CREATED:20211229T210106Z
LAST-MODIFIED:20211229T210106Z
UID:29393-1642923000-1642923000@stpaulbr.org
SUMMARY:7:30 am Mass
DESCRIPTION: 
URL:https://stpaulbr.org/event/730-am-mass-65/
END:VEVENT
BEGIN:VEVENT
DTSTART;TZID=America/Chicago:20220120T080000
DTEND;TZID=America/Chicago:20220120T080000
DTSTAMP:20260424T111706
CREATED:20211229T211340Z
LAST-MODIFIED:20211229T211340Z
UID:29407-1642665600-1642665600@stpaulbr.org
SUMMARY:8:00 am SVDP Pantry
DESCRIPTION: 
URL:https://stpaulbr.org/event/800-am-svdp-pantry/
END:VEVENT
BEGIN:VEVENT
DTSTART;TZID=America/Chicago:20220119T180000
DTEND;TZID=America/Chicago:20220119T180000
DTSTAMP:20260424T111706
CREATED:20211229T204719Z
LAST-MODIFIED:20211229T204735Z
UID:29389-1642615200-1642615200@stpaulbr.org
SUMMARY:6:00 pm Pastoral Council Meeting
DESCRIPTION: \n\n 
URL:https://stpaulbr.org/event/600-pm-pastoral-council-meeting-2/
END:VEVENT
BEGIN:VEVENT
DTSTART;TZID=America/Chicago:20220118T080000
DTEND;TZID=America/Chicago:20220121T000000
DTSTAMP:20260424T111706
CREATED:20211229T202027Z
LAST-MODIFIED:20211229T202027Z
UID:29375-1642492800-1642723200@stpaulbr.org
SUMMARY:8:00 am Mass
DESCRIPTION: 
URL:https://stpaulbr.org/event/800-am-mass-4/
END:VEVENT
BEGIN:VEVENT
DTSTART;TZID=America/Chicago:20220116T103000
DTEND;TZID=America/Chicago:20220116T103000
DTSTAMP:20260424T111706
CREATED:20211229T203336Z
LAST-MODIFIED:20211229T203629Z
UID:29384-1642329000-1642329000@stpaulbr.org
SUMMARY:10:30 am Mass
DESCRIPTION: \n\n 
URL:https://stpaulbr.org/event/1030-am-mass-62/
END:VEVENT
BEGIN:VEVENT
DTSTART;TZID=America/Chicago:20220116T090000
DTEND;TZID=America/Chicago:20220116T090000
DTSTAMP:20260424T111706
CREATED:20211229T203242Z
LAST-MODIFIED:20211229T203242Z
UID:29382-1642323600-1642323600@stpaulbr.org
SUMMARY:9:00 am Religious Ed. Classes
DESCRIPTION: 
URL:https://stpaulbr.org/event/900-am-religious-ed-classes-12/
END:VEVENT
BEGIN:VEVENT
DTSTART;TZID=America/Chicago:20220116T073000
DTEND;TZID=America/Chicago:20220116T073000
DTSTAMP:20260424T111706
CREATED:20211229T201636Z
LAST-MODIFIED:20211229T201636Z
UID:29371-1642318200-1642318200@stpaulbr.org
SUMMARY:7:30 am Mass
DESCRIPTION: 
URL:https://stpaulbr.org/event/730-am-mass-64/
END:VEVENT
BEGIN:VEVENT
DTSTART;TZID=America/Chicago:20220112T080000
DTEND;TZID=America/Chicago:20220114T000000
DTSTAMP:20260424T111706
CREATED:20211229T201913Z
LAST-MODIFIED:20211229T201913Z
UID:29373-1641974400-1642118400@stpaulbr.org
SUMMARY:8:00 am Mass
DESCRIPTION: 
URL:https://stpaulbr.org/event/800-am-mass-3/
END:VEVENT
BEGIN:VEVENT
DTSTART;TZID=America/Chicago:20220111T180000
DTEND;TZID=America/Chicago:20220111T180000
DTSTAMP:20260424T111706
CREATED:20211229T201542Z
LAST-MODIFIED:20211229T201542Z
UID:29369-1641924000-1641924000@stpaulbr.org
SUMMARY:6:00 pm Liturgy Committee Meeting
DESCRIPTION: 
URL:https://stpaulbr.org/event/600-pm-liturgy-committee-meeting-2/
END:VEVENT
BEGIN:VEVENT
DTSTART;TZID=America/Chicago:20220111T080000
DTEND;TZID=America/Chicago:20220111T080000
DTSTAMP:20260424T111706
CREATED:20211229T201440Z
LAST-MODIFIED:20211229T201440Z
UID:29367-1641888000-1641888000@stpaulbr.org
SUMMARY:8:00 am Mass
DESCRIPTION: 
URL:https://stpaulbr.org/event/800-am-mass-2/
END:VEVENT
END:VCALENDAR