BEGIN:VCALENDAR
VERSION:2.0
PRODID:-//St. Paul The Apostle Catholic Church - ECPv6.15.11//NONSGML v1.0//EN
CALSCALE:GREGORIAN
METHOD:PUBLISH
X-WR-CALNAME:St. Paul The Apostle Catholic Church
X-ORIGINAL-URL:https://stpaulbr.org
X-WR-CALDESC:Events for St. Paul The Apostle Catholic Church
REFRESH-INTERVAL;VALUE=DURATION:PT1H
X-Robots-Tag:noindex
X-PUBLISHED-TTL:PT1H
BEGIN:VTIMEZONE
TZID:America/Chicago
BEGIN:DAYLIGHT
TZOFFSETFROM:-0600
TZOFFSETTO:-0500
TZNAME:CDT
DTSTART:20200308T080000
END:DAYLIGHT
BEGIN:STANDARD
TZOFFSETFROM:-0500
TZOFFSETTO:-0600
TZNAME:CST
DTSTART:20201101T070000
END:STANDARD
BEGIN:DAYLIGHT
TZOFFSETFROM:-0600
TZOFFSETTO:-0500
TZNAME:CDT
DTSTART:20210314T080000
END:DAYLIGHT
BEGIN:STANDARD
TZOFFSETFROM:-0500
TZOFFSETTO:-0600
TZNAME:CST
DTSTART:20211107T070000
END:STANDARD
BEGIN:DAYLIGHT
TZOFFSETFROM:-0600
TZOFFSETTO:-0500
TZNAME:CDT
DTSTART:20220313T080000
END:DAYLIGHT
BEGIN:STANDARD
TZOFFSETFROM:-0500
TZOFFSETTO:-0600
TZNAME:CST
DTSTART:20221106T070000
END:STANDARD
BEGIN:DAYLIGHT
TZOFFSETFROM:-0600
TZOFFSETTO:-0500
TZNAME:CDT
DTSTART:20230312T080000
END:DAYLIGHT
BEGIN:STANDARD
TZOFFSETFROM:-0500
TZOFFSETTO:-0600
TZNAME:CST
DTSTART:20231105T070000
END:STANDARD
END:VTIMEZONE
BEGIN:VEVENT
DTSTART;TZID=America/Chicago:20220109T103000
DTEND;TZID=America/Chicago:20220109T103000
DTSTAMP:20260424T160152
CREATED:20211229T201335Z
LAST-MODIFIED:20211229T201335Z
UID:29365-1641724200-1641724200@stpaulbr.org
SUMMARY:10:30 am Mass - Presentation of Confirmation Candidates
DESCRIPTION: 
URL:https://stpaulbr.org/event/1030-am-mass-presentation-of-confirmation-candidates/
END:VEVENT
BEGIN:VEVENT
DTSTART;TZID=America/Chicago:20220109T090000
DTEND;TZID=America/Chicago:20220109T090000
DTSTAMP:20260424T160152
CREATED:20211229T201133Z
LAST-MODIFIED:20211229T204212Z
UID:29363-1641718800-1641718800@stpaulbr.org
SUMMARY:9:00 am Religious Ed. Classes
DESCRIPTION: \n\n 
URL:https://stpaulbr.org/event/900-am-religion-classes/
END:VEVENT
BEGIN:VEVENT
DTSTART;TZID=America/Chicago:20220109T073000
DTEND;TZID=America/Chicago:20220109T073000
DTSTAMP:20260424T160152
CREATED:20211229T200925Z
LAST-MODIFIED:20211229T200925Z
UID:29361-1641713400-1641713400@stpaulbr.org
SUMMARY:7:30 am Mass
DESCRIPTION: 
URL:https://stpaulbr.org/event/730-am-mass-63/
END:VEVENT
BEGIN:VEVENT
DTSTART;TZID=America/Chicago:20220108T000000
DTEND;TZID=America/Chicago:20220108T000000
DTSTAMP:20260424T160152
CREATED:20211229T200557Z
LAST-MODIFIED:20211229T200617Z
UID:29358-1641600000-1641600000@stpaulbr.org
SUMMARY:Confirmation Retreat at St. Francis Xavier
DESCRIPTION: \n\n 
URL:https://stpaulbr.org/event/confirmation-retreat-at-st-francis-xavier/
END:VEVENT
BEGIN:VEVENT
DTSTART;TZID=America/Chicago:20220106T080000
DTEND;TZID=America/Chicago:20220106T080000
DTSTAMP:20260424T160152
CREATED:20211229T200250Z
LAST-MODIFIED:20211229T200250Z
UID:29356-1641456000-1641456000@stpaulbr.org
SUMMARY:SVDP Pantry 8:00 am
DESCRIPTION: 
URL:https://stpaulbr.org/event/svdp-pantry-800-am/
END:VEVENT
BEGIN:VEVENT
DTSTART;TZID=America/Chicago:20220104T080000
DTEND;TZID=America/Chicago:20220107T000000
DTSTAMP:20260424T160152
CREATED:20211229T200148Z
LAST-MODIFIED:20211229T200148Z
UID:29354-1641283200-1641513600@stpaulbr.org
SUMMARY:Mass 8:00 am
DESCRIPTION: 
URL:https://stpaulbr.org/event/mass-800-am/
END:VEVENT
BEGIN:VEVENT
DTSTART;TZID=America/Chicago:20220102T000000
DTEND;TZID=America/Chicago:20220102T000000
DTSTAMP:20260424T160152
CREATED:20211229T200011Z
LAST-MODIFIED:20211229T200011Z
UID:29352-1641081600-1641081600@stpaulbr.org
SUMMARY:No Religious Ed. Classes
DESCRIPTION:
URL:https://stpaulbr.org/event/no-religious-ed-classes-4/
END:VEVENT
BEGIN:VEVENT
DTSTART;TZID=America/Chicago:20220101T000000
DTEND;TZID=America/Chicago:20220101T000000
DTSTAMP:20260424T160152
CREATED:20211124T213120Z
LAST-MODIFIED:20211124T213211Z
UID:29310-1640995200-1640995200@stpaulbr.org
SUMMARY:No Mass
DESCRIPTION: \n\n 
URL:https://stpaulbr.org/event/no-mass-2/
END:VEVENT
BEGIN:VEVENT
DTSTART;TZID=America/Chicago:20211231T180000
DTEND;TZID=America/Chicago:20211231T180000
DTSTAMP:20260424T160152
CREATED:20211124T212757Z
LAST-MODIFIED:20211124T212757Z
UID:29308-1640973600-1640973600@stpaulbr.org
SUMMARY:6:00 p.m. New Year's Vigil Mass
DESCRIPTION: 
URL:https://stpaulbr.org/event/600-p-m-new-years-vigil-mass/
END:VEVENT
BEGIN:VEVENT
DTSTART;TZID=America/Chicago:20211227T000000
DTEND;TZID=America/Chicago:20211231T000000
DTSTAMP:20260424T160152
CREATED:20210915T185243Z
LAST-MODIFIED:20210915T185243Z
UID:29156-1640563200-1640908800@stpaulbr.org
SUMMARY:Office Closed
DESCRIPTION: 
URL:https://stpaulbr.org/event/office-closed-29/
END:VEVENT
BEGIN:VEVENT
DTSTART;TZID=America/Chicago:20211226T103000
DTEND;TZID=America/Chicago:20211226T103000
DTSTAMP:20260424T160152
CREATED:20210915T184253Z
LAST-MODIFIED:20211124T212444Z
UID:29143-1640514600-1640514600@stpaulbr.org
SUMMARY:10:30 am Mass - Honoring 25 & 50 yrs. of Marriage
DESCRIPTION: \n\n 
URL:https://stpaulbr.org/event/1030-am-mass-60/
END:VEVENT
BEGIN:VEVENT
DTSTART;TZID=America/Chicago:20211226T073000
DTEND;TZID=America/Chicago:20211226T073000
DTSTAMP:20260424T160152
CREATED:20210915T184222Z
LAST-MODIFIED:20210915T184222Z
UID:29141-1640503800-1640503800@stpaulbr.org
SUMMARY:7:30 am Mass
DESCRIPTION: 
URL:https://stpaulbr.org/event/730-am-mass-62/
END:VEVENT
BEGIN:VEVENT
DTSTART;TZID=America/Chicago:20211226T000000
DTEND;TZID=America/Chicago:20211226T000000
DTSTAMP:20260424T160152
CREATED:20210915T185824Z
LAST-MODIFIED:20210915T185824Z
UID:29164-1640476800-1640476800@stpaulbr.org
SUMMARY:No Religion Classes
DESCRIPTION: 
URL:https://stpaulbr.org/event/no-religion-classes/
END:VEVENT
BEGIN:VEVENT
DTSTART;TZID=America/Chicago:20211225T093000
DTEND;TZID=America/Chicago:20211225T093000
DTSTAMP:20260424T160152
CREATED:20210915T185648Z
LAST-MODIFIED:20210915T185648Z
UID:29160-1640424600-1640424600@stpaulbr.org
SUMMARY:9:30 am Mass
DESCRIPTION: 
URL:https://stpaulbr.org/event/930-am-mass-2/
END:VEVENT
BEGIN:VEVENT
DTSTART;TZID=America/Chicago:20211225T000000
DTEND;TZID=America/Chicago:20211225T000000
DTSTAMP:20260424T160152
CREATED:20210915T184615Z
LAST-MODIFIED:20210915T184858Z
UID:29147-1640390400-1640390400@stpaulbr.org
SUMMARY:The Nativity of the Lord
DESCRIPTION: \n\n 
URL:https://stpaulbr.org/event/christmas/
END:VEVENT
BEGIN:VEVENT
DTSTART;TZID=America/Chicago:20211224T200000
DTEND;TZID=America/Chicago:20211224T200000
DTSTAMP:20260424T160152
CREATED:20211029T123638Z
LAST-MODIFIED:20211029T123638Z
UID:29255-1640376000-1640376000@stpaulbr.org
SUMMARY:8:00 pm Mass
DESCRIPTION: 
URL:https://stpaulbr.org/event/800-pm-mass/
END:VEVENT
BEGIN:VEVENT
DTSTART;TZID=America/Chicago:20211224T193000
DTEND;TZID=America/Chicago:20211224T193000
DTSTAMP:20260424T160152
CREATED:20211029T122920Z
LAST-MODIFIED:20211029T122920Z
UID:29253-1640374200-1640374200@stpaulbr.org
SUMMARY:7:30 pm Pageant
DESCRIPTION: 
URL:https://stpaulbr.org/event/730-pm-pageant/
END:VEVENT
BEGIN:VEVENT
DTSTART;TZID=America/Chicago:20211224T183000
DTEND;TZID=America/Chicago:20211224T183000
DTSTAMP:20260424T160152
CREATED:20211124T214823Z
LAST-MODIFIED:20211124T214823Z
UID:29327-1640370600-1640370600@stpaulbr.org
SUMMARY:6:30 pm Christmas Play Roll Call
DESCRIPTION: 
URL:https://stpaulbr.org/event/630-pm-christmas-play-roll-call/
END:VEVENT
BEGIN:VEVENT
DTSTART;TZID=America/Chicago:20211224T180000
DTEND;TZID=America/Chicago:20211224T180000
DTSTAMP:20260424T160152
CREATED:20210915T184505Z
LAST-MODIFIED:20211029T122631Z
UID:29145-1640368800-1640368800@stpaulbr.org
SUMMARY:7:00 pm Caroling
DESCRIPTION: \n\n 
URL:https://stpaulbr.org/event/800-pm-christmas-vigil/
END:VEVENT
BEGIN:VEVENT
DTSTART;TZID=America/Chicago:20211224T000000
DTEND;TZID=America/Chicago:20211224T000000
DTSTAMP:20260424T160152
CREATED:20210915T185159Z
LAST-MODIFIED:20210915T185159Z
UID:29154-1640304000-1640304000@stpaulbr.org
SUMMARY:Office Closed
DESCRIPTION: 
URL:https://stpaulbr.org/event/office-closed-28/
END:VEVENT
BEGIN:VEVENT
DTSTART;TZID=America/Chicago:20211222T180000
DTEND;TZID=America/Chicago:20211222T180000
DTSTAMP:20260424T160152
CREATED:20211124T214725Z
LAST-MODIFIED:20211124T214725Z
UID:29325-1640196000-1640196000@stpaulbr.org
SUMMARY:6:00 pm Christmas Play Rehearsal
DESCRIPTION: 
URL:https://stpaulbr.org/event/600-pm-christmas-play-rehearsal-2/
END:VEVENT
BEGIN:VEVENT
DTSTART;TZID=America/Chicago:20211221T093000
DTEND;TZID=America/Chicago:20211223T000000
DTSTAMP:20260424T160152
CREATED:20210915T194028Z
LAST-MODIFIED:20211022T170600Z
UID:29197-1640079000-1640217600@stpaulbr.org
SUMMARY:8:00 am Mass
DESCRIPTION: 
URL:https://stpaulbr.org/event/930-am-mass-15/
END:VEVENT
BEGIN:VEVENT
DTSTART;TZID=America/Chicago:20211220T180000
DTEND;TZID=America/Chicago:20211220T180000
DTSTAMP:20260424T160152
CREATED:20211124T214619Z
LAST-MODIFIED:20211124T214619Z
UID:29323-1640023200-1640023200@stpaulbr.org
SUMMARY:6:00 pm Christmas Play Rehearsal
DESCRIPTION: 
URL:https://stpaulbr.org/event/600-pm-christmas-play-rehearsal/
END:VEVENT
BEGIN:VEVENT
DTSTART;TZID=America/Chicago:20211219T103000
DTEND;TZID=America/Chicago:20211219T103000
DTSTAMP:20260424T160152
CREATED:20210915T184137Z
LAST-MODIFIED:20210915T184137Z
UID:29139-1639909800-1639909800@stpaulbr.org
SUMMARY:10:30 am Mass
DESCRIPTION: 
URL:https://stpaulbr.org/event/1030-am-mass-59/
END:VEVENT
BEGIN:VEVENT
DTSTART;TZID=America/Chicago:20211219T090000
DTEND;TZID=America/Chicago:20211219T090000
DTSTAMP:20260424T160152
CREATED:20210915T184108Z
LAST-MODIFIED:20210915T184108Z
UID:29137-1639904400-1639904400@stpaulbr.org
SUMMARY:9:00 am Religious Ed Classes
DESCRIPTION: 
URL:https://stpaulbr.org/event/900-am-religious-ed-classes-11/
END:VEVENT
BEGIN:VEVENT
DTSTART;TZID=America/Chicago:20211219T073000
DTEND;TZID=America/Chicago:20211219T073000
DTSTAMP:20260424T160152
CREATED:20210915T184038Z
LAST-MODIFIED:20210915T184038Z
UID:29135-1639899000-1639899000@stpaulbr.org
SUMMARY:7:30 am Mass
DESCRIPTION: 
URL:https://stpaulbr.org/event/730-am-mass-61/
END:VEVENT
BEGIN:VEVENT
DTSTART;TZID=America/Chicago:20211218T120000
DTEND;TZID=America/Chicago:20211218T130000
DTSTAMP:20260424T160152
CREATED:20211029T125706Z
LAST-MODIFIED:20211029T125706Z
UID:29262-1639828800-1639832400@stpaulbr.org
SUMMARY:12:00 pm Altar Servers Training
DESCRIPTION: 
URL:https://stpaulbr.org/event/1200-pm-altar-servers-training-3/
END:VEVENT
BEGIN:VEVENT
DTSTART;TZID=America/Chicago:20211218T090000
DTEND;TZID=America/Chicago:20211218T090000
DTSTAMP:20260424T160152
CREATED:20211124T214527Z
LAST-MODIFIED:20211124T214527Z
UID:29321-1639818000-1639818000@stpaulbr.org
SUMMARY:9:00 am Christmas Play Rehearsal
DESCRIPTION: 
URL:https://stpaulbr.org/event/900-am-christmas-play-rehearsal-3/
END:VEVENT
BEGIN:VEVENT
DTSTART;TZID=America/Chicago:20211216T080000
DTEND;TZID=America/Chicago:20211216T080000
DTSTAMP:20260424T160152
CREATED:20210915T181427Z
LAST-MODIFIED:20210915T181427Z
UID:29091-1639641600-1639641600@stpaulbr.org
SUMMARY:8:00 am Food Pantry
DESCRIPTION: 
URL:https://stpaulbr.org/event/800-am-food-pantry-8/
END:VEVENT
BEGIN:VEVENT
DTSTART;TZID=America/Chicago:20211214T143000
DTEND;TZID=America/Chicago:20211214T173000
DTSTAMP:20260424T160152
CREATED:20211124T213616Z
LAST-MODIFIED:20211124T214020Z
UID:29313-1639492200-1639503000@stpaulbr.org
SUMMARY:Covid-19 Vaccination Site - St. Paul Center 2:30-5:30 pm
DESCRIPTION: \n\n 
URL:https://stpaulbr.org/event/230-530-pm-covid-19-vaccinations-in-st-paul-center/
END:VEVENT
END:VCALENDAR