BEGIN:VCALENDAR
VERSION:2.0
PRODID:-//St. Paul The Apostle Catholic Church - ECPv6.15.11//NONSGML v1.0//EN
CALSCALE:GREGORIAN
METHOD:PUBLISH
X-ORIGINAL-URL:https://stpaulbr.org
X-WR-CALDESC:Events for St. Paul The Apostle Catholic Church
REFRESH-INTERVAL;VALUE=DURATION:PT1H
X-Robots-Tag:noindex
X-PUBLISHED-TTL:PT1H
BEGIN:VTIMEZONE
TZID:America/Chicago
BEGIN:DAYLIGHT
TZOFFSETFROM:-0600
TZOFFSETTO:-0500
TZNAME:CDT
DTSTART:20200308T080000
END:DAYLIGHT
BEGIN:STANDARD
TZOFFSETFROM:-0500
TZOFFSETTO:-0600
TZNAME:CST
DTSTART:20201101T070000
END:STANDARD
BEGIN:DAYLIGHT
TZOFFSETFROM:-0600
TZOFFSETTO:-0500
TZNAME:CDT
DTSTART:20210314T080000
END:DAYLIGHT
BEGIN:STANDARD
TZOFFSETFROM:-0500
TZOFFSETTO:-0600
TZNAME:CST
DTSTART:20211107T070000
END:STANDARD
BEGIN:DAYLIGHT
TZOFFSETFROM:-0600
TZOFFSETTO:-0500
TZNAME:CDT
DTSTART:20220313T080000
END:DAYLIGHT
BEGIN:STANDARD
TZOFFSETFROM:-0500
TZOFFSETTO:-0600
TZNAME:CST
DTSTART:20221106T070000
END:STANDARD
END:VTIMEZONE
BEGIN:VEVENT
DTSTART;TZID=America/Chicago:20211222T180000
DTEND;TZID=America/Chicago:20211222T180000
DTSTAMP:20260424T185810
CREATED:20211124T214725Z
LAST-MODIFIED:20211124T214725Z
UID:29325-1640196000-1640196000@stpaulbr.org
SUMMARY:6:00 pm Christmas Play Rehearsal
DESCRIPTION: 
URL:https://stpaulbr.org/event/600-pm-christmas-play-rehearsal-2/
END:VEVENT
BEGIN:VEVENT
DTSTART;TZID=America/Chicago:20211221T093000
DTEND;TZID=America/Chicago:20211223T000000
DTSTAMP:20260424T185810
CREATED:20210915T194028Z
LAST-MODIFIED:20211022T170600Z
UID:29197-1640079000-1640217600@stpaulbr.org
SUMMARY:8:00 am Mass
DESCRIPTION: 
URL:https://stpaulbr.org/event/930-am-mass-15/
END:VEVENT
BEGIN:VEVENT
DTSTART;TZID=America/Chicago:20211220T180000
DTEND;TZID=America/Chicago:20211220T180000
DTSTAMP:20260424T185810
CREATED:20211124T214619Z
LAST-MODIFIED:20211124T214619Z
UID:29323-1640023200-1640023200@stpaulbr.org
SUMMARY:6:00 pm Christmas Play Rehearsal
DESCRIPTION: 
URL:https://stpaulbr.org/event/600-pm-christmas-play-rehearsal/
END:VEVENT
BEGIN:VEVENT
DTSTART;TZID=America/Chicago:20211219T103000
DTEND;TZID=America/Chicago:20211219T103000
DTSTAMP:20260424T185810
CREATED:20210915T184137Z
LAST-MODIFIED:20210915T184137Z
UID:29139-1639909800-1639909800@stpaulbr.org
SUMMARY:10:30 am Mass
DESCRIPTION: 
URL:https://stpaulbr.org/event/1030-am-mass-59/
END:VEVENT
BEGIN:VEVENT
DTSTART;TZID=America/Chicago:20211219T090000
DTEND;TZID=America/Chicago:20211219T090000
DTSTAMP:20260424T185810
CREATED:20210915T184108Z
LAST-MODIFIED:20210915T184108Z
UID:29137-1639904400-1639904400@stpaulbr.org
SUMMARY:9:00 am Religious Ed Classes
DESCRIPTION: 
URL:https://stpaulbr.org/event/900-am-religious-ed-classes-11/
END:VEVENT
BEGIN:VEVENT
DTSTART;TZID=America/Chicago:20211219T073000
DTEND;TZID=America/Chicago:20211219T073000
DTSTAMP:20260424T185810
CREATED:20210915T184038Z
LAST-MODIFIED:20210915T184038Z
UID:29135-1639899000-1639899000@stpaulbr.org
SUMMARY:7:30 am Mass
DESCRIPTION: 
URL:https://stpaulbr.org/event/730-am-mass-61/
END:VEVENT
BEGIN:VEVENT
DTSTART;TZID=America/Chicago:20211218T120000
DTEND;TZID=America/Chicago:20211218T130000
DTSTAMP:20260424T185810
CREATED:20211029T125706Z
LAST-MODIFIED:20211029T125706Z
UID:29262-1639828800-1639832400@stpaulbr.org
SUMMARY:12:00 pm Altar Servers Training
DESCRIPTION: 
URL:https://stpaulbr.org/event/1200-pm-altar-servers-training-3/
END:VEVENT
BEGIN:VEVENT
DTSTART;TZID=America/Chicago:20211218T090000
DTEND;TZID=America/Chicago:20211218T090000
DTSTAMP:20260424T185810
CREATED:20211124T214527Z
LAST-MODIFIED:20211124T214527Z
UID:29321-1639818000-1639818000@stpaulbr.org
SUMMARY:9:00 am Christmas Play Rehearsal
DESCRIPTION: 
URL:https://stpaulbr.org/event/900-am-christmas-play-rehearsal-3/
END:VEVENT
BEGIN:VEVENT
DTSTART;TZID=America/Chicago:20211216T080000
DTEND;TZID=America/Chicago:20211216T080000
DTSTAMP:20260424T185810
CREATED:20210915T181427Z
LAST-MODIFIED:20210915T181427Z
UID:29091-1639641600-1639641600@stpaulbr.org
SUMMARY:8:00 am Food Pantry
DESCRIPTION: 
URL:https://stpaulbr.org/event/800-am-food-pantry-8/
END:VEVENT
BEGIN:VEVENT
DTSTART;TZID=America/Chicago:20211214T143000
DTEND;TZID=America/Chicago:20211214T173000
DTSTAMP:20260424T185810
CREATED:20211124T213616Z
LAST-MODIFIED:20211124T214020Z
UID:29313-1639492200-1639503000@stpaulbr.org
SUMMARY:Covid-19 Vaccination Site - St. Paul Center 2:30-5:30 pm
DESCRIPTION: \n\n 
URL:https://stpaulbr.org/event/230-530-pm-covid-19-vaccinations-in-st-paul-center/
END:VEVENT
BEGIN:VEVENT
DTSTART;TZID=America/Chicago:20211214T093000
DTEND;TZID=America/Chicago:20211217T000000
DTSTAMP:20260424T185810
CREATED:20210915T193947Z
LAST-MODIFIED:20211022T170539Z
UID:29195-1639474200-1639699200@stpaulbr.org
SUMMARY:8:00 am Mass
DESCRIPTION: 
URL:https://stpaulbr.org/event/930-am-mass-14/
END:VEVENT
BEGIN:VEVENT
DTSTART;TZID=America/Chicago:20211212T103000
DTEND;TZID=America/Chicago:20211212T103000
DTSTAMP:20260424T185810
CREATED:20210915T184003Z
LAST-MODIFIED:20210915T184003Z
UID:29133-1639305000-1639305000@stpaulbr.org
SUMMARY:10:30 am Mass
DESCRIPTION: 
URL:https://stpaulbr.org/event/1030-am-mass-58/
END:VEVENT
BEGIN:VEVENT
DTSTART;TZID=America/Chicago:20211212T090000
DTEND;TZID=America/Chicago:20211212T090000
DTSTAMP:20260424T185810
CREATED:20210915T183930Z
LAST-MODIFIED:20210915T183930Z
UID:29131-1639299600-1639299600@stpaulbr.org
SUMMARY:9:00 am Religious Ed Classes
DESCRIPTION: 
URL:https://stpaulbr.org/event/900-am-religious-ed-classes-10/
END:VEVENT
BEGIN:VEVENT
DTSTART;TZID=America/Chicago:20211212T073000
DTEND;TZID=America/Chicago:20211212T073000
DTSTAMP:20260424T185810
CREATED:20210915T183754Z
LAST-MODIFIED:20210915T183754Z
UID:29128-1639294200-1639294200@stpaulbr.org
SUMMARY:7:30 am Mass
DESCRIPTION: 
URL:https://stpaulbr.org/event/730-am-mass-60/
END:VEVENT
BEGIN:VEVENT
DTSTART;TZID=America/Chicago:20211211T120000
DTEND;TZID=America/Chicago:20211211T130000
DTSTAMP:20260424T185810
CREATED:20211029T125558Z
LAST-MODIFIED:20211029T125558Z
UID:29260-1639224000-1639227600@stpaulbr.org
SUMMARY:12:00 pm Altar Servers Training
DESCRIPTION: 
URL:https://stpaulbr.org/event/1200-pm-altar-servers-training-2/
END:VEVENT
BEGIN:VEVENT
DTSTART;TZID=America/Chicago:20211211T090000
DTEND;TZID=America/Chicago:20211211T090000
DTSTAMP:20260424T185810
CREATED:20211124T214443Z
LAST-MODIFIED:20211124T214443Z
UID:29319-1639213200-1639213200@stpaulbr.org
SUMMARY:9:00 am Christmas Play Rehearsal
DESCRIPTION: 
URL:https://stpaulbr.org/event/900-am-christmas-play-rehearsal-2/
END:VEVENT
BEGIN:VEVENT
DTSTART;TZID=America/Chicago:20211207T093000
DTEND;TZID=America/Chicago:20211210T000000
DTSTAMP:20260424T185810
CREATED:20210915T193908Z
LAST-MODIFIED:20211022T170515Z
UID:29193-1638869400-1639094400@stpaulbr.org
SUMMARY:8:00 am Mass
DESCRIPTION: 
URL:https://stpaulbr.org/event/930-am-mass-13/
END:VEVENT
BEGIN:VEVENT
DTSTART;TZID=America/Chicago:20211205T103000
DTEND;TZID=America/Chicago:20211205T103000
DTSTAMP:20260424T185810
CREATED:20210915T183717Z
LAST-MODIFIED:20210915T183717Z
UID:29126-1638700200-1638700200@stpaulbr.org
SUMMARY:10:30 am Mass
DESCRIPTION: 
URL:https://stpaulbr.org/event/1030-am-mass-57/
END:VEVENT
BEGIN:VEVENT
DTSTART;TZID=America/Chicago:20211205T090000
DTEND;TZID=America/Chicago:20211205T090000
DTSTAMP:20260424T185810
CREATED:20210915T183648Z
LAST-MODIFIED:20210915T183648Z
UID:29124-1638694800-1638694800@stpaulbr.org
SUMMARY:9:00 am Religious Ed Classes
DESCRIPTION: 
URL:https://stpaulbr.org/event/900-am-religious-ed-classes-9/
END:VEVENT
BEGIN:VEVENT
DTSTART;TZID=America/Chicago:20211205T073000
DTEND;TZID=America/Chicago:20211205T073000
DTSTAMP:20260424T185810
CREATED:20210915T183612Z
LAST-MODIFIED:20210915T183612Z
UID:29122-1638689400-1638689400@stpaulbr.org
SUMMARY:7:30 am Mass
DESCRIPTION: 
URL:https://stpaulbr.org/event/730-am-mass-59/
END:VEVENT
BEGIN:VEVENT
DTSTART;TZID=America/Chicago:20211204T120000
DTEND;TZID=America/Chicago:20211204T130000
DTSTAMP:20260424T185810
CREATED:20211029T125440Z
LAST-MODIFIED:20211029T125440Z
UID:29258-1638619200-1638622800@stpaulbr.org
SUMMARY:12:00 pm Altar Servers Training
DESCRIPTION: 
URL:https://stpaulbr.org/event/1200-pm-altar-servers-training/
END:VEVENT
BEGIN:VEVENT
DTSTART;TZID=America/Chicago:20211204T090000
DTEND;TZID=America/Chicago:20211204T090000
DTSTAMP:20260424T185810
CREATED:20211124T214329Z
LAST-MODIFIED:20211124T214329Z
UID:29317-1638608400-1638608400@stpaulbr.org
SUMMARY:9:00 am Christmas Play Rehearsal
DESCRIPTION: 
URL:https://stpaulbr.org/event/900-am-christmas-play-rehearsal/
END:VEVENT
BEGIN:VEVENT
DTSTART;TZID=America/Chicago:20211202T080000
DTEND;TZID=America/Chicago:20211202T080000
DTSTAMP:20260424T185810
CREATED:20210915T181356Z
LAST-MODIFIED:20210915T181356Z
UID:29089-1638432000-1638432000@stpaulbr.org
SUMMARY:8:00 am Food Pantry
DESCRIPTION: 
URL:https://stpaulbr.org/event/800-am-food-pantry-7/
END:VEVENT
BEGIN:VEVENT
DTSTART;TZID=America/Chicago:20211201T180000
DTEND;TZID=America/Chicago:20211201T180000
DTSTAMP:20260424T185810
CREATED:20211029T122305Z
LAST-MODIFIED:20211029T122326Z
UID:29248-1638381600-1638381600@stpaulbr.org
SUMMARY:6:00 pm Advent Reconciliation Service
DESCRIPTION: 
URL:https://stpaulbr.org/event/600-pm-advent-reconciliation-service/
END:VEVENT
BEGIN:VEVENT
DTSTART;TZID=America/Chicago:20211201T093000
DTEND;TZID=America/Chicago:20211203T000000
DTSTAMP:20260424T185810
CREATED:20210915T193608Z
LAST-MODIFIED:20211022T170306Z
UID:29191-1638351000-1638489600@stpaulbr.org
SUMMARY:8:00 am Mass
DESCRIPTION: 
URL:https://stpaulbr.org/event/930-am-mass-12/
END:VEVENT
BEGIN:VEVENT
DTSTART;TZID=America/Chicago:20211130T093000
DTEND;TZID=America/Chicago:20211130T093000
DTSTAMP:20260424T185810
CREATED:20210915T193022Z
LAST-MODIFIED:20211022T170127Z
UID:29187-1638264600-1638264600@stpaulbr.org
SUMMARY:8:00 am Mass
DESCRIPTION: 
URL:https://stpaulbr.org/event/930-am-mass-11/
END:VEVENT
BEGIN:VEVENT
DTSTART;TZID=America/Chicago:20211128T103000
DTEND;TZID=America/Chicago:20211128T103000
DTSTAMP:20260424T185810
CREATED:20210915T183012Z
LAST-MODIFIED:20210915T183012Z
UID:29113-1638095400-1638095400@stpaulbr.org
SUMMARY:10:30 am Mass
DESCRIPTION: 
URL:https://stpaulbr.org/event/1030-am-mass-56/
END:VEVENT
BEGIN:VEVENT
DTSTART;TZID=America/Chicago:20211128T090000
DTEND;TZID=America/Chicago:20211128T090000
DTSTAMP:20260424T185810
CREATED:20210915T182937Z
LAST-MODIFIED:20210915T182937Z
UID:29111-1638090000-1638090000@stpaulbr.org
SUMMARY:9:00 am Religious Ed Classes
DESCRIPTION: 
URL:https://stpaulbr.org/event/900-am-religious-ed-classes-8/
END:VEVENT
BEGIN:VEVENT
DTSTART;TZID=America/Chicago:20211128T073000
DTEND;TZID=America/Chicago:20211128T073000
DTSTAMP:20260424T185810
CREATED:20210915T182855Z
LAST-MODIFIED:20210915T182855Z
UID:29109-1638084600-1638084600@stpaulbr.org
SUMMARY:7:30 am Mass
DESCRIPTION: 
URL:https://stpaulbr.org/event/730-am-mass-58/
END:VEVENT
BEGIN:VEVENT
DTSTART;TZID=America/Chicago:20211126T000000
DTEND;TZID=America/Chicago:20211126T000000
DTSTAMP:20260424T185810
CREATED:20210915T183148Z
LAST-MODIFIED:20210915T183148Z
UID:29119-1637884800-1637884800@stpaulbr.org
SUMMARY:Office Closed
DESCRIPTION: 
URL:https://stpaulbr.org/event/office-closed-27/
END:VEVENT
END:VCALENDAR