BEGIN:VCALENDAR
VERSION:2.0
PRODID:-//St. Paul The Apostle Catholic Church - ECPv6.15.11//NONSGML v1.0//EN
CALSCALE:GREGORIAN
METHOD:PUBLISH
X-ORIGINAL-URL:https://stpaulbr.org
X-WR-CALDESC:Events for St. Paul The Apostle Catholic Church
REFRESH-INTERVAL;VALUE=DURATION:PT1H
X-Robots-Tag:noindex
X-PUBLISHED-TTL:PT1H
BEGIN:VTIMEZONE
TZID:America/Chicago
BEGIN:DAYLIGHT
TZOFFSETFROM:-0600
TZOFFSETTO:-0500
TZNAME:CDT
DTSTART:20200308T080000
END:DAYLIGHT
BEGIN:STANDARD
TZOFFSETFROM:-0500
TZOFFSETTO:-0600
TZNAME:CST
DTSTART:20201101T070000
END:STANDARD
BEGIN:DAYLIGHT
TZOFFSETFROM:-0600
TZOFFSETTO:-0500
TZNAME:CDT
DTSTART:20210314T080000
END:DAYLIGHT
BEGIN:STANDARD
TZOFFSETFROM:-0500
TZOFFSETTO:-0600
TZNAME:CST
DTSTART:20211107T070000
END:STANDARD
BEGIN:DAYLIGHT
TZOFFSETFROM:-0600
TZOFFSETTO:-0500
TZNAME:CDT
DTSTART:20220313T080000
END:DAYLIGHT
BEGIN:STANDARD
TZOFFSETFROM:-0500
TZOFFSETTO:-0600
TZNAME:CST
DTSTART:20221106T070000
END:STANDARD
END:VTIMEZONE
BEGIN:VEVENT
DTSTART;TZID=America/Chicago:20211125T000000
DTEND;TZID=America/Chicago:20211125T000000
DTSTAMP:20260424T233632
CREATED:20210915T183123Z
LAST-MODIFIED:20210915T183123Z
UID:29117-1637798400-1637798400@stpaulbr.org
SUMMARY:Office Closed
DESCRIPTION: 
URL:https://stpaulbr.org/event/office-closed-26/
END:VEVENT
BEGIN:VEVENT
DTSTART;TZID=America/Chicago:20211125T000000
DTEND;TZID=America/Chicago:20211125T000000
DTSTAMP:20260424T233632
CREATED:20210915T183100Z
LAST-MODIFIED:20210915T183100Z
UID:29115-1637798400-1637798400@stpaulbr.org
SUMMARY:Thanksgiving Day
DESCRIPTION: 
URL:https://stpaulbr.org/event/thanksgiving-day/
END:VEVENT
BEGIN:VEVENT
DTSTART;TZID=America/Chicago:20211124T180000
DTEND;TZID=America/Chicago:20211124T180000
DTSTAMP:20260424T233632
CREATED:20210915T193321Z
LAST-MODIFIED:20211029T124301Z
UID:29189-1637776800-1637776800@stpaulbr.org
SUMMARY:6:30 pm Thanksgiving Vigil
DESCRIPTION: 
URL:https://stpaulbr.org/event/600-pm-thanksgiving-vigil/
END:VEVENT
BEGIN:VEVENT
DTSTART;TZID=America/Chicago:20211123T093000
DTEND;TZID=America/Chicago:20211123T093000
DTSTAMP:20260424T233632
CREATED:20210915T192925Z
LAST-MODIFIED:20211022T170035Z
UID:29185-1637659800-1637659800@stpaulbr.org
SUMMARY:8:00 am Mass
DESCRIPTION: 
URL:https://stpaulbr.org/event/930-am-mass-10/
END:VEVENT
BEGIN:VEVENT
DTSTART;TZID=America/Chicago:20211121T103000
DTEND;TZID=America/Chicago:20211121T103000
DTSTAMP:20260424T233632
CREATED:20210915T182827Z
LAST-MODIFIED:20210915T182827Z
UID:29107-1637490600-1637490600@stpaulbr.org
SUMMARY:10:30 am Mass
DESCRIPTION: 
URL:https://stpaulbr.org/event/1030-am-mass-55/
END:VEVENT
BEGIN:VEVENT
DTSTART;TZID=America/Chicago:20211121T073000
DTEND;TZID=America/Chicago:20211121T073000
DTSTAMP:20260424T233632
CREATED:20210915T182802Z
LAST-MODIFIED:20210915T182802Z
UID:29105-1637479800-1637479800@stpaulbr.org
SUMMARY:7:30 am Mass
DESCRIPTION: 
URL:https://stpaulbr.org/event/730-am-mass-57/
END:VEVENT
BEGIN:VEVENT
DTSTART;TZID=America/Chicago:20211121T000000
DTEND;TZID=America/Chicago:20211121T000000
DTSTAMP:20260424T233632
CREATED:20210915T185729Z
LAST-MODIFIED:20210915T185914Z
UID:29162-1637452800-1637452800@stpaulbr.org
SUMMARY:No Religion Classes
DESCRIPTION: \n\n 
URL:https://stpaulbr.org/event/no-religious-ed-classes-3/
END:VEVENT
BEGIN:VEVENT
DTSTART;TZID=America/Chicago:20211118T080000
DTEND;TZID=America/Chicago:20211118T080000
DTSTAMP:20260424T233632
CREATED:20210915T181316Z
LAST-MODIFIED:20210915T181316Z
UID:29087-1637222400-1637222400@stpaulbr.org
SUMMARY:8:00 am Food Pantry
DESCRIPTION: 
URL:https://stpaulbr.org/event/800-am-food-pantry-5/
END:VEVENT
BEGIN:VEVENT
DTSTART;TZID=America/Chicago:20211116T093000
DTEND;TZID=America/Chicago:20211119T000000
DTSTAMP:20260424T233632
CREATED:20210915T192826Z
LAST-MODIFIED:20211022T172511Z
UID:29183-1637055000-1637280000@stpaulbr.org
SUMMARY:8:00 am Mass
DESCRIPTION: 
URL:https://stpaulbr.org/event/930-am-mass-9/
END:VEVENT
BEGIN:VEVENT
DTSTART;TZID=America/Chicago:20211114T103000
DTEND;TZID=America/Chicago:20211114T103000
DTSTAMP:20260424T233632
CREATED:20210915T182729Z
LAST-MODIFIED:20211022T172238Z
UID:29103-1636885800-1636885800@stpaulbr.org
SUMMARY:10:30 am Remembrance Mass
DESCRIPTION:﻿\n \n﻿\n\n 
URL:https://stpaulbr.org/event/1030-am-mass-54/
END:VEVENT
BEGIN:VEVENT
DTSTART;TZID=America/Chicago:20211114T090000
DTEND;TZID=America/Chicago:20211114T090000
DTSTAMP:20260424T233632
CREATED:20210915T182706Z
LAST-MODIFIED:20210915T182706Z
UID:29101-1636880400-1636880400@stpaulbr.org
SUMMARY:9:00 am Religious Ed Classes
DESCRIPTION: 
URL:https://stpaulbr.org/event/900-am-religious-ed-classes-7/
END:VEVENT
BEGIN:VEVENT
DTSTART;TZID=America/Chicago:20211114T073000
DTEND;TZID=America/Chicago:20211114T073000
DTSTAMP:20260424T233632
CREATED:20210915T182625Z
LAST-MODIFIED:20210915T183417Z
UID:29099-1636875000-1636875000@stpaulbr.org
SUMMARY:7:30 am Mass
DESCRIPTION: \n\n 
URL:https://stpaulbr.org/event/730-am-mass-56/
END:VEVENT
BEGIN:VEVENT
DTSTART;TZID=America/Chicago:20211109T093000
DTEND;TZID=America/Chicago:20211112T000000
DTSTAMP:20260424T233632
CREATED:20210915T192737Z
LAST-MODIFIED:20211022T165620Z
UID:29181-1636450200-1636675200@stpaulbr.org
SUMMARY:8:00 am Mass
DESCRIPTION: 
URL:https://stpaulbr.org/event/930-am-mass-8/
END:VEVENT
BEGIN:VEVENT
DTSTART;TZID=America/Chicago:20211107T103000
DTEND;TZID=America/Chicago:20211107T103000
DTSTAMP:20260424T233632
CREATED:20210915T182551Z
LAST-MODIFIED:20210915T182551Z
UID:29097-1636281000-1636281000@stpaulbr.org
SUMMARY:10:30 am Mass
DESCRIPTION: 
URL:https://stpaulbr.org/event/1030-am-mass-53/
END:VEVENT
BEGIN:VEVENT
DTSTART;TZID=America/Chicago:20211107T090000
DTEND;TZID=America/Chicago:20211107T090000
DTSTAMP:20260424T233632
CREATED:20210915T182519Z
LAST-MODIFIED:20210915T182519Z
UID:29095-1636275600-1636275600@stpaulbr.org
SUMMARY:9:00 am Religious Ed Classes
DESCRIPTION: 
URL:https://stpaulbr.org/event/900-am-religious-ed-classes-6/
END:VEVENT
BEGIN:VEVENT
DTSTART;TZID=America/Chicago:20211107T073000
DTEND;TZID=America/Chicago:20211107T073000
DTSTAMP:20260424T233632
CREATED:20210915T182438Z
LAST-MODIFIED:20210915T182438Z
UID:29093-1636270200-1636270200@stpaulbr.org
SUMMARY:7:30 am Mass
DESCRIPTION: 
URL:https://stpaulbr.org/event/730-am-mass-55/
END:VEVENT
BEGIN:VEVENT
DTSTART;TZID=America/Chicago:20211104T080000
DTEND;TZID=America/Chicago:20211104T080000
DTSTAMP:20260424T233632
CREATED:20210915T174819Z
LAST-MODIFIED:20210915T174819Z
UID:29079-1636012800-1636012800@stpaulbr.org
SUMMARY:8:00 am Food Pantry
DESCRIPTION: 
URL:https://stpaulbr.org/event/800-am-food-pantry-6/
END:VEVENT
BEGIN:VEVENT
DTSTART;TZID=America/Chicago:20211102T093000
DTEND;TZID=America/Chicago:20211105T000000
DTSTAMP:20260424T233632
CREATED:20210915T192640Z
LAST-MODIFIED:20210915T192640Z
UID:29179-1635845400-1636070400@stpaulbr.org
SUMMARY:9:30 am Mass
DESCRIPTION: 
URL:https://stpaulbr.org/event/930-am-mass-7/
END:VEVENT
BEGIN:VEVENT
DTSTART;TZID=America/Chicago:20211031T103000
DTEND;TZID=America/Chicago:20211031T103000
DTSTAMP:20260424T233632
CREATED:20210914T205042Z
LAST-MODIFIED:20211022T171131Z
UID:29065-1635676200-1635676200@stpaulbr.org
SUMMARY:Ministry Sign-up 10:30 am Mass
DESCRIPTION: \n\n 
URL:https://stpaulbr.org/event/1030-am-mass-52/
END:VEVENT
BEGIN:VEVENT
DTSTART;TZID=America/Chicago:20211031T090000
DTEND;TZID=America/Chicago:20211031T090000
DTSTAMP:20260424T233632
CREATED:20210914T205014Z
LAST-MODIFIED:20210914T205014Z
UID:29063-1635670800-1635670800@stpaulbr.org
SUMMARY:9:00 am Religious Ed. Classes
DESCRIPTION: 
URL:https://stpaulbr.org/event/900-am-religious-ed-classes-5/
END:VEVENT
BEGIN:VEVENT
DTSTART;TZID=America/Chicago:20211031T073000
DTEND;TZID=America/Chicago:20211031T073000
DTSTAMP:20260424T233632
CREATED:20210914T204942Z
LAST-MODIFIED:20211022T170932Z
UID:29061-1635665400-1635665400@stpaulbr.org
SUMMARY:Ministry Sign-up 7:30 am Mass
DESCRIPTION: \n\n 
URL:https://stpaulbr.org/event/730-am-mass-54/
END:VEVENT
BEGIN:VEVENT
DTSTART;TZID=America/Chicago:20211030T103000
DTEND;TZID=America/Chicago:20211030T103000
DTSTAMP:20260424T233632
CREATED:20210930T153725Z
LAST-MODIFIED:20210930T153725Z
UID:29212-1635589800-1635589800@stpaulbr.org
SUMMARY:10:30 a.m. Anointing of the Sick Mass
DESCRIPTION:
URL:https://stpaulbr.org/event/1030-a-m-anointing-of-the-sick-mass/
END:VEVENT
BEGIN:VEVENT
DTSTART;TZID=America/Chicago:20211026T093000
DTEND;TZID=America/Chicago:20211029T000000
DTSTAMP:20260424T233632
CREATED:20210915T190819Z
LAST-MODIFIED:20210915T190819Z
UID:29175-1635240600-1635465600@stpaulbr.org
SUMMARY:9:30 am Mass
DESCRIPTION: 
URL:https://stpaulbr.org/event/930-am-mass-6/
END:VEVENT
BEGIN:VEVENT
DTSTART;TZID=America/Chicago:20211024T103000
DTEND;TZID=America/Chicago:20211024T103000
DTSTAMP:20260424T233632
CREATED:20210914T204736Z
LAST-MODIFIED:20210914T204853Z
UID:29057-1635071400-1635071400@stpaulbr.org
SUMMARY:10:30 am Mass
DESCRIPTION: \n\n 
URL:https://stpaulbr.org/event/1030-am-mass-51/
END:VEVENT
BEGIN:VEVENT
DTSTART;TZID=America/Chicago:20211024T090000
DTEND;TZID=America/Chicago:20211024T090000
DTSTAMP:20260424T233632
CREATED:20210914T204619Z
LAST-MODIFIED:20210914T204619Z
UID:29055-1635066000-1635066000@stpaulbr.org
SUMMARY:9:00 am Religious Ed. Classes
DESCRIPTION: 
URL:https://stpaulbr.org/event/900-am-religious-ed-classes-4/
END:VEVENT
BEGIN:VEVENT
DTSTART;TZID=America/Chicago:20211024T073000
DTEND;TZID=America/Chicago:20211024T073000
DTSTAMP:20260424T233632
CREATED:20210914T204530Z
LAST-MODIFIED:20210914T204530Z
UID:29053-1635060600-1635060600@stpaulbr.org
SUMMARY:7:30 am Mass
DESCRIPTION: 
URL:https://stpaulbr.org/event/730-am-mass-53/
END:VEVENT
BEGIN:VEVENT
DTSTART;TZID=America/Chicago:20211021T080000
DTEND;TZID=America/Chicago:20211021T080000
DTSTAMP:20260424T233632
CREATED:20210915T174021Z
LAST-MODIFIED:20210915T174021Z
UID:29075-1634803200-1634803200@stpaulbr.org
SUMMARY:8:00 am Food Pantry
DESCRIPTION: 
URL:https://stpaulbr.org/event/800-am-food-pantry-4/
END:VEVENT
BEGIN:VEVENT
DTSTART;TZID=America/Chicago:20211020T180000
DTEND;TZID=America/Chicago:20211020T180000
DTSTAMP:20260424T233632
CREATED:20210916T202931Z
LAST-MODIFIED:20210916T202931Z
UID:29203-1634752800-1634752800@stpaulbr.org
SUMMARY:6:00 pm Pastoral Council Meeting
DESCRIPTION: 
URL:https://stpaulbr.org/event/600-pm-pastoral-council-meeting/
END:VEVENT
BEGIN:VEVENT
DTSTART;TZID=America/Chicago:20211019T093000
DTEND;TZID=America/Chicago:20211022T000000
DTSTAMP:20260424T233632
CREATED:20210915T190642Z
LAST-MODIFIED:20210915T190642Z
UID:29173-1634635800-1634860800@stpaulbr.org
SUMMARY:9:30 am Mass
DESCRIPTION: 
URL:https://stpaulbr.org/event/930-am-mass-5/
END:VEVENT
BEGIN:VEVENT
DTSTART;TZID=America/Chicago:20211017T103000
DTEND;TZID=America/Chicago:20211017T103000
DTSTAMP:20260424T233632
CREATED:20210914T204506Z
LAST-MODIFIED:20210914T204506Z
UID:29051-1634466600-1634466600@stpaulbr.org
SUMMARY:10:30 am Mass
DESCRIPTION: 
URL:https://stpaulbr.org/event/1030-am-mass-50/
END:VEVENT
END:VCALENDAR