BEGIN:VCALENDAR
VERSION:2.0
PRODID:-//St. Paul The Apostle Catholic Church - ECPv6.15.11//NONSGML v1.0//EN
CALSCALE:GREGORIAN
METHOD:PUBLISH
X-ORIGINAL-URL:https://stpaulbr.org
X-WR-CALDESC:Events for St. Paul The Apostle Catholic Church
REFRESH-INTERVAL;VALUE=DURATION:PT1H
X-Robots-Tag:noindex
X-PUBLISHED-TTL:PT1H
BEGIN:VTIMEZONE
TZID:America/Chicago
BEGIN:DAYLIGHT
TZOFFSETFROM:-0600
TZOFFSETTO:-0500
TZNAME:CDT
DTSTART:20190310T080000
END:DAYLIGHT
BEGIN:STANDARD
TZOFFSETFROM:-0500
TZOFFSETTO:-0600
TZNAME:CST
DTSTART:20191103T070000
END:STANDARD
BEGIN:DAYLIGHT
TZOFFSETFROM:-0600
TZOFFSETTO:-0500
TZNAME:CDT
DTSTART:20200308T080000
END:DAYLIGHT
BEGIN:STANDARD
TZOFFSETFROM:-0500
TZOFFSETTO:-0600
TZNAME:CST
DTSTART:20201101T070000
END:STANDARD
BEGIN:DAYLIGHT
TZOFFSETFROM:-0600
TZOFFSETTO:-0500
TZNAME:CDT
DTSTART:20210314T080000
END:DAYLIGHT
BEGIN:STANDARD
TZOFFSETFROM:-0500
TZOFFSETTO:-0600
TZNAME:CST
DTSTART:20211107T070000
END:STANDARD
BEGIN:DAYLIGHT
TZOFFSETFROM:-0600
TZOFFSETTO:-0500
TZNAME:CDT
DTSTART:20220313T080000
END:DAYLIGHT
BEGIN:STANDARD
TZOFFSETFROM:-0500
TZOFFSETTO:-0600
TZNAME:CST
DTSTART:20221106T070000
END:STANDARD
END:VTIMEZONE
BEGIN:VEVENT
DTSTART;TZID=America/Chicago:20211003T103000
DTEND;TZID=America/Chicago:20211003T103000
DTSTAMP:20260425T053449
CREATED:20210914T204033Z
LAST-MODIFIED:20210914T204033Z
UID:29038-1633257000-1633257000@stpaulbr.org
SUMMARY:10:30 am Mass
DESCRIPTION: 
URL:https://stpaulbr.org/event/1030-am-mass-48/
END:VEVENT
BEGIN:VEVENT
DTSTART;TZID=America/Chicago:20211003T090000
DTEND;TZID=America/Chicago:20211003T090000
DTSTAMP:20260425T053449
CREATED:20210914T204008Z
LAST-MODIFIED:20210914T204008Z
UID:29036-1633251600-1633251600@stpaulbr.org
SUMMARY:9:00 am Religious Ed. Classes
DESCRIPTION: 
URL:https://stpaulbr.org/event/900-am-religious-ed-classes-3/
END:VEVENT
BEGIN:VEVENT
DTSTART;TZID=America/Chicago:20211003T073000
DTEND;TZID=America/Chicago:20211003T073000
DTSTAMP:20260425T053449
CREATED:20210914T203927Z
LAST-MODIFIED:20210914T203927Z
UID:29034-1633246200-1633246200@stpaulbr.org
SUMMARY:7:30 am Mass
DESCRIPTION: 
URL:https://stpaulbr.org/event/730-am-mass-50/
END:VEVENT
BEGIN:VEVENT
DTSTART;TZID=America/Chicago:20210926T103000
DTEND;TZID=America/Chicago:20210926T103000
DTSTAMP:20260425T053449
CREATED:20210914T203441Z
LAST-MODIFIED:20210914T203441Z
UID:29026-1632652200-1632652200@stpaulbr.org
SUMMARY:10:30 am Mass
DESCRIPTION: 
URL:https://stpaulbr.org/event/1030-am-mass-45/
END:VEVENT
BEGIN:VEVENT
DTSTART;TZID=America/Chicago:20210926T090000
DTEND;TZID=America/Chicago:20210926T090000
DTSTAMP:20260425T053449
CREATED:20210914T203306Z
LAST-MODIFIED:20210914T203306Z
UID:29020-1632646800-1632646800@stpaulbr.org
SUMMARY:9:00 am Religious Ed Classes
DESCRIPTION: 
URL:https://stpaulbr.org/event/900-am-religious-ed-classes-2/
END:VEVENT
BEGIN:VEVENT
DTSTART;TZID=America/Chicago:20210926T073000
DTEND;TZID=America/Chicago:20210926T073000
DTSTAMP:20260425T053449
CREATED:20210914T203233Z
LAST-MODIFIED:20210914T203233Z
UID:29018-1632641400-1632641400@stpaulbr.org
SUMMARY:7:30 am Mass
DESCRIPTION: 
URL:https://stpaulbr.org/event/730-am-mass-47/
END:VEVENT
BEGIN:VEVENT
DTSTART;TZID=America/Chicago:20210919T103000
DTEND;TZID=America/Chicago:20210919T103000
DTSTAMP:20260425T053449
CREATED:20210914T201811Z
LAST-MODIFIED:20210914T201811Z
UID:29012-1632047400-1632047400@stpaulbr.org
SUMMARY:10:30 am Mass
DESCRIPTION: 
URL:https://stpaulbr.org/event/1030-am-mass-44/
END:VEVENT
BEGIN:VEVENT
DTSTART;TZID=America/Chicago:20210919T090000
DTEND;TZID=America/Chicago:20210919T090000
DTSTAMP:20260425T053449
CREATED:20210914T202047Z
LAST-MODIFIED:20210914T202320Z
UID:29014-1632042000-1632042000@stpaulbr.org
SUMMARY:9:00 am Religious Ed. Classes
DESCRIPTION: \n\n 
URL:https://stpaulbr.org/event/900-am-religious-ed-classes/
END:VEVENT
BEGIN:VEVENT
DTSTART;TZID=America/Chicago:20210919T073000
DTEND;TZID=America/Chicago:20210919T073000
DTSTAMP:20260425T053449
CREATED:20210914T201526Z
LAST-MODIFIED:20210914T201526Z
UID:29010-1632036600-1632036600@stpaulbr.org
SUMMARY:7:30 am Mass
DESCRIPTION: 
URL:https://stpaulbr.org/event/730-am-mass-46/
END:VEVENT
BEGIN:VEVENT
DTSTART;TZID=America/Chicago:20210916T080000
DTEND;TZID=America/Chicago:20210916T080000
DTSTAMP:20260425T053449
CREATED:20210915T173058Z
LAST-MODIFIED:20210915T180404Z
UID:29070-1631779200-1631779200@stpaulbr.org
SUMMARY:8:00 am Food Pantry
DESCRIPTION: \n\n 
URL:https://stpaulbr.org/event/800-am-food-pantry-2/
END:VEVENT
BEGIN:VEVENT
DTSTART;TZID=America/Chicago:20210912T103000
DTEND;TZID=America/Chicago:20210912T103000
DTSTAMP:20260425T053449
CREATED:20210914T203553Z
LAST-MODIFIED:20210914T203553Z
UID:29028-1631442600-1631442600@stpaulbr.org
SUMMARY:10:30 am Mass
DESCRIPTION: 
URL:https://stpaulbr.org/event/1030-am-mass-46/
END:VEVENT
BEGIN:VEVENT
DTSTART;TZID=America/Chicago:20210912T093000
DTEND;TZID=America/Chicago:20210912T093000
DTSTAMP:20260425T053449
CREATED:20210914T203411Z
LAST-MODIFIED:20210914T203411Z
UID:29024-1631439000-1631439000@stpaulbr.org
SUMMARY:9:30 Religious Ed Meet & Greet
DESCRIPTION: 
URL:https://stpaulbr.org/event/930-religious-ed-meet-greet-2/
END:VEVENT
BEGIN:VEVENT
DTSTART;TZID=America/Chicago:20210912T073000
DTEND;TZID=America/Chicago:20210912T073000
DTSTAMP:20260425T053449
CREATED:20210914T203343Z
LAST-MODIFIED:20210914T203343Z
UID:29022-1631431800-1631431800@stpaulbr.org
SUMMARY:7:30 am Mass
DESCRIPTION: 
URL:https://stpaulbr.org/event/730-am-mass-48/
END:VEVENT
BEGIN:VEVENT
DTSTART;TZID=America/Chicago:20210905T103000
DTEND;TZID=America/Chicago:20210905T103000
DTSTAMP:20260425T053449
CREATED:20210914T203647Z
LAST-MODIFIED:20210914T203647Z
UID:29032-1630837800-1630837800@stpaulbr.org
SUMMARY:10:30 am Mass
DESCRIPTION: 
URL:https://stpaulbr.org/event/1030-am-mass-47/
END:VEVENT
BEGIN:VEVENT
DTSTART;TZID=America/Chicago:20210905T073000
DTEND;TZID=America/Chicago:20210905T073000
DTSTAMP:20260425T053449
CREATED:20210914T203617Z
LAST-MODIFIED:20210914T203617Z
UID:29030-1630827000-1630827000@stpaulbr.org
SUMMARY:7:30 am Mass
DESCRIPTION: 
URL:https://stpaulbr.org/event/730-am-mass-49/
END:VEVENT
BEGIN:VEVENT
DTSTART;TZID=America/Chicago:20210902T080000
DTEND;TZID=America/Chicago:20210902T080000
DTSTAMP:20260425T053449
CREATED:20210915T181200Z
LAST-MODIFIED:20210915T181200Z
UID:29085-1630569600-1630569600@stpaulbr.org
SUMMARY:8:00 am Food Pantry
DESCRIPTION: 
URL:https://stpaulbr.org/event/800-am-food-pantry/
END:VEVENT
BEGIN:VEVENT
DTSTART;TZID=America/Chicago:20200920T000000
DTEND;TZID=America/Chicago:20200920T000000
DTSTAMP:20260425T053449
CREATED:20200729T193542Z
LAST-MODIFIED:20200729T193806Z
UID:28673-1600560000-1600560000@stpaulbr.org
SUMMARY:Religious Ed. Classes via Zoom
DESCRIPTION: \n\n 
URL:https://stpaulbr.org/event/religious-ed-classes/
END:VEVENT
BEGIN:VEVENT
DTSTART;TZID=America/Chicago:20200913T093000
DTEND;TZID=America/Chicago:20200913T093000
DTSTAMP:20260425T053449
CREATED:20200729T183909Z
LAST-MODIFIED:20200729T184049Z
UID:28659-1599989400-1599989400@stpaulbr.org
SUMMARY:9:30 am Religious Ed. Meet & Greet via Zoom
DESCRIPTION: \n\n 
URL:https://stpaulbr.org/event/930-am-religious-ed-meet-greet/
END:VEVENT
BEGIN:VEVENT
DTSTART;TZID=America/Chicago:20200830T180000
DTEND;TZID=America/Chicago:20200830T180000
DTSTAMP:20260425T053449
CREATED:20200729T180011Z
LAST-MODIFIED:20200729T180011Z
UID:28630-1598810400-1598810400@stpaulbr.org
SUMMARY:6 pm Prayer Call-Rosary 701-802-5490 - Access Code 878800#
DESCRIPTION: 
URL:https://stpaulbr.org/event/6-pm-prayer-call-rosary-701-802-5490-access-code-878800-5/
END:VEVENT
BEGIN:VEVENT
DTSTART;TZID=America/Chicago:20200830T103000
DTEND;TZID=America/Chicago:20200830T103000
DTSTAMP:20260425T053449
CREATED:20200729T181728Z
LAST-MODIFIED:20200729T181728Z
UID:28647-1598783400-1598783400@stpaulbr.org
SUMMARY:10:30 am Mass - On Facebook Live
DESCRIPTION: 
URL:https://stpaulbr.org/event/1030-am-mass-on-facebook-live-5/
END:VEVENT
BEGIN:VEVENT
DTSTART;TZID=America/Chicago:20200830T103000
DTEND;TZID=America/Chicago:20200830T103000
DTSTAMP:20260425T053449
CREATED:20200729T180556Z
LAST-MODIFIED:20200729T180556Z
UID:28638-1598783400-1598783400@stpaulbr.org
SUMMARY:10:30 am Mass
DESCRIPTION: 
URL:https://stpaulbr.org/event/1030-am-mass-43/
END:VEVENT
BEGIN:VEVENT
DTSTART;TZID=America/Chicago:20200826T180000
DTEND;TZID=America/Chicago:20200826T180000
DTSTAMP:20260425T053449
CREATED:20200729T175121Z
LAST-MODIFIED:20200729T175121Z
UID:28621-1598464800-1598464800@stpaulbr.org
SUMMARY:6 pm Bible Study Conference Call 978-990-5317-Access Code 1966852#
DESCRIPTION: 
URL:https://stpaulbr.org/event/6-pm-bible-study-conference-call-978-990-5317-access-code-1966852-4/
END:VEVENT
BEGIN:VEVENT
DTSTART;TZID=America/Chicago:20200823T180000
DTEND;TZID=America/Chicago:20200823T180000
DTSTAMP:20260425T053449
CREATED:20200729T175607Z
LAST-MODIFIED:20200729T175629Z
UID:28625-1598205600-1598205600@stpaulbr.org
SUMMARY:6 pm Prayer Call-Rosary 701-802-5490 - Access Code 878800#
DESCRIPTION: \n\n 
URL:https://stpaulbr.org/event/6-pm-prayer-call-rosary-701-802-5490-access-code-878800-3/
END:VEVENT
BEGIN:VEVENT
DTSTART;TZID=America/Chicago:20200823T103000
DTEND;TZID=America/Chicago:20200823T103000
DTSTAMP:20260425T053449
CREATED:20200729T181113Z
LAST-MODIFIED:20200729T181113Z
UID:28644-1598178600-1598178600@stpaulbr.org
SUMMARY:10:30 am Mass - On Facebook Live
DESCRIPTION: 
URL:https://stpaulbr.org/event/1030-am-mass-on-facebook-live-4/
END:VEVENT
BEGIN:VEVENT
DTSTART;TZID=America/Chicago:20200823T103000
DTEND;TZID=America/Chicago:20200823T103000
DTSTAMP:20260425T053449
CREATED:20200729T180525Z
LAST-MODIFIED:20200729T180525Z
UID:28636-1598178600-1598178600@stpaulbr.org
SUMMARY:10:30 am Mass
DESCRIPTION: 
URL:https://stpaulbr.org/event/1030-am-mass-42/
END:VEVENT
BEGIN:VEVENT
DTSTART;TZID=America/Chicago:20200820T080000
DTEND;TZID=America/Chicago:20200820T080000
DTSTAMP:20260425T053449
CREATED:20200729T192945Z
LAST-MODIFIED:20200729T192945Z
UID:28666-1597910400-1597910400@stpaulbr.org
SUMMARY:8 am Food Pantry
DESCRIPTION: 
URL:https://stpaulbr.org/event/8-am-food-pantry-8/
END:VEVENT
BEGIN:VEVENT
DTSTART;TZID=America/Chicago:20200819T180000
DTEND;TZID=America/Chicago:20200819T180000
DTSTAMP:20260425T053449
CREATED:20200729T175025Z
LAST-MODIFIED:20200729T175025Z
UID:28619-1597860000-1597860000@stpaulbr.org
SUMMARY:6 pm Bible Study Conference Call 978-990-5317-Access Code 1966852#
DESCRIPTION: 
URL:https://stpaulbr.org/event/6-pm-bible-study-conference-call-978-990-5317-access-code-1966852-3/
END:VEVENT
BEGIN:VEVENT
DTSTART;TZID=America/Chicago:20200816T180000
DTEND;TZID=America/Chicago:20200816T180000
DTSTAMP:20260425T053449
CREATED:20200729T175813Z
LAST-MODIFIED:20200729T175813Z
UID:28628-1597600800-1597600800@stpaulbr.org
SUMMARY:6 pm Prayer Call-Rosary 701-802-5490 - Access Code 878800#
DESCRIPTION: 
URL:https://stpaulbr.org/event/6-pm-prayer-call-rosary-701-802-5490-access-code-878800-4/
END:VEVENT
BEGIN:VEVENT
DTSTART;TZID=America/Chicago:20200816T103000
DTEND;TZID=America/Chicago:20200816T103000
DTSTAMP:20260425T053449
CREATED:20200729T181015Z
LAST-MODIFIED:20200729T181015Z
UID:28642-1597573800-1597573800@stpaulbr.org
SUMMARY:10:30 am Mass - On Facebook Live
DESCRIPTION: 
URL:https://stpaulbr.org/event/1030-am-mass-on-facebook-live-3/
END:VEVENT
BEGIN:VEVENT
DTSTART;TZID=America/Chicago:20200816T103000
DTEND;TZID=America/Chicago:20200816T103000
DTSTAMP:20260425T053449
CREATED:20200729T180345Z
LAST-MODIFIED:20200729T180345Z
UID:28634-1597573800-1597573800@stpaulbr.org
SUMMARY:10:30 am Mass
DESCRIPTION: 
URL:https://stpaulbr.org/event/1030-am-mass-41/
END:VEVENT
END:VCALENDAR