BEGIN:VCALENDAR
VERSION:2.0
PRODID:-//St. Paul The Apostle Catholic Church - ECPv6.15.11//NONSGML v1.0//EN
CALSCALE:GREGORIAN
METHOD:PUBLISH
X-ORIGINAL-URL:https://stpaulbr.org
X-WR-CALDESC:Events for St. Paul The Apostle Catholic Church
REFRESH-INTERVAL;VALUE=DURATION:PT1H
X-Robots-Tag:noindex
X-PUBLISHED-TTL:PT1H
BEGIN:VTIMEZONE
TZID:America/Chicago
BEGIN:DAYLIGHT
TZOFFSETFROM:-0600
TZOFFSETTO:-0500
TZNAME:CDT
DTSTART:20230312T080000
END:DAYLIGHT
BEGIN:STANDARD
TZOFFSETFROM:-0500
TZOFFSETTO:-0600
TZNAME:CST
DTSTART:20231105T070000
END:STANDARD
BEGIN:DAYLIGHT
TZOFFSETFROM:-0600
TZOFFSETTO:-0500
TZNAME:CDT
DTSTART:20240310T080000
END:DAYLIGHT
BEGIN:STANDARD
TZOFFSETFROM:-0500
TZOFFSETTO:-0600
TZNAME:CST
DTSTART:20241103T070000
END:STANDARD
BEGIN:DAYLIGHT
TZOFFSETFROM:-0600
TZOFFSETTO:-0500
TZNAME:CDT
DTSTART:20250309T080000
END:DAYLIGHT
BEGIN:STANDARD
TZOFFSETFROM:-0500
TZOFFSETTO:-0600
TZNAME:CST
DTSTART:20251102T070000
END:STANDARD
END:VTIMEZONE
BEGIN:VEVENT
DTSTART;TZID=America/Chicago:20240406T140000
DTEND;TZID=America/Chicago:20240406T203000
DTSTAMP:20260423T140527
CREATED:20240313T202514Z
LAST-MODIFIED:20240313T202514Z
UID:30217-1712412000-1712435400@stpaulbr.org
SUMMARY:10am-4:30pm Directory Photo Shoot
DESCRIPTION:
URL:https://stpaulbr.org/event/10am-430pm-directory-photo-shoot/
END:VEVENT
BEGIN:VEVENT
DTSTART;TZID=America/Chicago:20240405T140000
DTEND;TZID=America/Chicago:20240405T203000
DTSTAMP:20260423T140527
CREATED:20240313T202430Z
LAST-MODIFIED:20240313T202430Z
UID:30215-1712325600-1712349000@stpaulbr.org
SUMMARY:2pm-8:30pm Directory Photo Shoot
DESCRIPTION:
URL:https://stpaulbr.org/event/2pm-830pm-directory-photo-shoot-2/
END:VEVENT
BEGIN:VEVENT
DTSTART;TZID=America/Chicago:20240404T140000
DTEND;TZID=America/Chicago:20240404T203000
DTSTAMP:20260423T140527
CREATED:20240313T202348Z
LAST-MODIFIED:20240313T202348Z
UID:30213-1712239200-1712262600@stpaulbr.org
SUMMARY:2pm-8:30pm Directory Photo Shoot
DESCRIPTION:
URL:https://stpaulbr.org/event/2pm-830pm-directory-photo-shoot/
END:VEVENT
BEGIN:VEVENT
DTSTART;TZID=America/Chicago:20240403T140000
DTEND;TZID=America/Chicago:20240403T203000
DTSTAMP:20260423T140527
CREATED:20240313T202153Z
LAST-MODIFIED:20240313T202257Z
UID:30210-1712152800-1712176200@stpaulbr.org
SUMMARY:2pm-8:30pm Directory Photo Shoot
DESCRIPTION:
URL:https://stpaulbr.org/event/2-830pm-directory-photo-shoot/
END:VEVENT
BEGIN:VEVENT
DTSTART;TZID=America/Chicago:20240402T080000
DTEND;TZID=America/Chicago:20240405T000000
DTSTAMP:20260423T140527
CREATED:20240313T204011Z
LAST-MODIFIED:20240313T204011Z
UID:30242-1712044800-1712275200@stpaulbr.org
SUMMARY:8am Mass
DESCRIPTION:
URL:https://stpaulbr.org/event/8am-mass-24/
END:VEVENT
BEGIN:VEVENT
DTSTART;TZID=America/Chicago:20240331T104500
DTEND;TZID=America/Chicago:20240331T104500
DTSTAMP:20260423T140527
CREATED:20240313T200635Z
LAST-MODIFIED:20240313T200635Z
UID:30201-1711881900-1711881900@stpaulbr.org
SUMMARY:10:45am Easter Egg Hunt
DESCRIPTION:
URL:https://stpaulbr.org/event/1045am-easter-egg-hunt/
END:VEVENT
BEGIN:VEVENT
DTSTART;TZID=America/Chicago:20240331T093000
DTEND;TZID=America/Chicago:20240331T093000
DTSTAMP:20260423T140527
CREATED:20240313T200505Z
LAST-MODIFIED:20240313T200533Z
UID:30198-1711877400-1711877400@stpaulbr.org
SUMMARY:9:30am Easter Sunday Mass
DESCRIPTION:
URL:https://stpaulbr.org/event/930-easter-sunday-mass/
END:VEVENT
BEGIN:VEVENT
DTSTART;TZID=America/Chicago:20240330T200000
DTEND;TZID=America/Chicago:20240330T200000
DTSTAMP:20260423T140527
CREATED:20240313T200836Z
LAST-MODIFIED:20240313T200903Z
UID:30203-1711828800-1711828800@stpaulbr.org
SUMMARY:8:00pm Easter Vigil
DESCRIPTION:
URL:https://stpaulbr.org/event/800pm-easter-vigil/
END:VEVENT
BEGIN:VEVENT
DTSTART;TZID=America/Chicago:20240329T143000
DTEND;TZID=America/Chicago:20240329T143000
DTSTAMP:20260423T140527
CREATED:20240313T200306Z
LAST-MODIFIED:20240313T200306Z
UID:30194-1711722600-1711722600@stpaulbr.org
SUMMARY:2:30pm Youth Stations of the Cross
DESCRIPTION:
URL:https://stpaulbr.org/event/230pm-youth-stations-of-the-cross/
END:VEVENT
BEGIN:VEVENT
DTSTART;TZID=America/Chicago:20240329T140000
DTEND;TZID=America/Chicago:20240329T140000
DTSTAMP:20260423T140527
CREATED:20240313T200224Z
LAST-MODIFIED:20240313T200224Z
UID:30192-1711720800-1711720800@stpaulbr.org
SUMMARY:2pm Altar Servers Practice for Vigil Mass
DESCRIPTION:
URL:https://stpaulbr.org/event/2pm-altar-servers-practice-for-vigil-mass/
END:VEVENT
BEGIN:VEVENT
DTSTART;TZID=America/Chicago:20240329T130000
DTEND;TZID=America/Chicago:20240329T130000
DTSTAMP:20260423T140527
CREATED:20240313T200123Z
LAST-MODIFIED:20240313T200123Z
UID:30190-1711717200-1711717200@stpaulbr.org
SUMMARY:1pm Lector Practice for Vigil Mass
DESCRIPTION:
URL:https://stpaulbr.org/event/1pm-lector-practice-for-vigil-mass/
END:VEVENT
BEGIN:VEVENT
DTSTART;TZID=America/Chicago:20240328T073000
DTEND;TZID=America/Chicago:20240328T073000
DTSTAMP:20260423T140527
CREATED:20240313T203018Z
LAST-MODIFIED:20240314T173905Z
UID:30228-1711611000-1711611000@stpaulbr.org
SUMMARY:6:30pm The Lord's Supper
DESCRIPTION:
URL:https://stpaulbr.org/event/730am-mass-8/
END:VEVENT
BEGIN:VEVENT
DTSTART;TZID=America/Chicago:20240327T183000
DTEND;TZID=America/Chicago:20240327T183000
DTSTAMP:20260423T140527
CREATED:20240313T195854Z
LAST-MODIFIED:20240313T195854Z
UID:30188-1711564200-1711564200@stpaulbr.org
SUMMARY:6:30pm Washing of Feet Practice
DESCRIPTION:
URL:https://stpaulbr.org/event/630pm-washing-of-feet-practice/
END:VEVENT
BEGIN:VEVENT
DTSTART;TZID=America/Chicago:20240327T180000
DTEND;TZID=America/Chicago:20240327T180000
DTSTAMP:20260423T140527
CREATED:20240313T195746Z
LAST-MODIFIED:20240313T195746Z
UID:30186-1711562400-1711562400@stpaulbr.org
SUMMARY:6pm Altar Servers Practice for Holy Thursday
DESCRIPTION:
URL:https://stpaulbr.org/event/6pm-altar-servers-practice-for-holy-thursday/
END:VEVENT
BEGIN:VEVENT
DTSTART;TZID=America/Chicago:20240326T080000
DTEND;TZID=America/Chicago:20240329T000000
DTSTAMP:20260423T140527
CREATED:20240313T204912Z
LAST-MODIFIED:20240313T204912Z
UID:30258-1711440000-1711670400@stpaulbr.org
SUMMARY:8am Mass
DESCRIPTION:
URL:https://stpaulbr.org/event/8am-mass-32/
END:VEVENT
BEGIN:VEVENT
DTSTART;TZID=America/Chicago:20240324T114500
DTEND;TZID=America/Chicago:20240324T114500
DTSTAMP:20260423T140527
CREATED:20240313T195402Z
LAST-MODIFIED:20240313T195440Z
UID:30181-1711280700-1711280700@stpaulbr.org
SUMMARY:11:45 am KPC Jr. Daughters Mtg.
DESCRIPTION:
URL:https://stpaulbr.org/event/1145-am-kpc-jr-daughter-mtg/
END:VEVENT
BEGIN:VEVENT
DTSTART;TZID=America/Chicago:20240324T073000
DTEND;TZID=America/Chicago:20240324T103000
DTSTAMP:20260423T140527
CREATED:20240313T203632Z
LAST-MODIFIED:20240313T203632Z
UID:30238-1711265400-1711276200@stpaulbr.org
SUMMARY:7:30am & 10:30am Mass
DESCRIPTION:
URL:https://stpaulbr.org/event/730am-1030am-mass-5/
END:VEVENT
BEGIN:VEVENT
DTSTART;TZID=America/Chicago:20240324T000000
DTEND;TZID=America/Chicago:20240324T000000
DTSTAMP:20260423T140527
CREATED:20240313T195532Z
LAST-MODIFIED:20240313T195532Z
UID:30184-1711238400-1711238400@stpaulbr.org
SUMMARY:Palm Sunday
DESCRIPTION:
URL:https://stpaulbr.org/event/palm-sunday-2/
END:VEVENT
BEGIN:VEVENT
DTSTART;TZID=America/Chicago:20240322T080000
DTEND;TZID=America/Chicago:20240322T130000
DTSTAMP:20260423T140527
CREATED:20240313T200424Z
LAST-MODIFIED:20240313T200424Z
UID:30196-1711094400-1711112400@stpaulbr.org
SUMMARY:8am-1pm Fish Fry
DESCRIPTION:
URL:https://stpaulbr.org/event/8am-1pm-fish-fry-2/
END:VEVENT
BEGIN:VEVENT
DTSTART;TZID=America/Chicago:20240321T180000
DTEND;TZID=America/Chicago:20240321T180000
DTSTAMP:20260423T140527
CREATED:20240313T194959Z
LAST-MODIFIED:20240313T194959Z
UID:30176-1711044000-1711044000@stpaulbr.org
SUMMARY:6pm Confession
DESCRIPTION:
URL:https://stpaulbr.org/event/6pm-confession/
END:VEVENT
BEGIN:VEVENT
DTSTART;TZID=America/Chicago:20240321T173000
DTEND;TZID=America/Chicago:20240321T173000
DTSTAMP:20260423T140527
CREATED:20240313T194838Z
LAST-MODIFIED:20240313T194916Z
UID:30173-1711042200-1711042200@stpaulbr.org
SUMMARY:5:30pm Prayer Service
DESCRIPTION:
URL:https://stpaulbr.org/event/530-prayer-service/
END:VEVENT
BEGIN:VEVENT
DTSTART;TZID=America/Chicago:20240319T080000
DTEND;TZID=America/Chicago:20240322T000000
DTSTAMP:20260423T140527
CREATED:20240313T204845Z
LAST-MODIFIED:20240313T204845Z
UID:30256-1710835200-1711065600@stpaulbr.org
SUMMARY:8am Mass
DESCRIPTION:
URL:https://stpaulbr.org/event/8am-mass-31/
END:VEVENT
BEGIN:VEVENT
DTSTART;TZID=America/Chicago:20240317T073000
DTEND;TZID=America/Chicago:20240317T103000
DTSTAMP:20260423T140527
CREATED:20240313T201036Z
LAST-MODIFIED:20240313T201855Z
UID:30205-1710660600-1710671400@stpaulbr.org
SUMMARY:7:30am & 10:30am Mass-Blessing of Eucharistic Ministers
DESCRIPTION:
URL:https://stpaulbr.org/event/730am-1030am-mass/
END:VEVENT
BEGIN:VEVENT
DTSTART;TZID=America/Chicago:20240317T000000
DTEND;TZID=America/Chicago:20240317T000000
DTSTAMP:20260423T140527
CREATED:20240313T195224Z
LAST-MODIFIED:20240313T195224Z
UID:30179-1710633600-1710633600@stpaulbr.org
SUMMARY:St. Joseph's Altar
DESCRIPTION:
URL:https://stpaulbr.org/event/st-josephs-altar-2/
END:VEVENT
BEGIN:VEVENT
DTSTART;TZID=America/Chicago:20240315T080000
DTEND;TZID=America/Chicago:20240315T130000
DTSTAMP:20260423T140527
CREATED:20240313T205342Z
LAST-MODIFIED:20240313T205342Z
UID:30268-1710489600-1710507600@stpaulbr.org
SUMMARY:8am-1pm Fish Fry
DESCRIPTION:
URL:https://stpaulbr.org/event/8am-1pm-fish-fry-3/
END:VEVENT
BEGIN:VEVENT
DTSTART;TZID=America/Chicago:20240315T080000
DTEND;TZID=America/Chicago:20240315T130000
DTSTAMP:20260423T140527
CREATED:20240313T194503Z
LAST-MODIFIED:20240313T194541Z
UID:30167-1710489600-1710507600@stpaulbr.org
SUMMARY:8am-1pm Fish Fry
DESCRIPTION:
URL:https://stpaulbr.org/event/fish-fry/
END:VEVENT
BEGIN:VEVENT
DTSTART;TZID=America/Chicago:20240313T080000
DTEND;TZID=America/Chicago:20240313T170000
DTSTAMP:20260423T140527
CREATED:20240313T194331Z
LAST-MODIFIED:20240313T194331Z
UID:30165-1710316800-1710349200@stpaulbr.org
SUMMARY:6pm Finance Council Mtg.
DESCRIPTION:
URL:https://stpaulbr.org/event/6pm-finance-council-mtg/
END:VEVENT
BEGIN:VEVENT
DTSTART;TZID=America/Chicago:20240312T180000
DTEND;TZID=America/Chicago:20240312T180000
DTSTAMP:20260423T140527
CREATED:20240313T205303Z
LAST-MODIFIED:20240313T205303Z
UID:30266-1710266400-1710266400@stpaulbr.org
SUMMARY:6pm Ushers Mtg.
DESCRIPTION:
URL:https://stpaulbr.org/event/6pm-ushers-mtg/
END:VEVENT
BEGIN:VEVENT
DTSTART;TZID=America/Chicago:20240312T080000
DTEND;TZID=America/Chicago:20240315T000000
DTSTAMP:20260423T140527
CREATED:20240313T204809Z
LAST-MODIFIED:20240313T204809Z
UID:30254-1710230400-1710460800@stpaulbr.org
SUMMARY:8am Mass
DESCRIPTION:
URL:https://stpaulbr.org/event/8am-mass-30/
END:VEVENT
BEGIN:VEVENT
DTSTART;TZID=America/Chicago:20240310T073000
DTEND;TZID=America/Chicago:20240310T103000
DTSTAMP:20260423T140527
CREATED:20240313T205054Z
LAST-MODIFIED:20240313T205054Z
UID:30260-1710055800-1710066600@stpaulbr.org
SUMMARY:7:30am & 10:30 am Mass
DESCRIPTION:
URL:https://stpaulbr.org/event/730am-1030-am-mass/
END:VEVENT
END:VCALENDAR