BEGIN:VCALENDAR
VERSION:2.0
PRODID:-//St. Paul The Apostle Catholic Church - ECPv6.15.11//NONSGML v1.0//EN
CALSCALE:GREGORIAN
METHOD:PUBLISH
X-WR-CALNAME:St. Paul The Apostle Catholic Church
X-ORIGINAL-URL:https://stpaulbr.org
X-WR-CALDESC:Events for St. Paul The Apostle Catholic Church
REFRESH-INTERVAL;VALUE=DURATION:PT1H
X-Robots-Tag:noindex
X-PUBLISHED-TTL:PT1H
BEGIN:VTIMEZONE
TZID:America/Chicago
BEGIN:DAYLIGHT
TZOFFSETFROM:-0600
TZOFFSETTO:-0500
TZNAME:CDT
DTSTART:20190310T080000
END:DAYLIGHT
BEGIN:STANDARD
TZOFFSETFROM:-0500
TZOFFSETTO:-0600
TZNAME:CST
DTSTART:20191103T070000
END:STANDARD
BEGIN:DAYLIGHT
TZOFFSETFROM:-0600
TZOFFSETTO:-0500
TZNAME:CDT
DTSTART:20200308T080000
END:DAYLIGHT
BEGIN:STANDARD
TZOFFSETFROM:-0500
TZOFFSETTO:-0600
TZNAME:CST
DTSTART:20201101T070000
END:STANDARD
BEGIN:DAYLIGHT
TZOFFSETFROM:-0600
TZOFFSETTO:-0500
TZNAME:CDT
DTSTART:20210314T080000
END:DAYLIGHT
BEGIN:STANDARD
TZOFFSETFROM:-0500
TZOFFSETTO:-0600
TZNAME:CST
DTSTART:20211107T070000
END:STANDARD
END:VTIMEZONE
BEGIN:VEVENT
DTSTART;TZID=America/Chicago:20200802T103000
DTEND;TZID=America/Chicago:20200802T103000
DTSTAMP:20260425T112003
CREATED:20200729T162221Z
LAST-MODIFIED:20200729T162221Z
UID:28598-1596364200-1596364200@stpaulbr.org
SUMMARY:10:30 am Mass - On Facebook Live
DESCRIPTION: 
URL:https://stpaulbr.org/event/1030-am-mass-on-facebook-live/
END:VEVENT
BEGIN:VEVENT
DTSTART;TZID=America/Chicago:20200802T103000
DTEND;TZID=America/Chicago:20200802T103000
DTSTAMP:20260425T112003
CREATED:20200729T162023Z
LAST-MODIFIED:20200729T162023Z
UID:28596-1596364200-1596364200@stpaulbr.org
SUMMARY:10:30 am Mass
DESCRIPTION:
URL:https://stpaulbr.org/event/1030-am-mass-39/
END:VEVENT
BEGIN:VEVENT
DTSTART;TZID=America/Chicago:20200802T000000
DTEND;TZID=America/Chicago:20200802T000000
DTSTAMP:20260425T112003
CREATED:20200729T193229Z
LAST-MODIFIED:20200729T193229Z
UID:28669-1596326400-1596326400@stpaulbr.org
SUMMARY:Religious Ed. Registration
DESCRIPTION: 
URL:https://stpaulbr.org/event/religious-ed-registration-2/
END:VEVENT
BEGIN:VEVENT
DTSTART;TZID=America/Chicago:20200331T180000
DTEND;TZID=America/Chicago:20200331T180000
DTSTAMP:20260425T112003
CREATED:20200213T175210Z
LAST-MODIFIED:20200213T175210Z
UID:28495-1585677600-1585677600@stpaulbr.org
SUMMARY:6 pm Liturgical Dance Practice
DESCRIPTION: 
URL:https://stpaulbr.org/event/6-pm-liturgical-dance-practice-47/
END:VEVENT
BEGIN:VEVENT
DTSTART;TZID=America/Chicago:20200331T180000
DTEND;TZID=America/Chicago:20200331T180000
DTSTAMP:20260425T112003
CREATED:20200213T175044Z
LAST-MODIFIED:20200213T175044Z
UID:28493-1585677600-1585677600@stpaulbr.org
SUMMARY:6 pm RCIA
DESCRIPTION: 
URL:https://stpaulbr.org/event/6-pm-rcia-7/
END:VEVENT
BEGIN:VEVENT
DTSTART;TZID=America/Chicago:20200331T080000
DTEND;TZID=America/Chicago:20200331T080000
DTSTAMP:20260425T112003
CREATED:20200213T174956Z
LAST-MODIFIED:20200213T174956Z
UID:28491-1585641600-1585641600@stpaulbr.org
SUMMARY:8 am Mass
DESCRIPTION: 
URL:https://stpaulbr.org/event/8-am-mass-141/
END:VEVENT
BEGIN:VEVENT
DTSTART;TZID=America/Chicago:20200329T103000
DTEND;TZID=America/Chicago:20200329T103000
DTSTAMP:20260425T112003
CREATED:20200213T174855Z
LAST-MODIFIED:20200213T174855Z
UID:28489-1585477800-1585477800@stpaulbr.org
SUMMARY:10:30 am Mass
DESCRIPTION: 
URL:https://stpaulbr.org/event/1030-am-mass-38/
END:VEVENT
BEGIN:VEVENT
DTSTART;TZID=America/Chicago:20200329T090000
DTEND;TZID=America/Chicago:20200329T090000
DTSTAMP:20260425T112003
CREATED:20200213T174809Z
LAST-MODIFIED:20200213T174809Z
UID:28487-1585472400-1585472400@stpaulbr.org
SUMMARY:9 am Religious Ed Classes
DESCRIPTION: 
URL:https://stpaulbr.org/event/9-am-religious-ed-classes-22/
END:VEVENT
BEGIN:VEVENT
DTSTART;TZID=America/Chicago:20200329T073000
DTEND;TZID=America/Chicago:20200329T073000
DTSTAMP:20260425T112003
CREATED:20200213T174630Z
LAST-MODIFIED:20200213T174723Z
UID:28484-1585467000-1585467000@stpaulbr.org
SUMMARY:7:30 am Mass - Ladies Guild Turn Out
DESCRIPTION: \n\n 
URL:https://stpaulbr.org/event/730-am-mass-44/
END:VEVENT
BEGIN:VEVENT
DTSTART;TZID=America/Chicago:20200328T120000
DTEND;TZID=America/Chicago:20200328T120000
DTSTAMP:20260425T112003
CREATED:20200213T174546Z
LAST-MODIFIED:20200213T174546Z
UID:28482-1585396800-1585396800@stpaulbr.org
SUMMARY:12 pm Youth Choir Rehearsal
DESCRIPTION: 
URL:https://stpaulbr.org/event/12-pm-youth-choir-rehearsal-42/
END:VEVENT
BEGIN:VEVENT
DTSTART;TZID=America/Chicago:20200327T180000
DTEND;TZID=America/Chicago:20200327T180000
DTSTAMP:20260425T112003
CREATED:20200213T174456Z
LAST-MODIFIED:20200213T174456Z
UID:28480-1585332000-1585332000@stpaulbr.org
SUMMARY:6 pm Stations of the Cross
DESCRIPTION: 
URL:https://stpaulbr.org/event/6-pm-stations-of-the-cross-8/
END:VEVENT
BEGIN:VEVENT
DTSTART;TZID=America/Chicago:20200327T080000
DTEND;TZID=America/Chicago:20200327T130000
DTSTAMP:20260425T112003
CREATED:20200213T174354Z
LAST-MODIFIED:20200213T174354Z
UID:28478-1585296000-1585314000@stpaulbr.org
SUMMARY:8 am - 1 pm Fish Fry
DESCRIPTION: 
URL:https://stpaulbr.org/event/8-am-1-pm-fish-fry-7/
END:VEVENT
BEGIN:VEVENT
DTSTART;TZID=America/Chicago:20200327T080000
DTEND;TZID=America/Chicago:20200327T080000
DTSTAMP:20260425T112003
CREATED:20200213T174300Z
LAST-MODIFIED:20200213T174300Z
UID:28476-1585296000-1585296000@stpaulbr.org
SUMMARY:8 am Mass
DESCRIPTION: 
URL:https://stpaulbr.org/event/8-am-mass-140/
END:VEVENT
BEGIN:VEVENT
DTSTART;TZID=America/Chicago:20200326T190000
DTEND;TZID=America/Chicago:20200326T190000
DTSTAMP:20260425T112003
CREATED:20200213T174220Z
LAST-MODIFIED:20200213T174220Z
UID:28474-1585249200-1585249200@stpaulbr.org
SUMMARY:7 pm Rehearsal for 10:30 Choir
DESCRIPTION: 
URL:https://stpaulbr.org/event/7-pm-rehearsal-for-1030-choir-57/
END:VEVENT
BEGIN:VEVENT
DTSTART;TZID=America/Chicago:20200326T080000
DTEND;TZID=America/Chicago:20200326T080000
DTSTAMP:20260425T112003
CREATED:20200213T174114Z
LAST-MODIFIED:20200213T174114Z
UID:28472-1585209600-1585209600@stpaulbr.org
SUMMARY:8 am Fish Fry Prep
DESCRIPTION: 
URL:https://stpaulbr.org/event/8-am-fish-fry-prep-7/
END:VEVENT
BEGIN:VEVENT
DTSTART;TZID=America/Chicago:20200325T180000
DTEND;TZID=America/Chicago:20200325T180000
DTSTAMP:20260425T112003
CREATED:20200213T174019Z
LAST-MODIFIED:20200213T174019Z
UID:28470-1585159200-1585159200@stpaulbr.org
SUMMARY:6 pm Bible Study
DESCRIPTION: 
URL:https://stpaulbr.org/event/6-pm-bible-study-49/
END:VEVENT
BEGIN:VEVENT
DTSTART;TZID=America/Chicago:20200325T163000
DTEND;TZID=America/Chicago:20200325T163000
DTSTAMP:20260425T112003
CREATED:20200213T173933Z
LAST-MODIFIED:20200213T173933Z
UID:28468-1585153800-1585153800@stpaulbr.org
SUMMARY:4:30 pm Rehearsal for 7:30 Choir
DESCRIPTION: 
URL:https://stpaulbr.org/event/430-pm-rehearsal-for-730-choir-48/
END:VEVENT
BEGIN:VEVENT
DTSTART;TZID=America/Chicago:20200324T180000
DTEND;TZID=America/Chicago:20200324T180000
DTSTAMP:20260425T112003
CREATED:20200213T175743Z
LAST-MODIFIED:20200213T175743Z
UID:28499-1585072800-1585072800@stpaulbr.org
SUMMARY:6 pm RCIA
DESCRIPTION: 
URL:https://stpaulbr.org/event/6-pm-rcia-8/
END:VEVENT
BEGIN:VEVENT
DTSTART;TZID=America/Chicago:20200324T180000
DTEND;TZID=America/Chicago:20200324T180000
DTSTAMP:20260425T112003
CREATED:20200213T173830Z
LAST-MODIFIED:20200213T173830Z
UID:28466-1585072800-1585072800@stpaulbr.org
SUMMARY:6 pm Liturgical Dance Practice
DESCRIPTION: 
URL:https://stpaulbr.org/event/6-pm-liturgical-dance-practice-46/
END:VEVENT
BEGIN:VEVENT
DTSTART;TZID=America/Chicago:20200324T080000
DTEND;TZID=America/Chicago:20200325T000000
DTSTAMP:20260425T112003
CREATED:20200213T173638Z
LAST-MODIFIED:20200213T173638Z
UID:28463-1585036800-1585094400@stpaulbr.org
SUMMARY:8 am Mass
DESCRIPTION: 
URL:https://stpaulbr.org/event/8-am-mass-139/
END:VEVENT
BEGIN:VEVENT
DTSTART;TZID=America/Chicago:20200322T103000
DTEND;TZID=America/Chicago:20200322T103000
DTSTAMP:20260425T112003
CREATED:20200213T173550Z
LAST-MODIFIED:20200213T173550Z
UID:28461-1584873000-1584873000@stpaulbr.org
SUMMARY:10:30 am Mass
DESCRIPTION: 
URL:https://stpaulbr.org/event/1030-am-mass-37/
END:VEVENT
BEGIN:VEVENT
DTSTART;TZID=America/Chicago:20200322T090000
DTEND;TZID=America/Chicago:20200322T090000
DTSTAMP:20260425T112003
CREATED:20200213T173459Z
LAST-MODIFIED:20200213T173459Z
UID:28459-1584867600-1584867600@stpaulbr.org
SUMMARY:9 am Religious Ed Classes
DESCRIPTION: 
URL:https://stpaulbr.org/event/9-am-religious-ed-classes-21/
END:VEVENT
BEGIN:VEVENT
DTSTART;TZID=America/Chicago:20200322T073000
DTEND;TZID=America/Chicago:20200322T073000
DTSTAMP:20260425T112003
CREATED:20200213T173400Z
LAST-MODIFIED:20200213T173400Z
UID:28457-1584862200-1584862200@stpaulbr.org
SUMMARY:7:30 am Mass
DESCRIPTION: 
URL:https://stpaulbr.org/event/730-am-mass-43/
END:VEVENT
BEGIN:VEVENT
DTSTART;TZID=America/Chicago:20200321T120000
DTEND;TZID=America/Chicago:20200321T120000
DTSTAMP:20260425T112003
CREATED:20200213T173242Z
LAST-MODIFIED:20200213T173242Z
UID:28455-1584792000-1584792000@stpaulbr.org
SUMMARY:12 pm Youth Choir Rehearsal
DESCRIPTION: 
URL:https://stpaulbr.org/event/12-pm-youth-choir-rehearsal-41/
END:VEVENT
BEGIN:VEVENT
DTSTART;TZID=America/Chicago:20200320T180000
DTEND;TZID=America/Chicago:20200320T180000
DTSTAMP:20260425T112003
CREATED:20200213T173135Z
LAST-MODIFIED:20200213T173135Z
UID:28453-1584727200-1584727200@stpaulbr.org
SUMMARY:6 pm Stations of the Cross
DESCRIPTION: 
URL:https://stpaulbr.org/event/6-pm-stations-of-the-cross-7/
END:VEVENT
BEGIN:VEVENT
DTSTART;TZID=America/Chicago:20200320T080000
DTEND;TZID=America/Chicago:20200320T130000
DTSTAMP:20260425T112003
CREATED:20200213T173038Z
LAST-MODIFIED:20200213T173038Z
UID:28451-1584691200-1584709200@stpaulbr.org
SUMMARY:8 am - 1 pm Fish Fry
DESCRIPTION: 
URL:https://stpaulbr.org/event/8-am-1-pm-fish-fry-6/
END:VEVENT
BEGIN:VEVENT
DTSTART;TZID=America/Chicago:20200320T080000
DTEND;TZID=America/Chicago:20200320T080000
DTSTAMP:20260425T112003
CREATED:20200213T172928Z
LAST-MODIFIED:20200213T172928Z
UID:28449-1584691200-1584691200@stpaulbr.org
SUMMARY:8 am Mass
DESCRIPTION: 
URL:https://stpaulbr.org/event/8-am-mass-138/
END:VEVENT
BEGIN:VEVENT
DTSTART;TZID=America/Chicago:20200319T190000
DTEND;TZID=America/Chicago:20200319T190000
DTSTAMP:20260425T112003
CREATED:20200213T172843Z
LAST-MODIFIED:20200213T172843Z
UID:28447-1584644400-1584644400@stpaulbr.org
SUMMARY:7 pm Rehearsal for 10:30 Choir
DESCRIPTION: 
URL:https://stpaulbr.org/event/7-pm-rehearsal-for-1030-choir-56/
END:VEVENT
BEGIN:VEVENT
DTSTART;TZID=America/Chicago:20200319T080000
DTEND;TZID=America/Chicago:20200319T080000
DTSTAMP:20260425T112003
CREATED:20200213T172741Z
LAST-MODIFIED:20200213T172741Z
UID:28445-1584604800-1584604800@stpaulbr.org
SUMMARY:8 am Food Pantry Open
DESCRIPTION: 
URL:https://stpaulbr.org/event/8-am-food-pantry-open-23/
END:VEVENT
BEGIN:VEVENT
DTSTART;TZID=America/Chicago:20200319T080000
DTEND;TZID=America/Chicago:20200319T080000
DTSTAMP:20260425T112003
CREATED:20200213T172656Z
LAST-MODIFIED:20200213T172656Z
UID:28443-1584604800-1584604800@stpaulbr.org
SUMMARY:8 am Fish Fry Prep
DESCRIPTION: 
URL:https://stpaulbr.org/event/8-am-fish-fry-prep-6/
END:VEVENT
END:VCALENDAR