BEGIN:VCALENDAR
VERSION:2.0
PRODID:-//St. Paul The Apostle Catholic Church - ECPv6.15.11//NONSGML v1.0//EN
CALSCALE:GREGORIAN
METHOD:PUBLISH
X-ORIGINAL-URL:https://stpaulbr.org
X-WR-CALDESC:Events for St. Paul The Apostle Catholic Church
REFRESH-INTERVAL;VALUE=DURATION:PT1H
X-Robots-Tag:noindex
X-PUBLISHED-TTL:PT1H
BEGIN:VTIMEZONE
TZID:America/Chicago
BEGIN:DAYLIGHT
TZOFFSETFROM:-0600
TZOFFSETTO:-0500
TZNAME:CDT
DTSTART:20190310T080000
END:DAYLIGHT
BEGIN:STANDARD
TZOFFSETFROM:-0500
TZOFFSETTO:-0600
TZNAME:CST
DTSTART:20191103T070000
END:STANDARD
BEGIN:DAYLIGHT
TZOFFSETFROM:-0600
TZOFFSETTO:-0500
TZNAME:CDT
DTSTART:20200308T080000
END:DAYLIGHT
BEGIN:STANDARD
TZOFFSETFROM:-0500
TZOFFSETTO:-0600
TZNAME:CST
DTSTART:20201101T070000
END:STANDARD
BEGIN:DAYLIGHT
TZOFFSETFROM:-0600
TZOFFSETTO:-0500
TZNAME:CDT
DTSTART:20210314T080000
END:DAYLIGHT
BEGIN:STANDARD
TZOFFSETFROM:-0500
TZOFFSETTO:-0600
TZNAME:CST
DTSTART:20211107T070000
END:STANDARD
END:VTIMEZONE
BEGIN:VEVENT
DTSTART;TZID=America/Chicago:20200318T180000
DTEND;TZID=America/Chicago:20200318T180000
DTSTAMP:20260425T160220
CREATED:20200213T172612Z
LAST-MODIFIED:20200213T172612Z
UID:28441-1584554400-1584554400@stpaulbr.org
SUMMARY:6 pm Bible Study
DESCRIPTION: 
URL:https://stpaulbr.org/event/6-pm-bible-study-48/
END:VEVENT
BEGIN:VEVENT
DTSTART;TZID=America/Chicago:20200318T163000
DTEND;TZID=America/Chicago:20200318T163000
DTSTAMP:20260425T160220
CREATED:20200213T172509Z
LAST-MODIFIED:20200213T172509Z
UID:28438-1584549000-1584549000@stpaulbr.org
SUMMARY:4:30 pm Rehearsal for 7:30 Choir
DESCRIPTION: 
URL:https://stpaulbr.org/event/430-pm-rehearsal-for-730-choir-47/
END:VEVENT
BEGIN:VEVENT
DTSTART;TZID=America/Chicago:20200317T180000
DTEND;TZID=America/Chicago:20200317T180000
DTSTAMP:20260425T160220
CREATED:20200213T172347Z
LAST-MODIFIED:20200213T172347Z
UID:28436-1584468000-1584468000@stpaulbr.org
SUMMARY:6 pm Liturgical Dance Practice
DESCRIPTION: 
URL:https://stpaulbr.org/event/6-pm-liturgical-dance-practice-45/
END:VEVENT
BEGIN:VEVENT
DTSTART;TZID=America/Chicago:20200317T180000
DTEND;TZID=America/Chicago:20200317T180000
DTSTAMP:20260425T160220
CREATED:20200213T172257Z
LAST-MODIFIED:20200213T172257Z
UID:28434-1584468000-1584468000@stpaulbr.org
SUMMARY:6 pm RCIA
DESCRIPTION: 
URL:https://stpaulbr.org/event/6-pm-rcia-6/
END:VEVENT
BEGIN:VEVENT
DTSTART;TZID=America/Chicago:20200317T080000
DTEND;TZID=America/Chicago:20200318T000000
DTSTAMP:20260425T160220
CREATED:20200213T172139Z
LAST-MODIFIED:20200213T172139Z
UID:28432-1584432000-1584489600@stpaulbr.org
SUMMARY:8 am Mass
DESCRIPTION: 
URL:https://stpaulbr.org/event/8-am-mass-137/
END:VEVENT
BEGIN:VEVENT
DTSTART;TZID=America/Chicago:20200315T103000
DTEND;TZID=America/Chicago:20200315T103000
DTSTAMP:20260425T160220
CREATED:20200213T171945Z
LAST-MODIFIED:20200213T171945Z
UID:28429-1584268200-1584268200@stpaulbr.org
SUMMARY:10:30 am Mass
DESCRIPTION: 
URL:https://stpaulbr.org/event/1030-am-mass-36/
END:VEVENT
BEGIN:VEVENT
DTSTART;TZID=America/Chicago:20200315T090000
DTEND;TZID=America/Chicago:20200315T090000
DTSTAMP:20260425T160220
CREATED:20200213T171854Z
LAST-MODIFIED:20200213T171854Z
UID:28427-1584262800-1584262800@stpaulbr.org
SUMMARY:9 am Religious Ed Classes
DESCRIPTION: 
URL:https://stpaulbr.org/event/9-am-religious-ed-classes-20/
END:VEVENT
BEGIN:VEVENT
DTSTART;TZID=America/Chicago:20200315T073000
DTEND;TZID=America/Chicago:20200315T073000
DTSTAMP:20260425T160220
CREATED:20200213T171802Z
LAST-MODIFIED:20200213T171802Z
UID:28425-1584257400-1584257400@stpaulbr.org
SUMMARY:7:30 am Mass
DESCRIPTION: 
URL:https://stpaulbr.org/event/730-am-mass-42/
END:VEVENT
BEGIN:VEVENT
DTSTART;TZID=America/Chicago:20200313T180000
DTEND;TZID=America/Chicago:20200313T180000
DTSTAMP:20260425T160220
CREATED:20200213T171551Z
LAST-MODIFIED:20200213T171551Z
UID:28421-1584122400-1584122400@stpaulbr.org
SUMMARY:6 pm Stations of the Cross
DESCRIPTION: 
URL:https://stpaulbr.org/event/6-pm-stations-of-the-cross-6/
END:VEVENT
BEGIN:VEVENT
DTSTART;TZID=America/Chicago:20200313T080000
DTEND;TZID=America/Chicago:20200313T130000
DTSTAMP:20260425T160220
CREATED:20200213T171450Z
LAST-MODIFIED:20200213T171450Z
UID:28419-1584086400-1584104400@stpaulbr.org
SUMMARY:8 am - 1 pm Fish Fry
DESCRIPTION: 
URL:https://stpaulbr.org/event/8-am-1-pm-fish-fry-5/
END:VEVENT
BEGIN:VEVENT
DTSTART;TZID=America/Chicago:20200313T080000
DTEND;TZID=America/Chicago:20200313T080000
DTSTAMP:20260425T160220
CREATED:20200213T171354Z
LAST-MODIFIED:20200213T171354Z
UID:28417-1584086400-1584086400@stpaulbr.org
SUMMARY:8 am Mass
DESCRIPTION: 
URL:https://stpaulbr.org/event/8-am-mass-136/
END:VEVENT
BEGIN:VEVENT
DTSTART;TZID=America/Chicago:20200312T190000
DTEND;TZID=America/Chicago:20200312T190000
DTSTAMP:20260425T160220
CREATED:20200213T171307Z
LAST-MODIFIED:20200213T171307Z
UID:28415-1584039600-1584039600@stpaulbr.org
SUMMARY:7 pm Rehearsal for 10:30 Choir
DESCRIPTION: 
URL:https://stpaulbr.org/event/7-pm-rehearsal-for-1030-choir-55/
END:VEVENT
BEGIN:VEVENT
DTSTART;TZID=America/Chicago:20200312T080000
DTEND;TZID=America/Chicago:20200312T080000
DTSTAMP:20260425T160220
CREATED:20200213T171145Z
LAST-MODIFIED:20200213T171145Z
UID:28413-1584000000-1584000000@stpaulbr.org
SUMMARY:8 am Fish Fry Prep
DESCRIPTION: 
URL:https://stpaulbr.org/event/8-am-fish-fry-prep-5/
END:VEVENT
BEGIN:VEVENT
DTSTART;TZID=America/Chicago:20200311T180000
DTEND;TZID=America/Chicago:20200311T180000
DTSTAMP:20260425T160220
CREATED:20200213T171104Z
LAST-MODIFIED:20200213T171104Z
UID:28411-1583949600-1583949600@stpaulbr.org
SUMMARY:6 pm Bible Study
DESCRIPTION: 
URL:https://stpaulbr.org/event/6-pm-bible-study-47/
END:VEVENT
BEGIN:VEVENT
DTSTART;TZID=America/Chicago:20200311T163000
DTEND;TZID=America/Chicago:20200311T163000
DTSTAMP:20260425T160220
CREATED:20200213T170959Z
LAST-MODIFIED:20200213T170959Z
UID:28409-1583944200-1583944200@stpaulbr.org
SUMMARY:4:30 pm Rehearsal for 7:30 Choir
DESCRIPTION: 
URL:https://stpaulbr.org/event/430-pm-rehearsal-for-730-choir-46/
END:VEVENT
BEGIN:VEVENT
DTSTART;TZID=America/Chicago:20200311T080000
DTEND;TZID=America/Chicago:20200311T080000
DTSTAMP:20260425T160220
CREATED:20200213T170857Z
LAST-MODIFIED:20200213T170857Z
UID:28407-1583913600-1583913600@stpaulbr.org
SUMMARY:8 am Mass
DESCRIPTION: 
URL:https://stpaulbr.org/event/8-am-mass-135/
END:VEVENT
BEGIN:VEVENT
DTSTART;TZID=America/Chicago:20200310T180000
DTEND;TZID=America/Chicago:20200310T180000
DTSTAMP:20260425T160220
CREATED:20200213T170805Z
LAST-MODIFIED:20200213T170805Z
UID:28405-1583863200-1583863200@stpaulbr.org
SUMMARY:6 pm Liturgical Dance Practice
DESCRIPTION: 
URL:https://stpaulbr.org/event/6-pm-liturgical-dance-practice-44/
END:VEVENT
BEGIN:VEVENT
DTSTART;TZID=America/Chicago:20200310T180000
DTEND;TZID=America/Chicago:20200310T180000
DTSTAMP:20260425T160220
CREATED:20200213T170710Z
LAST-MODIFIED:20200213T170710Z
UID:28403-1583863200-1583863200@stpaulbr.org
SUMMARY:6 pm RCIA
DESCRIPTION: 
URL:https://stpaulbr.org/event/6-pm-rcia-5/
END:VEVENT
BEGIN:VEVENT
DTSTART;TZID=America/Chicago:20200310T080000
DTEND;TZID=America/Chicago:20200310T080000
DTSTAMP:20260425T160220
CREATED:20200213T170615Z
LAST-MODIFIED:20200213T170615Z
UID:28401-1583827200-1583827200@stpaulbr.org
SUMMARY:8 am Mass
DESCRIPTION: 
URL:https://stpaulbr.org/event/8-am-mass-134/
END:VEVENT
BEGIN:VEVENT
DTSTART;TZID=America/Chicago:20200308T103000
DTEND;TZID=America/Chicago:20200308T103000
DTSTAMP:20260425T160220
CREATED:20200213T170454Z
LAST-MODIFIED:20200213T170454Z
UID:28397-1583663400-1583663400@stpaulbr.org
SUMMARY:10:30 am Mass - Youth Sunday
DESCRIPTION: 
URL:https://stpaulbr.org/event/1030-am-mass-youth-sunday-8/
END:VEVENT
BEGIN:VEVENT
DTSTART;TZID=America/Chicago:20200308T090000
DTEND;TZID=America/Chicago:20200308T090000
DTSTAMP:20260425T160220
CREATED:20200213T170349Z
LAST-MODIFIED:20200213T170349Z
UID:28395-1583658000-1583658000@stpaulbr.org
SUMMARY:9 am Religious Ed Classes
DESCRIPTION: 
URL:https://stpaulbr.org/event/9-am-religious-ed-classes-19/
END:VEVENT
BEGIN:VEVENT
DTSTART;TZID=America/Chicago:20200308T073000
DTEND;TZID=America/Chicago:20200308T073000
DTSTAMP:20260425T160220
CREATED:20200213T175427Z
LAST-MODIFIED:20200213T175427Z
UID:28497-1583652600-1583652600@stpaulbr.org
SUMMARY:7:30 am Mass
DESCRIPTION: 
URL:https://stpaulbr.org/event/730-am-mass-45/
END:VEVENT
BEGIN:VEVENT
DTSTART;TZID=America/Chicago:20200307T120000
DTEND;TZID=America/Chicago:20200307T120000
DTSTAMP:20260425T160220
CREATED:20200213T165335Z
LAST-MODIFIED:20200213T165335Z
UID:28389-1583582400-1583582400@stpaulbr.org
SUMMARY:12 pm Youth Choir Rehearsal
DESCRIPTION: 
URL:https://stpaulbr.org/event/12-pm-youth-choir-rehearsal-40/
END:VEVENT
BEGIN:VEVENT
DTSTART;TZID=America/Chicago:20200307T110000
DTEND;TZID=America/Chicago:20200307T110000
DTSTAMP:20260425T160220
CREATED:20200213T165101Z
LAST-MODIFIED:20200213T165451Z
UID:28387-1583578800-1583578800@stpaulbr.org
SUMMARY:10 am Liturgical Dance Practice
DESCRIPTION: 
URL:https://stpaulbr.org/event/11-am-liturgical-dance-practice-39/
END:VEVENT
BEGIN:VEVENT
DTSTART;TZID=America/Chicago:20200306T180000
DTEND;TZID=America/Chicago:20200306T180000
DTSTAMP:20260425T160220
CREATED:20200213T164450Z
LAST-MODIFIED:20200213T164450Z
UID:28384-1583517600-1583517600@stpaulbr.org
SUMMARY:6 pm Stations of the Cross
DESCRIPTION: \n\n 
URL:https://stpaulbr.org/event/6-pm-stations-of-the-cross-5/
END:VEVENT
BEGIN:VEVENT
DTSTART;TZID=America/Chicago:20200306T080000
DTEND;TZID=America/Chicago:20200306T130000
DTSTAMP:20260425T160220
CREATED:20200213T161932Z
LAST-MODIFIED:20200213T161932Z
UID:28381-1583481600-1583499600@stpaulbr.org
SUMMARY:8 am - 1 pm Fish Fry
DESCRIPTION: 
URL:https://stpaulbr.org/event/8-am-1-pm-fish-fry-4/
END:VEVENT
BEGIN:VEVENT
DTSTART;TZID=America/Chicago:20200306T080000
DTEND;TZID=America/Chicago:20200306T080000
DTSTAMP:20260425T160220
CREATED:20200213T161809Z
LAST-MODIFIED:20200213T161809Z
UID:28379-1583481600-1583481600@stpaulbr.org
SUMMARY:8 am Mass
DESCRIPTION: 
URL:https://stpaulbr.org/event/8-am-mass-133/
END:VEVENT
BEGIN:VEVENT
DTSTART;TZID=America/Chicago:20200305T190000
DTEND;TZID=America/Chicago:20200305T190000
DTSTAMP:20260425T160220
CREATED:20200213T161646Z
LAST-MODIFIED:20200213T161646Z
UID:28377-1583434800-1583434800@stpaulbr.org
SUMMARY:7 pm Rehearsal for 10:30 Choir
DESCRIPTION: 
URL:https://stpaulbr.org/event/7-pm-rehearsal-for-1030-choir-54/
END:VEVENT
BEGIN:VEVENT
DTSTART;TZID=America/Chicago:20200305T080000
DTEND;TZID=America/Chicago:20200305T110000
DTSTAMP:20260425T160220
CREATED:20200213T161537Z
LAST-MODIFIED:20200213T161537Z
UID:28375-1583395200-1583406000@stpaulbr.org
SUMMARY:8 am Food Pantry Open
DESCRIPTION: 
URL:https://stpaulbr.org/event/8-am-food-pantry-open-22/
END:VEVENT
BEGIN:VEVENT
DTSTART;TZID=America/Chicago:20200305T080000
DTEND;TZID=America/Chicago:20200305T080000
DTSTAMP:20260425T160220
CREATED:20200213T161329Z
LAST-MODIFIED:20200213T161329Z
UID:28373-1583395200-1583395200@stpaulbr.org
SUMMARY:8 am Fish Fry Prep
DESCRIPTION: 
URL:https://stpaulbr.org/event/8-am-fish-fry-prep-4/
END:VEVENT
END:VCALENDAR