BEGIN:VCALENDAR
VERSION:2.0
PRODID:-//St. Paul The Apostle Catholic Church - ECPv6.15.11//NONSGML v1.0//EN
CALSCALE:GREGORIAN
METHOD:PUBLISH
X-WR-CALNAME:St. Paul The Apostle Catholic Church
X-ORIGINAL-URL:https://stpaulbr.org
X-WR-CALDESC:Events for St. Paul The Apostle Catholic Church
REFRESH-INTERVAL;VALUE=DURATION:PT1H
X-Robots-Tag:noindex
X-PUBLISHED-TTL:PT1H
BEGIN:VTIMEZONE
TZID:America/Chicago
BEGIN:DAYLIGHT
TZOFFSETFROM:-0600
TZOFFSETTO:-0500
TZNAME:CDT
DTSTART:20190310T080000
END:DAYLIGHT
BEGIN:STANDARD
TZOFFSETFROM:-0500
TZOFFSETTO:-0600
TZNAME:CST
DTSTART:20191103T070000
END:STANDARD
BEGIN:DAYLIGHT
TZOFFSETFROM:-0600
TZOFFSETTO:-0500
TZNAME:CDT
DTSTART:20200308T080000
END:DAYLIGHT
BEGIN:STANDARD
TZOFFSETFROM:-0500
TZOFFSETTO:-0600
TZNAME:CST
DTSTART:20201101T070000
END:STANDARD
BEGIN:DAYLIGHT
TZOFFSETFROM:-0600
TZOFFSETTO:-0500
TZNAME:CDT
DTSTART:20210314T080000
END:DAYLIGHT
BEGIN:STANDARD
TZOFFSETFROM:-0500
TZOFFSETTO:-0600
TZNAME:CST
DTSTART:20211107T070000
END:STANDARD
END:VTIMEZONE
BEGIN:VEVENT
DTSTART;TZID=America/Chicago:20200304T180000
DTEND;TZID=America/Chicago:20200304T180000
DTSTAMP:20260425T203741
CREATED:20200213T161105Z
LAST-MODIFIED:20200213T161105Z
UID:28371-1583344800-1583344800@stpaulbr.org
SUMMARY:6 pm Revival - Immaculate Conception
DESCRIPTION: 
URL:https://stpaulbr.org/event/6-pm-revival-immaculate-conception/
END:VEVENT
BEGIN:VEVENT
DTSTART;TZID=America/Chicago:20200303T180000
DTEND;TZID=America/Chicago:20200303T180000
DTSTAMP:20260425T203741
CREATED:20200213T160302Z
LAST-MODIFIED:20200213T160833Z
UID:28368-1583258400-1583258400@stpaulbr.org
SUMMARY:6 pm Revival - St. Paul the Apostle
DESCRIPTION: \n\n 
URL:https://stpaulbr.org/event/6-pm-revival-st-paul-the-apostle/
END:VEVENT
BEGIN:VEVENT
DTSTART;TZID=America/Chicago:20200302T180000
DTEND;TZID=America/Chicago:20200302T180000
DTSTAMP:20260425T203741
CREATED:20200213T155940Z
LAST-MODIFIED:20200213T160114Z
UID:28365-1583172000-1583172000@stpaulbr.org
SUMMARY:6 pm Revival - St. Francis Xavier
DESCRIPTION: 
URL:https://stpaulbr.org/event/6-pm-revival/
END:VEVENT
BEGIN:VEVENT
DTSTART;TZID=America/Chicago:20200301T103000
DTEND;TZID=America/Chicago:20200301T103000
DTSTAMP:20260425T203741
CREATED:20200213T155833Z
LAST-MODIFIED:20200213T155833Z
UID:28363-1583058600-1583058600@stpaulbr.org
SUMMARY:10:30 am Mass - Women's Club Turn Out
DESCRIPTION: 
URL:https://stpaulbr.org/event/1030-am-mass-womens-club-turn-out-8/
END:VEVENT
BEGIN:VEVENT
DTSTART;TZID=America/Chicago:20200301T090000
DTEND;TZID=America/Chicago:20200301T090000
DTSTAMP:20260425T203741
CREATED:20200213T155651Z
LAST-MODIFIED:20200213T155651Z
UID:28361-1583053200-1583053200@stpaulbr.org
SUMMARY:9 am Religious Ed Classes
DESCRIPTION: 
URL:https://stpaulbr.org/event/9-am-religious-ed-classes-18/
END:VEVENT
BEGIN:VEVENT
DTSTART;TZID=America/Chicago:20200301T073000
DTEND;TZID=America/Chicago:20200301T073000
DTSTAMP:20260425T203741
CREATED:20200213T155351Z
LAST-MODIFIED:20200213T155351Z
UID:28358-1583047800-1583047800@stpaulbr.org
SUMMARY:7:30 am Mass - Ladies Sodality Turn Out
DESCRIPTION: 
URL:https://stpaulbr.org/event/730-am-mass-ladies-sodality-turn-out-7/
END:VEVENT
BEGIN:VEVENT
DTSTART;TZID=America/Chicago:20200229T120000
DTEND;TZID=America/Chicago:20200229T120000
DTSTAMP:20260425T203741
CREATED:20200130T221056Z
LAST-MODIFIED:20200130T221056Z
UID:28347-1582977600-1582977600@stpaulbr.org
SUMMARY:12 pm Youth Choir Rehearsal
DESCRIPTION: 
URL:https://stpaulbr.org/event/12-pm-youth-choir-rehearsal-39/
END:VEVENT
BEGIN:VEVENT
DTSTART;TZID=America/Chicago:20200229T100000
DTEND;TZID=America/Chicago:20200229T100000
DTSTAMP:20260425T203741
CREATED:20200130T221003Z
LAST-MODIFIED:20200130T221003Z
UID:28345-1582970400-1582970400@stpaulbr.org
SUMMARY:10 am Mime Group Practice
DESCRIPTION: 
URL:https://stpaulbr.org/event/10-am-mime-group-practice-31/
END:VEVENT
BEGIN:VEVENT
DTSTART;TZID=America/Chicago:20200228T180000
DTEND;TZID=America/Chicago:20200228T180000
DTSTAMP:20260425T203741
CREATED:20200130T220912Z
LAST-MODIFIED:20200130T220912Z
UID:28343-1582912800-1582912800@stpaulbr.org
SUMMARY:6 pm Stations of the Cross
DESCRIPTION: 
URL:https://stpaulbr.org/event/6-pm-stations-of-the-cross-4/
END:VEVENT
BEGIN:VEVENT
DTSTART;TZID=America/Chicago:20200228T080000
DTEND;TZID=America/Chicago:20200228T130000
DTSTAMP:20260425T203741
CREATED:20200130T220824Z
LAST-MODIFIED:20200130T220824Z
UID:28341-1582876800-1582894800@stpaulbr.org
SUMMARY:8 am - 1 pm Fish Fry
DESCRIPTION: 
URL:https://stpaulbr.org/event/8-am-1-pm-fish-fry-3/
END:VEVENT
BEGIN:VEVENT
DTSTART;TZID=America/Chicago:20200228T080000
DTEND;TZID=America/Chicago:20200228T080000
DTSTAMP:20260425T203741
CREATED:20200130T220622Z
LAST-MODIFIED:20200130T220622Z
UID:28339-1582876800-1582876800@stpaulbr.org
SUMMARY:8 am Mass
DESCRIPTION: 
URL:https://stpaulbr.org/event/8-am-mass-132/
END:VEVENT
BEGIN:VEVENT
DTSTART;TZID=America/Chicago:20200227T190000
DTEND;TZID=America/Chicago:20200227T190000
DTSTAMP:20260425T203741
CREATED:20200130T220351Z
LAST-MODIFIED:20200130T220351Z
UID:28337-1582830000-1582830000@stpaulbr.org
SUMMARY:7 pm Rehearsal for 10:30 Choir
DESCRIPTION: 
URL:https://stpaulbr.org/event/7-pm-rehearsal-for-1030-choir-53/
END:VEVENT
BEGIN:VEVENT
DTSTART;TZID=America/Chicago:20200227T170000
DTEND;TZID=America/Chicago:20200227T170000
DTSTAMP:20260425T203741
CREATED:20200130T220051Z
LAST-MODIFIED:20200130T220051Z
UID:28334-1582822800-1582822800@stpaulbr.org
SUMMARY:5 pm Ladies Guild Meeting
DESCRIPTION: 
URL:https://stpaulbr.org/event/5-pm-ladies-guild-meeting-10/
END:VEVENT
BEGIN:VEVENT
DTSTART;TZID=America/Chicago:20200227T080000
DTEND;TZID=America/Chicago:20200227T080000
DTSTAMP:20260425T203741
CREATED:20200130T220001Z
LAST-MODIFIED:20200130T220001Z
UID:28332-1582790400-1582790400@stpaulbr.org
SUMMARY:8 am Fish Fry Prep
DESCRIPTION: 
URL:https://stpaulbr.org/event/8-am-fish-fry-prep-3/
END:VEVENT
BEGIN:VEVENT
DTSTART;TZID=America/Chicago:20200226T180000
DTEND;TZID=America/Chicago:20200226T180000
DTSTAMP:20260425T203741
CREATED:20200130T215915Z
LAST-MODIFIED:20200130T215915Z
UID:28330-1582740000-1582740000@stpaulbr.org
SUMMARY:6 pm Mass
DESCRIPTION: 
URL:https://stpaulbr.org/event/6-pm-mass/
END:VEVENT
BEGIN:VEVENT
DTSTART;TZID=America/Chicago:20200226T000000
DTEND;TZID=America/Chicago:20200226T000000
DTSTAMP:20260425T203741
CREATED:20200130T215833Z
LAST-MODIFIED:20200130T215833Z
UID:28328-1582675200-1582675200@stpaulbr.org
SUMMARY:Ash Wednesday
DESCRIPTION: 
URL:https://stpaulbr.org/event/ash-wednesday/
END:VEVENT
BEGIN:VEVENT
DTSTART;TZID=America/Chicago:20200225T000000
DTEND;TZID=America/Chicago:20200225T000000
DTSTAMP:20260425T203741
CREATED:20200130T215749Z
LAST-MODIFIED:20200130T215749Z
UID:28326-1582588800-1582588800@stpaulbr.org
SUMMARY:Office Closed
DESCRIPTION: 
URL:https://stpaulbr.org/event/office-closed-25/
END:VEVENT
BEGIN:VEVENT
DTSTART;TZID=America/Chicago:20200225T000000
DTEND;TZID=America/Chicago:20200225T000000
DTSTAMP:20260425T203741
CREATED:20200130T215708Z
LAST-MODIFIED:20200130T215708Z
UID:28324-1582588800-1582588800@stpaulbr.org
SUMMARY:Mardi Gras
DESCRIPTION: 
URL:https://stpaulbr.org/event/mardi-gras/
END:VEVENT
BEGIN:VEVENT
DTSTART;TZID=America/Chicago:20200224T000000
DTEND;TZID=America/Chicago:20200224T000000
DTSTAMP:20260425T203741
CREATED:20200130T215625Z
LAST-MODIFIED:20200130T215625Z
UID:28322-1582502400-1582502400@stpaulbr.org
SUMMARY:Office Closed
DESCRIPTION: 
URL:https://stpaulbr.org/event/office-closed-24/
END:VEVENT
BEGIN:VEVENT
DTSTART;TZID=America/Chicago:20200223T103000
DTEND;TZID=America/Chicago:20200223T103000
DTSTAMP:20260425T203741
CREATED:20200130T215538Z
LAST-MODIFIED:20200130T215538Z
UID:28320-1582453800-1582453800@stpaulbr.org
SUMMARY:10:30 am Mass
DESCRIPTION: 
URL:https://stpaulbr.org/event/1030-am-mass-35/
END:VEVENT
BEGIN:VEVENT
DTSTART;TZID=America/Chicago:20200223T090000
DTEND;TZID=America/Chicago:20200223T090000
DTSTAMP:20260425T203741
CREATED:20200130T215431Z
LAST-MODIFIED:20200130T215431Z
UID:28318-1582448400-1582448400@stpaulbr.org
SUMMARY:9 am Religious Ed Classes
DESCRIPTION: 
URL:https://stpaulbr.org/event/9-am-religious-ed-classes-17/
END:VEVENT
BEGIN:VEVENT
DTSTART;TZID=America/Chicago:20200223T073000
DTEND;TZID=America/Chicago:20200223T073000
DTSTAMP:20260425T203741
CREATED:20200130T214941Z
LAST-MODIFIED:20200130T221444Z
UID:28313-1582443000-1582443000@stpaulbr.org
SUMMARY:7:30 am Mass - Ladies Guild Turn Out
DESCRIPTION: \n\n 
URL:https://stpaulbr.org/event/730-am-mass-40/
END:VEVENT
BEGIN:VEVENT
DTSTART;TZID=America/Chicago:20200222T120000
DTEND;TZID=America/Chicago:20200222T120000
DTSTAMP:20260425T203741
CREATED:20200130T214720Z
LAST-MODIFIED:20200130T214720Z
UID:28311-1582372800-1582372800@stpaulbr.org
SUMMARY:12 pm Youth Choir Rehearsal
DESCRIPTION: 
URL:https://stpaulbr.org/event/12-pm-youth-choir-rehearsal-38/
END:VEVENT
BEGIN:VEVENT
DTSTART;TZID=America/Chicago:20200221T000000
DTEND;TZID=America/Chicago:20200221T000000
DTSTAMP:20260425T203741
CREATED:20200130T214343Z
LAST-MODIFIED:20200130T214456Z
UID:28306-1582243200-1582243200@stpaulbr.org
SUMMARY:No Mass
DESCRIPTION: \n\n 
URL:https://stpaulbr.org/event/no-mass/
END:VEVENT
BEGIN:VEVENT
DTSTART;TZID=America/Chicago:20200220T190000
DTEND;TZID=America/Chicago:20200220T190000
DTSTAMP:20260425T203741
CREATED:20200130T214212Z
LAST-MODIFIED:20200130T214212Z
UID:28304-1582225200-1582225200@stpaulbr.org
SUMMARY:7 pm Rehearsal for 10:30 Choir
DESCRIPTION: 
URL:https://stpaulbr.org/event/7-pm-rehearsal-for-1030-choir-52/
END:VEVENT
BEGIN:VEVENT
DTSTART;TZID=America/Chicago:20200220T080000
DTEND;TZID=America/Chicago:20200220T080000
DTSTAMP:20260425T203741
CREATED:20200130T214040Z
LAST-MODIFIED:20200130T214040Z
UID:28302-1582185600-1582185600@stpaulbr.org
SUMMARY:8 am Food Pantry
DESCRIPTION: 
URL:https://stpaulbr.org/event/8-am-food-pantry-6/
END:VEVENT
BEGIN:VEVENT
DTSTART;TZID=America/Chicago:20200219T180000
DTEND;TZID=America/Chicago:20200219T180000
DTSTAMP:20260425T203741
CREATED:20200130T213950Z
LAST-MODIFIED:20200130T213950Z
UID:28300-1582135200-1582135200@stpaulbr.org
SUMMARY:6 pm Bible Study
DESCRIPTION: 
URL:https://stpaulbr.org/event/6-pm-bible-study-46/
END:VEVENT
BEGIN:VEVENT
DTSTART;TZID=America/Chicago:20200219T163000
DTEND;TZID=America/Chicago:20200219T163000
DTSTAMP:20260425T203741
CREATED:20200130T213902Z
LAST-MODIFIED:20200130T213902Z
UID:28298-1582129800-1582129800@stpaulbr.org
SUMMARY:4:30 pm Rehearsal for 7:30 Choir
DESCRIPTION: 
URL:https://stpaulbr.org/event/430-pm-rehearsal-for-730-choir-45/
END:VEVENT
BEGIN:VEVENT
DTSTART;TZID=America/Chicago:20200219T080000
DTEND;TZID=America/Chicago:20200219T080000
DTSTAMP:20260425T203741
CREATED:20200130T213747Z
LAST-MODIFIED:20200130T213747Z
UID:28296-1582099200-1582099200@stpaulbr.org
SUMMARY:8 am Mass
DESCRIPTION: 
URL:https://stpaulbr.org/event/8-am-mass-131/
END:VEVENT
BEGIN:VEVENT
DTSTART;TZID=America/Chicago:20200218T180000
DTEND;TZID=America/Chicago:20200218T180000
DTSTAMP:20260425T203741
CREATED:20200130T213635Z
LAST-MODIFIED:20200130T213635Z
UID:28294-1582048800-1582048800@stpaulbr.org
SUMMARY:6 pm Liturgical Dance Practice
DESCRIPTION: 
URL:https://stpaulbr.org/event/6-pm-liturgical-dance-practice-43/
END:VEVENT
END:VCALENDAR