BEGIN:VCALENDAR
VERSION:2.0
PRODID:-//St. Paul The Apostle Catholic Church - ECPv6.15.11//NONSGML v1.0//EN
CALSCALE:GREGORIAN
METHOD:PUBLISH
X-ORIGINAL-URL:https://stpaulbr.org
X-WR-CALDESC:Events for St. Paul The Apostle Catholic Church
REFRESH-INTERVAL;VALUE=DURATION:PT1H
X-Robots-Tag:noindex
X-PUBLISHED-TTL:PT1H
BEGIN:VTIMEZONE
TZID:America/Chicago
BEGIN:DAYLIGHT
TZOFFSETFROM:-0600
TZOFFSETTO:-0500
TZNAME:CDT
DTSTART:20190310T080000
END:DAYLIGHT
BEGIN:STANDARD
TZOFFSETFROM:-0500
TZOFFSETTO:-0600
TZNAME:CST
DTSTART:20191103T070000
END:STANDARD
BEGIN:DAYLIGHT
TZOFFSETFROM:-0600
TZOFFSETTO:-0500
TZNAME:CDT
DTSTART:20200308T080000
END:DAYLIGHT
BEGIN:STANDARD
TZOFFSETFROM:-0500
TZOFFSETTO:-0600
TZNAME:CST
DTSTART:20201101T070000
END:STANDARD
BEGIN:DAYLIGHT
TZOFFSETFROM:-0600
TZOFFSETTO:-0500
TZNAME:CDT
DTSTART:20210314T080000
END:DAYLIGHT
BEGIN:STANDARD
TZOFFSETFROM:-0500
TZOFFSETTO:-0600
TZNAME:CST
DTSTART:20211107T070000
END:STANDARD
END:VTIMEZONE
BEGIN:VEVENT
DTSTART;TZID=America/Chicago:20200223T090000
DTEND;TZID=America/Chicago:20200223T090000
DTSTAMP:20260425T234158
CREATED:20200130T215431Z
LAST-MODIFIED:20200130T215431Z
UID:28318-1582448400-1582448400@stpaulbr.org
SUMMARY:9 am Religious Ed Classes
DESCRIPTION: 
URL:https://stpaulbr.org/event/9-am-religious-ed-classes-17/
END:VEVENT
BEGIN:VEVENT
DTSTART;TZID=America/Chicago:20200223T073000
DTEND;TZID=America/Chicago:20200223T073000
DTSTAMP:20260425T234158
CREATED:20200130T214941Z
LAST-MODIFIED:20200130T221444Z
UID:28313-1582443000-1582443000@stpaulbr.org
SUMMARY:7:30 am Mass - Ladies Guild Turn Out
DESCRIPTION: \n\n 
URL:https://stpaulbr.org/event/730-am-mass-40/
END:VEVENT
BEGIN:VEVENT
DTSTART;TZID=America/Chicago:20200222T120000
DTEND;TZID=America/Chicago:20200222T120000
DTSTAMP:20260425T234158
CREATED:20200130T214720Z
LAST-MODIFIED:20200130T214720Z
UID:28311-1582372800-1582372800@stpaulbr.org
SUMMARY:12 pm Youth Choir Rehearsal
DESCRIPTION: 
URL:https://stpaulbr.org/event/12-pm-youth-choir-rehearsal-38/
END:VEVENT
BEGIN:VEVENT
DTSTART;TZID=America/Chicago:20200221T000000
DTEND;TZID=America/Chicago:20200221T000000
DTSTAMP:20260425T234158
CREATED:20200130T214343Z
LAST-MODIFIED:20200130T214456Z
UID:28306-1582243200-1582243200@stpaulbr.org
SUMMARY:No Mass
DESCRIPTION: \n\n 
URL:https://stpaulbr.org/event/no-mass/
END:VEVENT
BEGIN:VEVENT
DTSTART;TZID=America/Chicago:20200220T190000
DTEND;TZID=America/Chicago:20200220T190000
DTSTAMP:20260425T234158
CREATED:20200130T214212Z
LAST-MODIFIED:20200130T214212Z
UID:28304-1582225200-1582225200@stpaulbr.org
SUMMARY:7 pm Rehearsal for 10:30 Choir
DESCRIPTION: 
URL:https://stpaulbr.org/event/7-pm-rehearsal-for-1030-choir-52/
END:VEVENT
BEGIN:VEVENT
DTSTART;TZID=America/Chicago:20200220T080000
DTEND;TZID=America/Chicago:20200220T080000
DTSTAMP:20260425T234158
CREATED:20200130T214040Z
LAST-MODIFIED:20200130T214040Z
UID:28302-1582185600-1582185600@stpaulbr.org
SUMMARY:8 am Food Pantry
DESCRIPTION: 
URL:https://stpaulbr.org/event/8-am-food-pantry-6/
END:VEVENT
BEGIN:VEVENT
DTSTART;TZID=America/Chicago:20200219T180000
DTEND;TZID=America/Chicago:20200219T180000
DTSTAMP:20260425T234158
CREATED:20200130T213950Z
LAST-MODIFIED:20200130T213950Z
UID:28300-1582135200-1582135200@stpaulbr.org
SUMMARY:6 pm Bible Study
DESCRIPTION: 
URL:https://stpaulbr.org/event/6-pm-bible-study-46/
END:VEVENT
BEGIN:VEVENT
DTSTART;TZID=America/Chicago:20200219T163000
DTEND;TZID=America/Chicago:20200219T163000
DTSTAMP:20260425T234158
CREATED:20200130T213902Z
LAST-MODIFIED:20200130T213902Z
UID:28298-1582129800-1582129800@stpaulbr.org
SUMMARY:4:30 pm Rehearsal for 7:30 Choir
DESCRIPTION: 
URL:https://stpaulbr.org/event/430-pm-rehearsal-for-730-choir-45/
END:VEVENT
BEGIN:VEVENT
DTSTART;TZID=America/Chicago:20200219T080000
DTEND;TZID=America/Chicago:20200219T080000
DTSTAMP:20260425T234158
CREATED:20200130T213747Z
LAST-MODIFIED:20200130T213747Z
UID:28296-1582099200-1582099200@stpaulbr.org
SUMMARY:8 am Mass
DESCRIPTION: 
URL:https://stpaulbr.org/event/8-am-mass-131/
END:VEVENT
BEGIN:VEVENT
DTSTART;TZID=America/Chicago:20200218T180000
DTEND;TZID=America/Chicago:20200218T180000
DTSTAMP:20260425T234158
CREATED:20200130T213635Z
LAST-MODIFIED:20200130T213635Z
UID:28294-1582048800-1582048800@stpaulbr.org
SUMMARY:6 pm Liturgical Dance Practice
DESCRIPTION: 
URL:https://stpaulbr.org/event/6-pm-liturgical-dance-practice-43/
END:VEVENT
BEGIN:VEVENT
DTSTART;TZID=America/Chicago:20200218T180000
DTEND;TZID=America/Chicago:20200218T180000
DTSTAMP:20260425T234158
CREATED:20200130T213524Z
LAST-MODIFIED:20200130T213524Z
UID:28292-1582048800-1582048800@stpaulbr.org
SUMMARY:6 pm RCIA
DESCRIPTION: 
URL:https://stpaulbr.org/event/6-pm-rcia-4/
END:VEVENT
BEGIN:VEVENT
DTSTART;TZID=America/Chicago:20200218T080000
DTEND;TZID=America/Chicago:20200218T080000
DTSTAMP:20260425T234158
CREATED:20200130T213420Z
LAST-MODIFIED:20200130T213420Z
UID:28290-1582012800-1582012800@stpaulbr.org
SUMMARY:8 am Mass
DESCRIPTION: 
URL:https://stpaulbr.org/event/8-am-mass-130/
END:VEVENT
BEGIN:VEVENT
DTSTART;TZID=America/Chicago:20200216T123000
DTEND;TZID=America/Chicago:20200216T123000
DTSTAMP:20260425T234158
CREATED:20200130T213336Z
LAST-MODIFIED:20200130T213336Z
UID:28288-1581856200-1581856200@stpaulbr.org
SUMMARY:12:30 pm Black History Program
DESCRIPTION: 
URL:https://stpaulbr.org/event/1230-pm-black-history-program/
END:VEVENT
BEGIN:VEVENT
DTSTART;TZID=America/Chicago:20200216T103000
DTEND;TZID=America/Chicago:20200216T103000
DTSTAMP:20260425T234158
CREATED:20200130T213249Z
LAST-MODIFIED:20200130T213249Z
UID:28286-1581849000-1581849000@stpaulbr.org
SUMMARY:10:30 am Mass
DESCRIPTION: 
URL:https://stpaulbr.org/event/1030-am-mass-34/
END:VEVENT
BEGIN:VEVENT
DTSTART;TZID=America/Chicago:20200216T090000
DTEND;TZID=America/Chicago:20200216T090000
DTSTAMP:20260425T234158
CREATED:20200130T213204Z
LAST-MODIFIED:20200130T213204Z
UID:28284-1581843600-1581843600@stpaulbr.org
SUMMARY:9 am Religious Ed Classes
DESCRIPTION: 
URL:https://stpaulbr.org/event/9-am-religious-ed-classes-16/
END:VEVENT
BEGIN:VEVENT
DTSTART;TZID=America/Chicago:20200216T073000
DTEND;TZID=America/Chicago:20200216T073000
DTSTAMP:20260425T234158
CREATED:20200130T213112Z
LAST-MODIFIED:20200130T213112Z
UID:28282-1581838200-1581838200@stpaulbr.org
SUMMARY:7:30 am Mass
DESCRIPTION: 
URL:https://stpaulbr.org/event/730-am-mass-39/
END:VEVENT
BEGIN:VEVENT
DTSTART;TZID=America/Chicago:20200214T200000
DTEND;TZID=America/Chicago:20200214T200000
DTSTAMP:20260425T234158
CREATED:20200130T211613Z
LAST-MODIFIED:20200130T211613Z
UID:28271-1581710400-1581710400@stpaulbr.org
SUMMARY:8 pm Valentine's Day Dinner & Dance
DESCRIPTION: 
URL:https://stpaulbr.org/event/8-pm-valentines-day-dinner-dance/
END:VEVENT
BEGIN:VEVENT
DTSTART;TZID=America/Chicago:20200214T080000
DTEND;TZID=America/Chicago:20200214T080000
DTSTAMP:20260425T234158
CREATED:20200130T211459Z
LAST-MODIFIED:20200130T211459Z
UID:28268-1581667200-1581667200@stpaulbr.org
SUMMARY:8 am Mass
DESCRIPTION: 
URL:https://stpaulbr.org/event/8-am-mass-129/
END:VEVENT
BEGIN:VEVENT
DTSTART;TZID=America/Chicago:20200213T190000
DTEND;TZID=America/Chicago:20200213T190000
DTSTAMP:20260425T234158
CREATED:20200130T211356Z
LAST-MODIFIED:20200130T211356Z
UID:28266-1581620400-1581620400@stpaulbr.org
SUMMARY:7 pm Rehearsal for 10:30 Choir
DESCRIPTION: 
URL:https://stpaulbr.org/event/7-pm-rehearsal-for-1030-choir-51/
END:VEVENT
BEGIN:VEVENT
DTSTART;TZID=America/Chicago:20200213T073000
DTEND;TZID=America/Chicago:20200213T073000
DTSTAMP:20260425T234158
CREATED:20200213T170252Z
LAST-MODIFIED:20200213T170252Z
UID:28393-1581579000-1581579000@stpaulbr.org
SUMMARY:7:30 am Mass
DESCRIPTION: 
URL:https://stpaulbr.org/event/730-am-mass-41/
END:VEVENT
BEGIN:VEVENT
DTSTART;TZID=America/Chicago:20200213T000000
DTEND;TZID=America/Chicago:20200213T000000
DTSTAMP:20260425T234158
CREATED:20200213T171657Z
LAST-MODIFIED:20200213T171657Z
UID:28423-1581552000-1581552000@stpaulbr.org
SUMMARY:St. Joseph's Altar
DESCRIPTION: 
URL:https://stpaulbr.org/event/st-josephs-altar/
END:VEVENT
BEGIN:VEVENT
DTSTART;TZID=America/Chicago:20200212T180000
DTEND;TZID=America/Chicago:20200212T180000
DTSTAMP:20260425T234158
CREATED:20200130T211255Z
LAST-MODIFIED:20200130T211255Z
UID:28264-1581530400-1581530400@stpaulbr.org
SUMMARY:6 pm Bible Study
DESCRIPTION: 
URL:https://stpaulbr.org/event/6-pm-bible-study-45/
END:VEVENT
BEGIN:VEVENT
DTSTART;TZID=America/Chicago:20200212T163000
DTEND;TZID=America/Chicago:20200212T163000
DTSTAMP:20260425T234159
CREATED:20200130T211158Z
LAST-MODIFIED:20200130T211158Z
UID:28262-1581525000-1581525000@stpaulbr.org
SUMMARY:4:30 pm Rehearsal for 7:30 Choir
DESCRIPTION: 
URL:https://stpaulbr.org/event/430-pm-rehearsal-for-730-choir-44/
END:VEVENT
BEGIN:VEVENT
DTSTART;TZID=America/Chicago:20200212T080000
DTEND;TZID=America/Chicago:20200212T080000
DTSTAMP:20260425T234159
CREATED:20200130T211107Z
LAST-MODIFIED:20200130T211107Z
UID:28260-1581494400-1581494400@stpaulbr.org
SUMMARY:8 am Mass
DESCRIPTION: 
URL:https://stpaulbr.org/event/8-am-mass-128/
END:VEVENT
BEGIN:VEVENT
DTSTART;TZID=America/Chicago:20200211T180000
DTEND;TZID=America/Chicago:20200211T180000
DTSTAMP:20260425T234159
CREATED:20200130T211029Z
LAST-MODIFIED:20200130T211029Z
UID:28258-1581444000-1581444000@stpaulbr.org
SUMMARY:6 pm Liturgical Dance Practice
DESCRIPTION: 
URL:https://stpaulbr.org/event/6-pm-liturgical-dance-practice-42/
END:VEVENT
BEGIN:VEVENT
DTSTART;TZID=America/Chicago:20200211T180000
DTEND;TZID=America/Chicago:20200211T180000
DTSTAMP:20260425T234159
CREATED:20200130T210941Z
LAST-MODIFIED:20200130T210941Z
UID:28256-1581444000-1581444000@stpaulbr.org
SUMMARY:6 pm RCIA
DESCRIPTION: 
URL:https://stpaulbr.org/event/6-pm-rcia-3/
END:VEVENT
BEGIN:VEVENT
DTSTART;TZID=America/Chicago:20200211T080000
DTEND;TZID=America/Chicago:20200211T080000
DTSTAMP:20260425T234159
CREATED:20200130T210849Z
LAST-MODIFIED:20200130T210849Z
UID:28254-1581408000-1581408000@stpaulbr.org
SUMMARY:8 am Mass
DESCRIPTION: 
URL:https://stpaulbr.org/event/8-am-mass-127/
END:VEVENT
BEGIN:VEVENT
DTSTART;TZID=America/Chicago:20200209T103000
DTEND;TZID=America/Chicago:20200209T103000
DTSTAMP:20260425T234159
CREATED:20200130T210805Z
LAST-MODIFIED:20200130T212939Z
UID:28252-1581244200-1581244200@stpaulbr.org
SUMMARY:10:30 am Mass    -    Youth Sunday
DESCRIPTION: \n\n 
URL:https://stpaulbr.org/event/1030-am-mass-youth-sunday-7/
END:VEVENT
BEGIN:VEVENT
DTSTART;TZID=America/Chicago:20200209T090000
DTEND;TZID=America/Chicago:20200209T090000
DTSTAMP:20260425T234159
CREATED:20200130T210704Z
LAST-MODIFIED:20200130T210704Z
UID:28250-1581238800-1581238800@stpaulbr.org
SUMMARY:9 am Religious Ed Classes
DESCRIPTION: 
URL:https://stpaulbr.org/event/9-am-religious-ed-classes-15/
END:VEVENT
BEGIN:VEVENT
DTSTART;TZID=America/Chicago:20200209T073000
DTEND;TZID=America/Chicago:20200209T170000
DTSTAMP:20260425T234159
CREATED:20200130T210610Z
LAST-MODIFIED:20200130T210610Z
UID:28248-1581233400-1581267600@stpaulbr.org
SUMMARY:7:30 am Mass
DESCRIPTION: 
URL:https://stpaulbr.org/event/730-am-mass-38/
END:VEVENT
END:VCALENDAR