BEGIN:VCALENDAR
VERSION:2.0
PRODID:-//St. Paul The Apostle Catholic Church - ECPv6.15.11//NONSGML v1.0//EN
CALSCALE:GREGORIAN
METHOD:PUBLISH
X-WR-CALNAME:St. Paul The Apostle Catholic Church
X-ORIGINAL-URL:https://stpaulbr.org
X-WR-CALDESC:Events for St. Paul The Apostle Catholic Church
REFRESH-INTERVAL;VALUE=DURATION:PT1H
X-Robots-Tag:noindex
X-PUBLISHED-TTL:PT1H
BEGIN:VTIMEZONE
TZID:America/Chicago
BEGIN:DAYLIGHT
TZOFFSETFROM:-0600
TZOFFSETTO:-0500
TZNAME:CDT
DTSTART:20210314T080000
END:DAYLIGHT
BEGIN:STANDARD
TZOFFSETFROM:-0500
TZOFFSETTO:-0600
TZNAME:CST
DTSTART:20211107T070000
END:STANDARD
BEGIN:DAYLIGHT
TZOFFSETFROM:-0600
TZOFFSETTO:-0500
TZNAME:CDT
DTSTART:20220313T080000
END:DAYLIGHT
BEGIN:STANDARD
TZOFFSETFROM:-0500
TZOFFSETTO:-0600
TZNAME:CST
DTSTART:20221106T070000
END:STANDARD
BEGIN:DAYLIGHT
TZOFFSETFROM:-0600
TZOFFSETTO:-0500
TZNAME:CDT
DTSTART:20230312T080000
END:DAYLIGHT
BEGIN:STANDARD
TZOFFSETFROM:-0500
TZOFFSETTO:-0600
TZNAME:CST
DTSTART:20231105T070000
END:STANDARD
END:VTIMEZONE
BEGIN:VEVENT
DTSTART;TZID=America/Chicago:20221015T103000
DTEND;TZID=America/Chicago:20221015T103000
DTSTAMP:20260423T232243
CREATED:20220728T180047Z
LAST-MODIFIED:20220728T180047Z
UID:29730-1665829800-1665829800@stpaulbr.org
SUMMARY:10:30 am Anointing of the Sick Mass
DESCRIPTION:
URL:https://stpaulbr.org/event/1030-am-anointing-of-the-sick-mass/
END:VEVENT
BEGIN:VEVENT
DTSTART;TZID=America/Chicago:20221011T080000
DTEND;TZID=America/Chicago:20221014T000000
DTSTAMP:20260423T232243
CREATED:20220728T175718Z
LAST-MODIFIED:20220728T175718Z
UID:29722-1665475200-1665705600@stpaulbr.org
SUMMARY:8 am Mass
DESCRIPTION:
URL:https://stpaulbr.org/event/8-am-mass-152/
END:VEVENT
BEGIN:VEVENT
DTSTART;TZID=America/Chicago:20221009T103000
DTEND;TZID=America/Chicago:20221009T103000
DTSTAMP:20260423T232243
CREATED:20220728T175600Z
LAST-MODIFIED:20220728T175600Z
UID:29720-1665311400-1665311400@stpaulbr.org
SUMMARY:10:30 am Mass
DESCRIPTION:
URL:https://stpaulbr.org/event/1030-am-mass-79/
END:VEVENT
BEGIN:VEVENT
DTSTART;TZID=America/Chicago:20221009T073000
DTEND;TZID=America/Chicago:20221009T073000
DTSTAMP:20260423T232243
CREATED:20220728T175452Z
LAST-MODIFIED:20220728T175452Z
UID:29718-1665300600-1665300600@stpaulbr.org
SUMMARY:7:30 am Mass
DESCRIPTION:
URL:https://stpaulbr.org/event/730-am-mass-82/
END:VEVENT
BEGIN:VEVENT
DTSTART;TZID=America/Chicago:20221006T080000
DTEND;TZID=America/Chicago:20221006T110000
DTSTAMP:20260423T232243
CREATED:20220728T180224Z
LAST-MODIFIED:20220728T180224Z
UID:29732-1665043200-1665054000@stpaulbr.org
SUMMARY:8 am SVDP Pantry
DESCRIPTION:
URL:https://stpaulbr.org/event/8-am-svdp-pantry-5/
END:VEVENT
BEGIN:VEVENT
DTSTART;TZID=America/Chicago:20221004T080000
DTEND;TZID=America/Chicago:20221007T000000
DTSTAMP:20260423T232243
CREATED:20220728T175417Z
LAST-MODIFIED:20220728T175417Z
UID:29716-1664870400-1665100800@stpaulbr.org
SUMMARY:8 am Mass
DESCRIPTION:
URL:https://stpaulbr.org/event/8-am-mass-151/
END:VEVENT
BEGIN:VEVENT
DTSTART;TZID=America/Chicago:20221002T100000
DTEND;TZID=America/Chicago:20221002T100000
DTSTAMP:20260423T232243
CREATED:20220728T175304Z
LAST-MODIFIED:20220728T175304Z
UID:29714-1664704800-1664704800@stpaulbr.org
SUMMARY:10 am Mass
DESCRIPTION:
URL:https://stpaulbr.org/event/10-am-mass/
END:VEVENT
BEGIN:VEVENT
DTSTART;TZID=America/Chicago:20221002T000000
DTEND;TZID=America/Chicago:20221002T000000
DTSTAMP:20260423T232243
CREATED:20220728T175235Z
LAST-MODIFIED:20220728T175235Z
UID:29712-1664668800-1664668800@stpaulbr.org
SUMMARY:Family Day & Raffle
DESCRIPTION:
URL:https://stpaulbr.org/event/family-day-raffle/
END:VEVENT
BEGIN:VEVENT
DTSTART;TZID=America/Chicago:20220929T170000
DTEND;TZID=America/Chicago:20220929T170000
DTSTAMP:20260423T232243
CREATED:20220728T173947Z
LAST-MODIFIED:20220728T173947Z
UID:29703-1664470800-1664470800@stpaulbr.org
SUMMARY:5 pm Ladies Guild Meeting
DESCRIPTION:
URL:https://stpaulbr.org/event/5-pm-ladies-guild-meeting-11/
END:VEVENT
BEGIN:VEVENT
DTSTART;TZID=America/Chicago:20220927T080000
DTEND;TZID=America/Chicago:20220930T000000
DTSTAMP:20260423T232243
CREATED:20220728T173502Z
LAST-MODIFIED:20220728T173502Z
UID:29701-1664265600-1664496000@stpaulbr.org
SUMMARY:8 am Mass
DESCRIPTION:
URL:https://stpaulbr.org/event/8-am-mass-150/
END:VEVENT
BEGIN:VEVENT
DTSTART;TZID=America/Chicago:20220925T103000
DTEND;TZID=America/Chicago:20220925T103000
DTSTAMP:20260423T232243
CREATED:20220728T173426Z
LAST-MODIFIED:20220728T173426Z
UID:29699-1664101800-1664101800@stpaulbr.org
SUMMARY:10:30 am Mass
DESCRIPTION:
URL:https://stpaulbr.org/event/1030-am-mass-78/
END:VEVENT
BEGIN:VEVENT
DTSTART;TZID=America/Chicago:20220925T073000
DTEND;TZID=America/Chicago:20220925T073000
DTSTAMP:20260423T232243
CREATED:20220728T173346Z
LAST-MODIFIED:20220728T173819Z
UID:29697-1664091000-1664091000@stpaulbr.org
SUMMARY:7:30 am Mass      Ladies Guild Turn Out
DESCRIPTION:
URL:https://stpaulbr.org/event/730-am-mass-ladies-guild-turn-out-6/
END:VEVENT
BEGIN:VEVENT
DTSTART;TZID=America/Chicago:20220920T080000
DTEND;TZID=America/Chicago:20220923T000000
DTSTAMP:20260423T232243
CREATED:20220728T173258Z
LAST-MODIFIED:20220728T173258Z
UID:29695-1663660800-1663891200@stpaulbr.org
SUMMARY:8 am Mass
DESCRIPTION:
URL:https://stpaulbr.org/event/8-am-mass-149/
END:VEVENT
BEGIN:VEVENT
DTSTART;TZID=America/Chicago:20220918T103000
DTEND;TZID=America/Chicago:20220918T103000
DTSTAMP:20260423T232243
CREATED:20220728T173126Z
LAST-MODIFIED:20220728T173126Z
UID:29693-1663497000-1663497000@stpaulbr.org
SUMMARY:10:30 am Mass
DESCRIPTION:
URL:https://stpaulbr.org/event/1030-am-mass-77/
END:VEVENT
BEGIN:VEVENT
DTSTART;TZID=America/Chicago:20220918T073000
DTEND;TZID=America/Chicago:20220918T073000
DTSTAMP:20260423T232243
CREATED:20220728T173050Z
LAST-MODIFIED:20220728T173050Z
UID:29691-1663486200-1663486200@stpaulbr.org
SUMMARY:7:30 am Mass
DESCRIPTION:
URL:https://stpaulbr.org/event/730-am-mass-81/
END:VEVENT
BEGIN:VEVENT
DTSTART;TZID=America/Chicago:20220915T080000
DTEND;TZID=America/Chicago:20220915T080000
DTSTAMP:20260423T232243
CREATED:20220728T174034Z
LAST-MODIFIED:20220728T174034Z
UID:29705-1663228800-1663228800@stpaulbr.org
SUMMARY:8 am SVDP Pantry
DESCRIPTION:
URL:https://stpaulbr.org/event/8-am-svdp-pantry-4/
END:VEVENT
BEGIN:VEVENT
DTSTART;TZID=America/Chicago:20220913T180000
DTEND;TZID=America/Chicago:20220913T180000
DTSTAMP:20260423T232243
CREATED:20220728T172727Z
LAST-MODIFIED:20220728T172727Z
UID:29683-1663092000-1663092000@stpaulbr.org
SUMMARY:6 pm Liturgy Committee Meeting
DESCRIPTION:
URL:https://stpaulbr.org/event/6-pm-liturgy-committee-meeting-3/
END:VEVENT
BEGIN:VEVENT
DTSTART;TZID=America/Chicago:20220913T080000
DTEND;TZID=America/Chicago:20220916T000000
DTSTAMP:20260423T232243
CREATED:20220728T172649Z
LAST-MODIFIED:20220728T172649Z
UID:29681-1663056000-1663286400@stpaulbr.org
SUMMARY:8 am Mass
DESCRIPTION:
URL:https://stpaulbr.org/event/8-am-mass-148/
END:VEVENT
BEGIN:VEVENT
DTSTART;TZID=America/Chicago:20220911T103000
DTEND;TZID=America/Chicago:20220911T103000
DTSTAMP:20260423T232243
CREATED:20220728T173021Z
LAST-MODIFIED:20220728T173021Z
UID:29689-1662892200-1662892200@stpaulbr.org
SUMMARY:10:30 am Mass
DESCRIPTION:
URL:https://stpaulbr.org/event/1030-am-mass-76/
END:VEVENT
BEGIN:VEVENT
DTSTART;TZID=America/Chicago:20220911T073000
DTEND;TZID=America/Chicago:20220911T073000
DTSTAMP:20260423T232243
CREATED:20220728T172954Z
LAST-MODIFIED:20220728T172954Z
UID:29687-1662881400-1662881400@stpaulbr.org
SUMMARY:7:30 am Mass
DESCRIPTION:
URL:https://stpaulbr.org/event/730-am-mass-80/
END:VEVENT
BEGIN:VEVENT
DTSTART;TZID=America/Chicago:20220906T080000
DTEND;TZID=America/Chicago:20220909T000000
DTSTAMP:20260423T232243
CREATED:20220728T172602Z
LAST-MODIFIED:20220728T172602Z
UID:29679-1662451200-1662681600@stpaulbr.org
SUMMARY:8 am Mass
DESCRIPTION:
URL:https://stpaulbr.org/event/8-am-mass-147/
END:VEVENT
BEGIN:VEVENT
DTSTART;VALUE=DATE:20220905
DTEND;VALUE=DATE:20220906
DTSTAMP:20260423T232243
CREATED:20220728T172422Z
LAST-MODIFIED:20220728T172422Z
UID:29677-1662336000-1662422399@stpaulbr.org
SUMMARY:Office Closed
DESCRIPTION:
URL:https://stpaulbr.org/event/office-closed-32/
END:VEVENT
BEGIN:VEVENT
DTSTART;VALUE=DATE:20220905
DTEND;VALUE=DATE:20220906
DTSTAMP:20260423T232243
CREATED:20220728T172203Z
LAST-MODIFIED:20220728T172344Z
UID:29674-1662336000-1662422399@stpaulbr.org
SUMMARY:Labor Day
DESCRIPTION:
URL:https://stpaulbr.org/event/labor-day-office-closed-3/
END:VEVENT
BEGIN:VEVENT
DTSTART;TZID=America/Chicago:20220904T103000
DTEND;TZID=America/Chicago:20220904T103000
DTSTAMP:20260423T232243
CREATED:20220728T171933Z
LAST-MODIFIED:20220728T171933Z
UID:29670-1662287400-1662287400@stpaulbr.org
SUMMARY:10:30 am Mass
DESCRIPTION:
URL:https://stpaulbr.org/event/1030-am-mass-75/
END:VEVENT
BEGIN:VEVENT
DTSTART;TZID=America/Chicago:20220904T073000
DTEND;TZID=America/Chicago:20220904T073000
DTSTAMP:20260423T232243
CREATED:20220728T171836Z
LAST-MODIFIED:20220728T171836Z
UID:29668-1662276600-1662276600@stpaulbr.org
SUMMARY:7:30 am Mass
DESCRIPTION:
URL:https://stpaulbr.org/event/730-am-mass-79/
END:VEVENT
BEGIN:VEVENT
DTSTART;TZID=America/Chicago:20220901T080000
DTEND;TZID=America/Chicago:20220901T110000
DTSTAMP:20260423T232243
CREATED:20220728T172805Z
LAST-MODIFIED:20220728T172805Z
UID:29685-1662019200-1662030000@stpaulbr.org
SUMMARY:8 am SVDP Pantry
DESCRIPTION:
URL:https://stpaulbr.org/event/8-am-svdp-pantry-3/
END:VEVENT
BEGIN:VEVENT
DTSTART;TZID=America/Chicago:20220830T080000
DTEND;TZID=America/Chicago:20220902T000000
DTSTAMP:20260423T232243
CREATED:20220728T171445Z
LAST-MODIFIED:20220728T171445Z
UID:29665-1661846400-1662076800@stpaulbr.org
SUMMARY:8 am Mass
DESCRIPTION:
URL:https://stpaulbr.org/event/8-am-mass-146/
END:VEVENT
BEGIN:VEVENT
DTSTART;TZID=America/Chicago:20220828T073000
DTEND;TZID=America/Chicago:20220828T073000
DTSTAMP:20260423T232243
CREATED:20220728T170838Z
LAST-MODIFIED:20220728T171625Z
UID:29650-1661671800-1661671800@stpaulbr.org
SUMMARY:7:30 am Mass - Ladies Guild Turn Out
DESCRIPTION:
URL:https://stpaulbr.org/event/730-am-mass-78/
END:VEVENT
BEGIN:VEVENT
DTSTART;TZID=America/Chicago:20220824T180000
DTEND;TZID=America/Chicago:20220824T180000
DTSTAMP:20260423T232243
CREATED:20220728T175004Z
LAST-MODIFIED:20220728T175004Z
UID:29710-1661364000-1661364000@stpaulbr.org
SUMMARY:6 pm Pastoral Council Meeting
DESCRIPTION:
URL:https://stpaulbr.org/event/6-pm-pastoral-council-meeting/
END:VEVENT
BEGIN:VEVENT
DTSTART;TZID=America/Chicago:20220823T080000
DTEND;TZID=America/Chicago:20220826T000000
DTSTAMP:20260423T232243
CREATED:20220728T171402Z
LAST-MODIFIED:20220728T171402Z
UID:29663-1661241600-1661472000@stpaulbr.org
SUMMARY:8 am Mass
DESCRIPTION:
URL:https://stpaulbr.org/event/8-am-mass-145/
END:VEVENT
END:VCALENDAR